BEGIN:VCALENDAR
VERSION:2.0
PRODID:-//European Aviation Institute - ECPv6.15.18//NONSGML v1.0//EN
CALSCALE:GREGORIAN
METHOD:PUBLISH
X-WR-CALNAME:European Aviation Institute
X-ORIGINAL-URL:https://aviationinstitute.eu
X-WR-CALDESC:Events for European Aviation Institute
REFRESH-INTERVAL;VALUE=DURATION:PT1H
X-Robots-Tag:noindex
X-PUBLISHED-TTL:PT1H
BEGIN:VTIMEZONE
TZID:Europe/Helsinki
BEGIN:DAYLIGHT
TZOFFSETFROM:+0200
TZOFFSETTO:+0300
TZNAME:EEST
DTSTART:20190331T010000
END:DAYLIGHT
BEGIN:STANDARD
TZOFFSETFROM:+0300
TZOFFSETTO:+0200
TZNAME:EET
DTSTART:20191027T010000
END:STANDARD
BEGIN:DAYLIGHT
TZOFFSETFROM:+0200
TZOFFSETTO:+0300
TZNAME:EEST
DTSTART:20200329T010000
END:DAYLIGHT
BEGIN:STANDARD
TZOFFSETFROM:+0300
TZOFFSETTO:+0200
TZNAME:EET
DTSTART:20201025T010000
END:STANDARD
BEGIN:DAYLIGHT
TZOFFSETFROM:+0200
TZOFFSETTO:+0300
TZNAME:EEST
DTSTART:20210328T010000
END:DAYLIGHT
BEGIN:STANDARD
TZOFFSETFROM:+0300
TZOFFSETTO:+0200
TZNAME:EET
DTSTART:20211031T010000
END:STANDARD
BEGIN:DAYLIGHT
TZOFFSETFROM:+0200
TZOFFSETTO:+0300
TZNAME:EEST
DTSTART:20220327T010000
END:DAYLIGHT
BEGIN:STANDARD
TZOFFSETFROM:+0300
TZOFFSETTO:+0200
TZNAME:EET
DTSTART:20221030T010000
END:STANDARD
BEGIN:DAYLIGHT
TZOFFSETFROM:+0200
TZOFFSETTO:+0300
TZNAME:EEST
DTSTART:20230326T010000
END:DAYLIGHT
BEGIN:STANDARD
TZOFFSETFROM:+0300
TZOFFSETTO:+0200
TZNAME:EET
DTSTART:20231029T010000
END:STANDARD
BEGIN:DAYLIGHT
TZOFFSETFROM:+0200
TZOFFSETTO:+0300
TZNAME:EEST
DTSTART:20240331T010000
END:DAYLIGHT
BEGIN:STANDARD
TZOFFSETFROM:+0300
TZOFFSETTO:+0200
TZNAME:EET
DTSTART:20241027T010000
END:STANDARD
END:VTIMEZONE
BEGIN:VEVENT
DTSTART;TZID=Europe/Helsinki:20230131T160000
DTEND;TZID=Europe/Helsinki:20230131T173000
DTSTAMP:20260422T191610
CREATED:20230112T200922Z
LAST-MODIFIED:20230123T115436Z
UID:3539-1675180800-1675186200@aviationinstitute.eu
SUMMARY:M6 Examination - rescheduled for 01.02.2023
DESCRIPTION:M6 – Materials and hardware
URL:https://aviationinstitute.eu/calendar-evenimente/m6-examination-21/
LOCATION:Romanian Aeronautical Association – Bucharest\, Biharia 44\, Bucharest\, Romania
CATEGORIES:EASA Part 66 Modules EXAMINATIONS - BACAU,EASA Part 66 Modules EXAMINATIONS - BUCHAREST
END:VEVENT
BEGIN:VEVENT
DTSTART;TZID=Europe/Helsinki:20220306T102500
DTEND;TZID=Europe/Helsinki:20220306T104500
DTSTAMP:20260422T191610
CREATED:20220303T115910Z
LAST-MODIFIED:20220303T115910Z
UID:3391-1646562300-1646563500@aviationinstitute.eu
SUMMARY:M10 Essay Examination
DESCRIPTION:M10 – Aviation Legislation
URL:https://aviationinstitute.eu/calendar-evenimente/m10-essay-examination-16/
LOCATION:Aerostar – Bacau\, Str. Condorilor\, 9\, Bacau\, 600302\, Romania
CATEGORIES:EASA Part 66 Modules EXAMINATIONS - BACAU
END:VEVENT
BEGIN:VEVENT
DTSTART;TZID=Europe/Helsinki:20220306T093000
DTEND;TZID=Europe/Helsinki:20220306T102000
DTSTAMP:20260422T191610
CREATED:20220303T115826Z
LAST-MODIFIED:20220303T115826Z
UID:3389-1646559000-1646562000@aviationinstitute.eu
SUMMARY:M10 MCQ Examination
DESCRIPTION:M10 – Aviation Legislation
URL:https://aviationinstitute.eu/calendar-evenimente/m10-mcq-examination-13/
LOCATION:Aerostar – Bacau\, Str. Condorilor\, 9\, Bacau\, 600302\, Romania
CATEGORIES:EASA Part 66 Modules EXAMINATIONS - BACAU
END:VEVENT
BEGIN:VEVENT
DTSTART;TZID=Europe/Helsinki:20220306T090000
DTEND;TZID=Europe/Helsinki:20220306T092500
DTSTAMP:20260422T191610
CREATED:20220303T115744Z
LAST-MODIFIED:20220303T115744Z
UID:3387-1646557200-1646558700@aviationinstitute.eu
SUMMARY:M8 Examination
DESCRIPTION:M8 – Basic aerodynamics
URL:https://aviationinstitute.eu/calendar-evenimente/m8-examination-12/
LOCATION:Aerostar – Bacau\, Str. Condorilor\, 9\, Bacau\, 600302\, Romania
CATEGORIES:EASA Part 66 Modules EXAMINATIONS - BACAU
END:VEVENT
BEGIN:VEVENT
DTSTART;TZID=Europe/Helsinki:20220130T104000
DTEND;TZID=Europe/Helsinki:20220130T133500
DTSTAMP:20260422T191610
CREATED:20220119T090626Z
LAST-MODIFIED:20220119T090626Z
UID:3357-1643539200-1643549700@aviationinstitute.eu
SUMMARY:M11A Examination
DESCRIPTION:M11 – Aeroplane aerodynamics\, structures and systems
URL:https://aviationinstitute.eu/calendar-evenimente/m11a-examination-4/
LOCATION:Aerostar – Bacau\, Str. Condorilor\, 9\, Bacau\, 600302\, Romania
CATEGORIES:EASA Part 66 Modules EXAMINATIONS - BACAU
END:VEVENT
BEGIN:VEVENT
DTSTART;TZID=Europe/Helsinki:20220130T104000
DTEND;TZID=Europe/Helsinki:20220130T122000
DTSTAMP:20260422T191610
CREATED:20220119T090423Z
LAST-MODIFIED:20220119T090423Z
UID:3351-1643539200-1643545200@aviationinstitute.eu
SUMMARY:M7 MCQ Examination
DESCRIPTION:M7 – Maintenance practices
URL:https://aviationinstitute.eu/calendar-evenimente/m7-mcq-examination-14/
LOCATION:Aerostar – Bacau\, Str. Condorilor\, 9\, Bacau\, 600302\, Romania
CATEGORIES:EASA Part 66 Modules EXAMINATIONS - BACAU
END:VEVENT
BEGIN:VEVENT
DTSTART;TZID=Europe/Helsinki:20220130T094000
DTEND;TZID=Europe/Helsinki:20220130T103000
DTSTAMP:20260422T191610
CREATED:20220119T090336Z
LAST-MODIFIED:20220119T090336Z
UID:3349-1643535600-1643538600@aviationinstitute.eu
SUMMARY:M5 Examination
DESCRIPTION:M5 – Digital techniques/ Electronic instrument systems
URL:https://aviationinstitute.eu/calendar-evenimente/m5-examination-7/
LOCATION:Aerostar – Bacau\, Str. Condorilor\, 9\, Bacau\, 600302\, Romania
CATEGORIES:EASA Part 66 Modules EXAMINATIONS - BACAU
END:VEVENT
BEGIN:VEVENT
DTSTART;TZID=Europe/Helsinki:20220130T094000
DTEND;TZID=Europe/Helsinki:20220130T100000
DTSTAMP:20260422T191610
CREATED:20220119T090538Z
LAST-MODIFIED:20220119T090538Z
UID:3355-1643535600-1643536800@aviationinstitute.eu
SUMMARY:M7 Essay 2 Examination
DESCRIPTION:M7 – Maintenance practices
URL:https://aviationinstitute.eu/calendar-evenimente/m7-essay-2-examination-14/
LOCATION:Aerostar – Bacau\, Str. Condorilor\, 9\, Bacau\, 600302\, Romania
CATEGORIES:EASA Part 66 Modules EXAMINATIONS - BACAU
END:VEVENT
BEGIN:VEVENT
DTSTART;TZID=Europe/Helsinki:20220130T090000
DTEND;TZID=Europe/Helsinki:20220130T093000
DTSTAMP:20260422T191610
CREATED:20220119T090707Z
LAST-MODIFIED:20220119T090707Z
UID:3360-1643533200-1643535000@aviationinstitute.eu
SUMMARY:M14 Examination
DESCRIPTION:M14 – Propulsion
URL:https://aviationinstitute.eu/calendar-evenimente/m14-examination-9/
LOCATION:Aerostar – Bacau\, Str. Condorilor\, 9\, Bacau\, 600302\, Romania
CATEGORIES:EASA Part 66 Modules EXAMINATIONS - BACAU
END:VEVENT
BEGIN:VEVENT
DTSTART;TZID=Europe/Helsinki:20220130T090000
DTEND;TZID=Europe/Helsinki:20220130T092500
DTSTAMP:20260422T191610
CREATED:20220119T090224Z
LAST-MODIFIED:20220119T090224Z
UID:3347-1643533200-1643534700@aviationinstitute.eu
SUMMARY:M4 Examination
DESCRIPTION:M4 – Electronic fundamentals
URL:https://aviationinstitute.eu/calendar-evenimente/m4-examination-5/
LOCATION:Aerostar – Bacau\, Str. Condorilor\, 9\, Bacau\, 600302\, Romania
CATEGORIES:EASA Part 66 Modules EXAMINATIONS - BACAU
END:VEVENT
BEGIN:VEVENT
DTSTART;TZID=Europe/Helsinki:20220130T090000
DTEND;TZID=Europe/Helsinki:20220130T092000
DTSTAMP:20260422T191610
CREATED:20220119T090502Z
LAST-MODIFIED:20220119T090502Z
UID:3353-1643533200-1643534400@aviationinstitute.eu
SUMMARY:M7 Essay 1 Examination
DESCRIPTION:M7 – Maintenance practices
URL:https://aviationinstitute.eu/calendar-evenimente/m7-essay-1-examination-16/
LOCATION:Aerostar – Bacau\, Str. Condorilor\, 9\, Bacau\, 600302\, Romania
CATEGORIES:EASA Part 66 Modules EXAMINATIONS - BACAU
END:VEVENT
BEGIN:VEVENT
DTSTART;TZID=Europe/Helsinki:20211212T100000
DTEND;TZID=Europe/Helsinki:20211212T125500
DTSTAMP:20260422T191610
CREATED:20211207T091954Z
LAST-MODIFIED:20211207T091954Z
UID:3332-1639303200-1639313700@aviationinstitute.eu
SUMMARY:M11 Examination
DESCRIPTION:M11 – Aeroplane aerodynamics\, structures and systems
URL:https://aviationinstitute.eu/calendar-evenimente/m11-examination-13/
LOCATION:Aerostar – Bacau\, Str. Condorilor\, 9\, Bacau\, 600302\, Romania
CATEGORIES:EASA Part 66 Modules EXAMINATIONS - BACAU
END:VEVENT
BEGIN:VEVENT
DTSTART;TZID=Europe/Helsinki:20211212T100000
DTEND;TZID=Europe/Helsinki:20211212T114000
DTSTAMP:20260422T191610
CREATED:20211207T091747Z
LAST-MODIFIED:20211207T091747Z
UID:3326-1639303200-1639309200@aviationinstitute.eu
SUMMARY:M7 MCQ Examination
DESCRIPTION:M7 – Maintenance practices
URL:https://aviationinstitute.eu/calendar-evenimente/m7-mcq-examination-13/
LOCATION:Aerostar – Bacau\, Str. Condorilor\, 9\, Bacau\, 600302\, Romania
CATEGORIES:EASA Part 66 Modules EXAMINATIONS - BACAU
END:VEVENT
BEGIN:VEVENT
DTSTART;TZID=Europe/Helsinki:20211212T100000
DTEND;TZID=Europe/Helsinki:20211212T113000
DTSTAMP:20260422T191610
CREATED:20211207T091647Z
LAST-MODIFIED:20211207T091647Z
UID:3324-1639303200-1639308600@aviationinstitute.eu
SUMMARY:M6 Examination
DESCRIPTION:M6 – Materials and hardware
URL:https://aviationinstitute.eu/calendar-evenimente/m6-examination-19/
LOCATION:Aerostar – Bacau\, Str. Condorilor\, 9\, Bacau\, 600302\, Romania
CATEGORIES:EASA Part 66 Modules EXAMINATIONS - BACAU
END:VEVENT
BEGIN:VEVENT
DTSTART;TZID=Europe/Helsinki:20211212T093500
DTEND;TZID=Europe/Helsinki:20211212T095500
DTSTAMP:20260422T191610
CREATED:20211207T092120Z
LAST-MODIFIED:20211207T092120Z
UID:3336-1639301700-1639302900@aviationinstitute.eu
SUMMARY:M9A Essay Examination
DESCRIPTION:M9 – Human Factors
URL:https://aviationinstitute.eu/calendar-evenimente/m9a-essay-examination-4/
LOCATION:Aerostar – Bacau\, Str. Condorilor\, 9\, Bacau\, 600302\, Romania
CATEGORIES:EASA Part 66 Modules EXAMINATIONS - BACAU
END:VEVENT
BEGIN:VEVENT
DTSTART;TZID=Europe/Helsinki:20211212T093500
DTEND;TZID=Europe/Helsinki:20211212T095500
DTSTAMP:20260422T191610
CREATED:20211207T091905Z
LAST-MODIFIED:20211207T091905Z
UID:3330-1639301700-1639302900@aviationinstitute.eu
SUMMARY:M7 Essay 2 Examination
DESCRIPTION:M7 – Maintenance practices
URL:https://aviationinstitute.eu/calendar-evenimente/m7-essay-2-examination-13/
LOCATION:Aerostar – Bacau\, Str. Condorilor\, 9\, Bacau\, 600302\, Romania
CATEGORIES:EASA Part 66 Modules EXAMINATIONS - BACAU
END:VEVENT
BEGIN:VEVENT
DTSTART;TZID=Europe/Helsinki:20211212T090000
DTEND;TZID=Europe/Helsinki:20211212T092500
DTSTAMP:20260422T191610
CREATED:20211207T092041Z
LAST-MODIFIED:20211207T092041Z
UID:3334-1639299600-1639301100@aviationinstitute.eu
SUMMARY:M9A MCQ Examination
DESCRIPTION:M9 – Human Factors
URL:https://aviationinstitute.eu/calendar-evenimente/m9a-mcq-examination-4/
LOCATION:Aerostar – Bacau\, Str. Condorilor\, 9\, Bacau\, 600302\, Romania
CATEGORIES:EASA Part 66 Modules EXAMINATIONS - BACAU
END:VEVENT
BEGIN:VEVENT
DTSTART;TZID=Europe/Helsinki:20211212T090000
DTEND;TZID=Europe/Helsinki:20211212T092000
DTSTAMP:20260422T191610
CREATED:20211207T091825Z
LAST-MODIFIED:20211207T091825Z
UID:3328-1639299600-1639300800@aviationinstitute.eu
SUMMARY:M7 Essay 1 Examination
DESCRIPTION:M7 – Maintenance practices
URL:https://aviationinstitute.eu/calendar-evenimente/m7-essay-1-examination-15/
LOCATION:Aerostar – Bacau\, Str. Condorilor\, 9\, Bacau\, 600302\, Romania
CATEGORIES:EASA Part 66 Modules EXAMINATIONS - BACAU
END:VEVENT
BEGIN:VEVENT
DTSTART;TZID=Europe/Helsinki:20211030T105000
DTEND;TZID=Europe/Helsinki:20211030T111000
DTSTAMP:20260422T191610
CREATED:20211015T075529Z
LAST-MODIFIED:20211015T075529Z
UID:3133-1635591000-1635592200@aviationinstitute.eu
SUMMARY:M7 Essay 1 Examination
DESCRIPTION:M7 – Maintenance practices
URL:https://aviationinstitute.eu/calendar-evenimente/m7-essay-1-examination-11/
LOCATION:Aerostar – Bacau\, Str. Condorilor\, 9\, Bacau\, 600302\, Romania
CATEGORIES:EASA Part 66 Modules EXAMINATIONS - BACAU
END:VEVENT
BEGIN:VEVENT
DTSTART;TZID=Europe/Helsinki:20211030T090000
DTEND;TZID=Europe/Helsinki:20211030T094000
DTSTAMP:20260422T191610
CREATED:20211015T075658Z
LAST-MODIFIED:20211015T075658Z
UID:3137-1635584400-1635586800@aviationinstitute.eu
SUMMARY:M17 Examination
DESCRIPTION:M17 – Propeller
URL:https://aviationinstitute.eu/calendar-evenimente/m17-examination-11/
LOCATION:Aerostar – Bacau\, Str. Condorilor\, 9\, Bacau\, 600302\, Romania
CATEGORIES:EASA Part 66 Modules EXAMINATIONS - BACAU
END:VEVENT
BEGIN:VEVENT
DTSTART;TZID=Europe/Helsinki:20210307T120000
DTEND;TZID=Europe/Helsinki:20210307T122500
DTSTAMP:20260422T191610
CREATED:20210303T100712Z
LAST-MODIFIED:20210303T100712Z
UID:2616-1615118400-1615119900@aviationinstitute.eu
SUMMARY:M8 Examination
DESCRIPTION:M8 – Basic aerodynamics
URL:https://aviationinstitute.eu/calendar-evenimente/m8-examination-7/
LOCATION:Aerostar – Bacau\, Str. Condorilor\, 9\, Bacau\, 600302\, Romania
CATEGORIES:EASA Part 66 Modules EXAMINATIONS - BACAU
END:VEVENT
BEGIN:VEVENT
DTSTART;TZID=Europe/Helsinki:20210307T090000
DTEND;TZID=Europe/Helsinki:20210307T115500
DTSTAMP:20260422T191610
CREATED:20210303T100801Z
LAST-MODIFIED:20210303T100801Z
UID:2618-1615107600-1615118100@aviationinstitute.eu
SUMMARY:M11 Examination
DESCRIPTION:M11 – Aeroplane aerodynamics\, structures and systems
URL:https://aviationinstitute.eu/calendar-evenimente/m11-examination-11/
LOCATION:Aerostar – Bacau\, Str. Condorilor\, 9\, Bacau\, 600302\, Romania
CATEGORIES:EASA Part 66 Modules EXAMINATIONS - BACAU
END:VEVENT
BEGIN:VEVENT
DTSTART;TZID=Europe/Helsinki:20210307T090000
DTEND;TZID=Europe/Helsinki:20210307T103000
DTSTAMP:20260422T191610
CREATED:20210303T100607Z
LAST-MODIFIED:20210303T100607Z
UID:2614-1615107600-1615113000@aviationinstitute.eu
SUMMARY:M6 Examination
DESCRIPTION:M6 – Materials and hardware
URL:https://aviationinstitute.eu/calendar-evenimente/m6-examination-14/
LOCATION:Aerostar – Bacau\, Str. Condorilor\, 9\, Bacau\, 600302\, Romania
CATEGORIES:EASA Part 66 Modules EXAMINATIONS - BACAU
END:VEVENT
BEGIN:VEVENT
DTSTART;TZID=Europe/Helsinki:20210307T090000
DTEND;TZID=Europe/Helsinki:20210307T093000
DTSTAMP:20260422T191610
CREATED:20210303T100843Z
LAST-MODIFIED:20210303T100843Z
UID:2620-1615107600-1615109400@aviationinstitute.eu
SUMMARY:M14 Examination
DESCRIPTION:M14 – Propulsion
URL:https://aviationinstitute.eu/calendar-evenimente/m14-examination-5/
LOCATION:Aerostar – Bacau\, Str. Condorilor\, 9\, Bacau\, 600302\, Romania
CATEGORIES:EASA Part 66 Modules EXAMINATIONS - BACAU
END:VEVENT
BEGIN:VEVENT
DTSTART;TZID=Europe/Helsinki:20201127T104000
DTEND;TZID=Europe/Helsinki:20201127T110000
DTSTAMP:20260422T191610
CREATED:20201119T083010Z
LAST-MODIFIED:20201119T083010Z
UID:2454-1606473600-1606474800@aviationinstitute.eu
SUMMARY:M10 Essay Examination
DESCRIPTION:M10 – Legislation
URL:https://aviationinstitute.eu/calendar-evenimente/m10-essay-examination-11/
LOCATION:Aerostar – Bacau\, Str. Condorilor\, 9\, Bacau\, 600302\, Romania
CATEGORIES:EASA Part 66 Modules EXAMINATIONS - BACAU
END:VEVENT
BEGIN:VEVENT
DTSTART;TZID=Europe/Helsinki:20201127T104000
DTEND;TZID=Europe/Helsinki:20201127T110000
DTSTAMP:20260422T191610
CREATED:20201117T115241Z
LAST-MODIFIED:20201119T083303Z
UID:2445-1606473600-1606474800@aviationinstitute.eu
SUMMARY:M9 Essay Examination
DESCRIPTION:M9 – Human Factors
URL:https://aviationinstitute.eu/calendar-evenimente/m9-mcq-examination-4/
LOCATION:Aerostar – Bacau\, Str. Condorilor\, 9\, Bacau\, 600302\, Romania
CATEGORIES:EASA Part 66 Modules EXAMINATIONS - BACAU
END:VEVENT
BEGIN:VEVENT
DTSTART;TZID=Europe/Helsinki:20201127T090000
DTEND;TZID=Europe/Helsinki:20201127T103000
DTSTAMP:20260422T191610
CREATED:20201117T112957Z
LAST-MODIFIED:20201119T082345Z
UID:2441-1606467600-1606473000@aviationinstitute.eu
SUMMARY:M6 Examination
DESCRIPTION:M6 – Materials and hardware
URL:https://aviationinstitute.eu/calendar-evenimente/m6-examination-12/
LOCATION:Aerostar – Bacau\, Str. Condorilor\, 9\, Bacau\, 600302\, Romania
CATEGORIES:EASA Part 66 Modules EXAMINATIONS - BACAU
END:VEVENT
BEGIN:VEVENT
DTSTART;TZID=Europe/Helsinki:20201127T090000
DTEND;TZID=Europe/Helsinki:20201127T095000
DTSTAMP:20260422T191610
CREATED:20201117T115327Z
LAST-MODIFIED:20201119T082501Z
UID:2447-1606467600-1606470600@aviationinstitute.eu
SUMMARY:M10 MCQ Examination
DESCRIPTION:M10 – Legislation
URL:https://aviationinstitute.eu/calendar-evenimente/m10-mcq-examination-7/
LOCATION:Aerostar – Bacau\, Str. Condorilor\, 9\, Bacau\, 600302\, Romania
CATEGORIES:EASA Part 66 Modules EXAMINATIONS - BACAU
END:VEVENT
BEGIN:VEVENT
DTSTART;TZID=Europe/Helsinki:20201127T090000
DTEND;TZID=Europe/Helsinki:20201127T092500
DTSTAMP:20260422T191610
CREATED:20201119T083137Z
LAST-MODIFIED:20201119T083231Z
UID:2456-1606467600-1606469100@aviationinstitute.eu
SUMMARY:M9 MCQ Examination
DESCRIPTION:M9 – Human Factors
URL:https://aviationinstitute.eu/calendar-evenimente/m9-mcq-examination-5/
LOCATION:Aerostar – Bacau\, Str. Condorilor\, 9\, Bacau\, 600302\, Romania
CATEGORIES:EASA Part 66 Modules EXAMINATIONS - BACAU
END:VEVENT
BEGIN:VEVENT
DTSTART;TZID=Europe/Helsinki:20201120T104000
DTEND;TZID=Europe/Helsinki:20201120T110000
DTSTAMP:20260422T191610
CREATED:20201127T115143Z
LAST-MODIFIED:20201119T082252Z
UID:2443-1605868800-1605870000@aviationinstitute.eu
SUMMARY:M9 Essay Examination
DESCRIPTION:M9 – Human Factors
URL:https://aviationinstitute.eu/calendar-evenimente/m9-essay-examination-5/
LOCATION:Aerostar – Bacau\, Str. Condorilor\, 9\, Bacau\, 600302\, Romania
CATEGORIES:EASA Part 66 Modules EXAMINATIONS - BACAU
END:VEVENT
END:VCALENDAR