BEGIN:VCALENDAR
VERSION:2.0
PRODID:-//European Aviation Institute - ECPv6.15.18//NONSGML v1.0//EN
CALSCALE:GREGORIAN
METHOD:PUBLISH
X-ORIGINAL-URL:https://aviationinstitute.eu
X-WR-CALDESC:Events for European Aviation Institute
REFRESH-INTERVAL;VALUE=DURATION:PT1H
X-Robots-Tag:noindex
X-PUBLISHED-TTL:PT1H
BEGIN:VTIMEZONE
TZID:Europe/Helsinki
BEGIN:DAYLIGHT
TZOFFSETFROM:+0200
TZOFFSETTO:+0300
TZNAME:EEST
DTSTART:20210328T010000
END:DAYLIGHT
BEGIN:STANDARD
TZOFFSETFROM:+0300
TZOFFSETTO:+0200
TZNAME:EET
DTSTART:20211031T010000
END:STANDARD
BEGIN:DAYLIGHT
TZOFFSETFROM:+0200
TZOFFSETTO:+0300
TZNAME:EEST
DTSTART:20220327T010000
END:DAYLIGHT
BEGIN:STANDARD
TZOFFSETFROM:+0300
TZOFFSETTO:+0200
TZNAME:EET
DTSTART:20221030T010000
END:STANDARD
BEGIN:DAYLIGHT
TZOFFSETFROM:+0200
TZOFFSETTO:+0300
TZNAME:EEST
DTSTART:20230326T010000
END:DAYLIGHT
BEGIN:STANDARD
TZOFFSETFROM:+0300
TZOFFSETTO:+0200
TZNAME:EET
DTSTART:20231029T010000
END:STANDARD
END:VTIMEZONE
BEGIN:VEVENT
DTSTART;TZID=Europe/Helsinki:20220705T160000
DTEND;TZID=Europe/Helsinki:20220705T163000
DTSTAMP:20260425T143407
CREATED:20211108T093746Z
LAST-MODIFIED:20220303T114957Z
UID:3181-1657036800-1657038600@aviationinstitute.eu
SUMMARY:M14 Examination
DESCRIPTION:M14 – Propulsion
URL:https://aviationinstitute.eu/calendar-evenimente/m14-examination-8/
LOCATION:Romanian Aeronautical Association – Bucharest\, Biharia 44\, Bucharest\, Romania
CATEGORIES:EASA Part 66 Modules EXAMINATIONS - BUCHAREST
END:VEVENT
BEGIN:VEVENT
DTSTART;TZID=Europe/Helsinki:20220705T160000
DTEND;TZID=Europe/Helsinki:20220705T164000
DTSTAMP:20260425T143407
CREATED:20211108T092647Z
LAST-MODIFIED:20220303T114335Z
UID:3163-1657036800-1657039200@aviationinstitute.eu
SUMMARY:M17 Examination
DESCRIPTION:M17 – Propeller
URL:https://aviationinstitute.eu/calendar-evenimente/m17-examination-12/
LOCATION:Romanian Aeronautical Association – Bucharest\, Biharia 44\, Bucharest\, Romania
CATEGORIES:EASA Part 66 Modules EXAMINATIONS - BUCHAREST
END:VEVENT
BEGIN:VEVENT
DTSTART;TZID=Europe/Helsinki:20220705T165000
DTEND;TZID=Europe/Helsinki:20220705T171500
DTSTAMP:20260425T143407
CREATED:20211108T094213Z
LAST-MODIFIED:20220303T114834Z
UID:3189-1657039800-1657041300@aviationinstitute.eu
SUMMARY:M8 Examination
DESCRIPTION:M8 – Basic aerodynamics
URL:https://aviationinstitute.eu/calendar-evenimente/m8-examination-9/
LOCATION:Romanian Aeronautical Association – Bucharest\, Biharia 44\, Bucharest\, Romania
CATEGORIES:EASA Part 66 Modules EXAMINATIONS - BUCHAREST
END:VEVENT
BEGIN:VEVENT
DTSTART;TZID=Europe/Helsinki:20220719T160000
DTEND;TZID=Europe/Helsinki:20220719T185500
DTSTAMP:20260425T143407
CREATED:20220303T115143Z
LAST-MODIFIED:20220303T115143Z
UID:3373-1658246400-1658256900@aviationinstitute.eu
SUMMARY:M11A Examination
DESCRIPTION:M11 – Aeroplane aerodynamics\, structures and systems
URL:https://aviationinstitute.eu/calendar-evenimente/m11a-examination-5/
LOCATION:Romanian Aeronautical Association – Bucharest\, Biharia 44\, Bucharest\, Romania
CATEGORIES:EASA Part 66 Modules EXAMINATIONS - BUCHAREST
END:VEVENT
BEGIN:VEVENT
DTSTART;TZID=Europe/Helsinki:20220719T160000
DTEND;TZID=Europe/Helsinki:20220719T194500
DTSTAMP:20260425T143407
CREATED:20220303T115249Z
LAST-MODIFIED:20220303T115249Z
UID:3375-1658246400-1658259900@aviationinstitute.eu
SUMMARY:M13 Examination
DESCRIPTION:M13 – Aircraft aerodynamics\, structures and systems
URL:https://aviationinstitute.eu/calendar-evenimente/m13-examination-7/
LOCATION:Romanian Aeronautical Association – Bucharest\, Biharia 44\, Bucharest\, Romania
CATEGORIES:EASA Part 66 Modules EXAMINATIONS - BUCHAREST
END:VEVENT
END:VCALENDAR