BEGIN:VCALENDAR
VERSION:2.0
PRODID:-//European Aviation Institute - ECPv6.15.18//NONSGML v1.0//EN
CALSCALE:GREGORIAN
METHOD:PUBLISH
X-WR-CALNAME:European Aviation Institute
X-ORIGINAL-URL:https://aviationinstitute.eu
X-WR-CALDESC:Events for European Aviation Institute
REFRESH-INTERVAL;VALUE=DURATION:PT1H
X-Robots-Tag:noindex
X-PUBLISHED-TTL:PT1H
BEGIN:VTIMEZONE
TZID:Europe/Helsinki
BEGIN:DAYLIGHT
TZOFFSETFROM:+0200
TZOFFSETTO:+0300
TZNAME:EEST
DTSTART:20230326T010000
END:DAYLIGHT
BEGIN:STANDARD
TZOFFSETFROM:+0300
TZOFFSETTO:+0200
TZNAME:EET
DTSTART:20231029T010000
END:STANDARD
BEGIN:DAYLIGHT
TZOFFSETFROM:+0200
TZOFFSETTO:+0300
TZNAME:EEST
DTSTART:20240331T010000
END:DAYLIGHT
BEGIN:STANDARD
TZOFFSETFROM:+0300
TZOFFSETTO:+0200
TZNAME:EET
DTSTART:20241027T010000
END:STANDARD
BEGIN:DAYLIGHT
TZOFFSETFROM:+0200
TZOFFSETTO:+0300
TZNAME:EEST
DTSTART:20250330T010000
END:DAYLIGHT
BEGIN:STANDARD
TZOFFSETFROM:+0300
TZOFFSETTO:+0200
TZNAME:EET
DTSTART:20251026T010000
END:STANDARD
END:VTIMEZONE
BEGIN:VEVENT
DTSTART;TZID=Europe/Helsinki:20240412T160000
DTEND;TZID=Europe/Helsinki:20240412T162500
DTSTAMP:20260424T032715
CREATED:20240106T135754Z
LAST-MODIFIED:20240320T081732Z
UID:3834-1712937600-1712939100@aviationinstitute.eu
SUMMARY:M9A MCQ Examination – *All modules in 1 week
DESCRIPTION:M9 – Human Factors \n*All modules in 1 Week” examination session is mainly tailored for foreign students. In order to organize it as scheduled\, a group of minimum 6 candidates is required.
URL:https://aviationinstitute.eu/calendar-evenimente/m9a-mcq-examination-only-english-4/
LOCATION:Romanian Aeronautical Association – Bucharest\, Biharia 44\, Bucharest\, Romania
CATEGORIES:EASA Part 66 Modules EXAMINATIONS - BUCHAREST
END:VEVENT
BEGIN:VEVENT
DTSTART;TZID=Europe/Helsinki:20240412T164000
DTEND;TZID=Europe/Helsinki:20240412T170000
DTSTAMP:20260424T032715
CREATED:20240106T135911Z
LAST-MODIFIED:20240320T081703Z
UID:3836-1712940000-1712941200@aviationinstitute.eu
SUMMARY:M9A Essay 1 Examination – *All modules in 1 week
DESCRIPTION:M9 – Human Factors \n*All modules in 1 Week” examination session is mainly tailored for foreign students. In order to organize it as scheduled\, a group of minimum 6 candidates is required.
URL:https://aviationinstitute.eu/calendar-evenimente/m9a-essay-1-examination-only-english-3/
LOCATION:Romanian Aeronautical Association – Bucharest\, Biharia 44\, Bucharest\, Romania
CATEGORIES:EASA Part 66 Modules EXAMINATIONS - BUCHAREST
END:VEVENT
BEGIN:VEVENT
DTSTART;TZID=Europe/Helsinki:20240412T171000
DTEND;TZID=Europe/Helsinki:20240412T180000
DTSTAMP:20260424T032715
CREATED:20240106T140023Z
LAST-MODIFIED:20240320T081821Z
UID:3838-1712941800-1712944800@aviationinstitute.eu
SUMMARY:M10 MCQ Examination – *All modules in 1 week
DESCRIPTION:M10 – Aviation Legislation \n*All modules in 1 Week” examination session is mainly tailored for foreign students. In order to organize it as scheduled\, a group of minimum 6 candidates is required.
URL:https://aviationinstitute.eu/calendar-evenimente/m10-mcq-examination-only-english-7/
LOCATION:Romanian Aeronautical Association – Bucharest\, Biharia 44\, Bucharest\, Romania
CATEGORIES:EASA Part 66 Modules EXAMINATIONS - BUCHAREST
END:VEVENT
BEGIN:VEVENT
DTSTART;TZID=Europe/Helsinki:20240412T181000
DTEND;TZID=Europe/Helsinki:20240412T183000
DTSTAMP:20260424T032715
CREATED:20240106T140116Z
LAST-MODIFIED:20240320T081759Z
UID:3840-1712945400-1712946600@aviationinstitute.eu
SUMMARY:M10 Essay 1 Examination – *All modules in 1 week
DESCRIPTION:M10 – Aviation Legislation \n*All modules in 1 Week” examination session is mainly tailored for foreign students. In order to organize it as scheduled\, a group of minimum 6 candidates is required.
URL:https://aviationinstitute.eu/calendar-evenimente/m10-essay-1-examination-only-english-3/
LOCATION:Romanian Aeronautical Association – Bucharest\, Biharia 44\, Bucharest\, Romania
CATEGORIES:EASA Part 66 Modules EXAMINATIONS - BUCHAREST
END:VEVENT
END:VCALENDAR