BEGIN:VCALENDAR
VERSION:2.0
PRODID:-//European Aviation Institute - ECPv6.15.18//NONSGML v1.0//EN
CALSCALE:GREGORIAN
METHOD:PUBLISH
X-WR-CALNAME:European Aviation Institute
X-ORIGINAL-URL:https://aviationinstitute.eu
X-WR-CALDESC:Events for European Aviation Institute
REFRESH-INTERVAL;VALUE=DURATION:PT1H
X-Robots-Tag:noindex
X-PUBLISHED-TTL:PT1H
BEGIN:VTIMEZONE
TZID:Europe/Helsinki
BEGIN:DAYLIGHT
TZOFFSETFROM:+0200
TZOFFSETTO:+0300
TZNAME:EEST
DTSTART:20230326T010000
END:DAYLIGHT
BEGIN:STANDARD
TZOFFSETFROM:+0300
TZOFFSETTO:+0200
TZNAME:EET
DTSTART:20231029T010000
END:STANDARD
BEGIN:DAYLIGHT
TZOFFSETFROM:+0200
TZOFFSETTO:+0300
TZNAME:EEST
DTSTART:20240331T010000
END:DAYLIGHT
BEGIN:STANDARD
TZOFFSETFROM:+0300
TZOFFSETTO:+0200
TZNAME:EET
DTSTART:20241027T010000
END:STANDARD
BEGIN:DAYLIGHT
TZOFFSETFROM:+0200
TZOFFSETTO:+0300
TZNAME:EEST
DTSTART:20250330T010000
END:DAYLIGHT
BEGIN:STANDARD
TZOFFSETFROM:+0300
TZOFFSETTO:+0200
TZNAME:EET
DTSTART:20251026T010000
END:STANDARD
END:VTIMEZONE
BEGIN:VEVENT
DTSTART;TZID=Europe/Helsinki:20240916T160000
DTEND;TZID=Europe/Helsinki:20240916T163500
DTSTAMP:20260423T205245
CREATED:20240108T125919Z
LAST-MODIFIED:20250113T103435Z
UID:3890-1726502400-1726504500@aviationinstitute.eu
SUMMARY:M9 Examination – *All modules in 1 week
DESCRIPTION:M9 – Human Factors \n*All modules in 1 Week” examination session is mainly tailored for foreign students. In order to organize it as scheduled\, a group of minimum 6 candidates is required.
URL:https://aviationinstitute.eu/calendar-evenimente/m9a-mcq-examination-only-english-5/
LOCATION:Romanian Aeronautical Association – Bucharest\, Biharia 44\, Bucharest\, Romania
CATEGORIES:EASA Part 66 Modules EXAMINATIONS - BUCHAREST
END:VEVENT
BEGIN:VEVENT
DTSTART;TZID=Europe/Helsinki:20240916T164500
DTEND;TZID=Europe/Helsinki:20240916T174000
DTSTAMP:20260423T205245
CREATED:20240108T130145Z
LAST-MODIFIED:20240710T210559Z
UID:3894-1726505100-1726508400@aviationinstitute.eu
SUMMARY:M10 Examination – *All modules in 1 Week
DESCRIPTION:M10 – Aviation Legislation \n\n*All modules in 1 Week examination session is mainly tailored for foreign students. In order to organize it as scheduled\, a group of minimum 6 candidates is required.
URL:https://aviationinstitute.eu/calendar-evenimente/m10-mcq-examination-only-english-8/
LOCATION:Romanian Aeronautical Association – Bucharest\, Biharia 44\, Bucharest\, Romania
CATEGORIES:EASA Part 66 Modules EXAMINATIONS - BUCHAREST
END:VEVENT
END:VCALENDAR