BEGIN:VCALENDAR
VERSION:2.0
PRODID:-//European Aviation Institute - ECPv6.15.18//NONSGML v1.0//EN
CALSCALE:GREGORIAN
METHOD:PUBLISH
X-ORIGINAL-URL:https://aviationinstitute.eu
X-WR-CALDESC:Events for European Aviation Institute
REFRESH-INTERVAL;VALUE=DURATION:PT1H
X-Robots-Tag:noindex
X-PUBLISHED-TTL:PT1H
BEGIN:VTIMEZONE
TZID:Europe/Helsinki
BEGIN:DAYLIGHT
TZOFFSETFROM:+0200
TZOFFSETTO:+0300
TZNAME:EEST
DTSTART:20240331T010000
END:DAYLIGHT
BEGIN:STANDARD
TZOFFSETFROM:+0300
TZOFFSETTO:+0200
TZNAME:EET
DTSTART:20241027T010000
END:STANDARD
BEGIN:DAYLIGHT
TZOFFSETFROM:+0200
TZOFFSETTO:+0300
TZNAME:EEST
DTSTART:20250330T010000
END:DAYLIGHT
BEGIN:STANDARD
TZOFFSETFROM:+0300
TZOFFSETTO:+0200
TZNAME:EET
DTSTART:20251026T010000
END:STANDARD
BEGIN:DAYLIGHT
TZOFFSETFROM:+0200
TZOFFSETTO:+0300
TZNAME:EEST
DTSTART:20260329T010000
END:DAYLIGHT
BEGIN:STANDARD
TZOFFSETFROM:+0300
TZOFFSETTO:+0200
TZNAME:EET
DTSTART:20261025T010000
END:STANDARD
END:VTIMEZONE
BEGIN:VEVENT
DTSTART;TZID=Europe/Helsinki:20250327T160000
DTEND;TZID=Europe/Helsinki:20250327T185500
DTSTAMP:20260423T124546
CREATED:20250108T085615Z
LAST-MODIFIED:20250113T104119Z
UID:6525-1743091200-1743101700@aviationinstitute.eu
SUMMARY:M11 Examination - *All modules in 1 Week
DESCRIPTION:M11 – Aeroplane aerodynamics\, structures and systems \n*All modules in 1 Week examination session is mainly tailored for foreign students. In order to organize it as scheduled\, a group of minimum 6 candidates is required.
URL:https://aviationinstitute.eu/calendar-evenimente/m11a-examination-all-modules-in-1-week/
LOCATION:Romanian Aeronautical Association – Bucharest\, Biharia 44\, Bucharest\, Romania
CATEGORIES:EASA Part 66 Modules EXAMINATIONS - BUCHAREST
END:VEVENT
BEGIN:VEVENT
DTSTART;TZID=Europe/Helsinki:20250327T160000
DTEND;TZID=Europe/Helsinki:20250327T195500
DTSTAMP:20260423T124546
CREATED:20250108T085731Z
LAST-MODIFIED:20250108T085731Z
UID:6527-1743091200-1743105300@aviationinstitute.eu
SUMMARY:M13 Examination - *All modules in 1 Week
DESCRIPTION:M13 – Aircraft aerodynamics\, structures and systems \n*All modules in 1 Week examination session is mainly tailored for foreign students. In order to organize it as scheduled\, a group of minimum 6 candidates is required.
URL:https://aviationinstitute.eu/calendar-evenimente/m13-examination-all-modules-in-1-week/
LOCATION:Romanian Aeronautical Association – Bucharest\, Biharia 44\, Bucharest\, Romania
CATEGORIES:EASA Part 66 Modules EXAMINATIONS - BUCHAREST
END:VEVENT
END:VCALENDAR