BEGIN:VCALENDAR
VERSION:2.0
PRODID:-//European Aviation Institute - ECPv6.15.20//NONSGML v1.0//EN
CALSCALE:GREGORIAN
METHOD:PUBLISH
X-ORIGINAL-URL:https://aviationinstitute.eu
X-WR-CALDESC:Events for European Aviation Institute
REFRESH-INTERVAL;VALUE=DURATION:PT1H
X-Robots-Tag:noindex
X-PUBLISHED-TTL:PT1H
BEGIN:VTIMEZONE
TZID:Europe/Helsinki
BEGIN:DAYLIGHT
TZOFFSETFROM:+0200
TZOFFSETTO:+0300
TZNAME:EEST
DTSTART:20210328T010000
END:DAYLIGHT
BEGIN:STANDARD
TZOFFSETFROM:+0300
TZOFFSETTO:+0200
TZNAME:EET
DTSTART:20211031T010000
END:STANDARD
BEGIN:DAYLIGHT
TZOFFSETFROM:+0200
TZOFFSETTO:+0300
TZNAME:EEST
DTSTART:20220327T010000
END:DAYLIGHT
BEGIN:STANDARD
TZOFFSETFROM:+0300
TZOFFSETTO:+0200
TZNAME:EET
DTSTART:20221030T010000
END:STANDARD
BEGIN:DAYLIGHT
TZOFFSETFROM:+0200
TZOFFSETTO:+0300
TZNAME:EEST
DTSTART:20230326T010000
END:DAYLIGHT
BEGIN:STANDARD
TZOFFSETFROM:+0300
TZOFFSETTO:+0200
TZNAME:EET
DTSTART:20231029T010000
END:STANDARD
BEGIN:DAYLIGHT
TZOFFSETFROM:+0200
TZOFFSETTO:+0300
TZNAME:EEST
DTSTART:20240331T010000
END:DAYLIGHT
BEGIN:STANDARD
TZOFFSETFROM:+0300
TZOFFSETTO:+0200
TZNAME:EET
DTSTART:20241027T010000
END:STANDARD
END:VTIMEZONE
BEGIN:VEVENT
DTSTART;VALUE=DATE:20221027
DTEND;VALUE=DATE:20221028
DTSTAMP:20260425T184454
CREATED:20220405T122851Z
LAST-MODIFIED:20221026T185819Z
UID:3443-1666828800-1666915199@aviationinstitute.eu
SUMMARY:M14 Examination
DESCRIPTION:M14 – Propulsion
URL:https://aviationinstitute.eu/calendar-evenimente/m14-examination-10/
LOCATION:Romanian Aeronautical Association – Bucharest\, Biharia 44\, Bucharest\, Romania
CATEGORIES:EASA Part 66 Modules EXAMINATIONS - BUCHAREST
END:VEVENT
BEGIN:VEVENT
DTSTART;VALUE=DATE:20221031
DTEND;VALUE=DATE:20221101
DTSTAMP:20260425T184454
CREATED:20220405T121737Z
LAST-MODIFIED:20221026T184829Z
UID:3429-1667174400-1667260799@aviationinstitute.eu
SUMMARY:M9 Examination
DESCRIPTION:M9 – Human Factors (MCQ + Essay)
URL:https://aviationinstitute.eu/calendar-evenimente/m9-examination-4/
LOCATION:Romanian Aeronautical Association – Bucharest\, Biharia 44\, Bucharest\, Romania
CATEGORIES:EASA Part 66 Modules EXAMINATIONS - BUCHAREST
END:VEVENT
BEGIN:VEVENT
DTSTART;VALUE=DATE:20221031
DTEND;VALUE=DATE:20221101
DTSTAMP:20260425T184454
CREATED:20220405T121837Z
LAST-MODIFIED:20221026T184804Z
UID:3431-1667174400-1667260799@aviationinstitute.eu
SUMMARY:M10 Examination
DESCRIPTION:M10 – Legislation (MCQ + Essay)
URL:https://aviationinstitute.eu/calendar-evenimente/m10-examination-3/
LOCATION:Romanian Aeronautical Association – Bucharest\, Biharia 44\, Bucharest\, Romania
CATEGORIES:EASA Part 66 Modules EXAMINATIONS - BUCHAREST
END:VEVENT
BEGIN:VEVENT
DTSTART;VALUE=DATE:20221101
DTEND;VALUE=DATE:20221102
DTSTAMP:20260425T184454
CREATED:20220405T121925Z
LAST-MODIFIED:20221026T184517Z
UID:3433-1667260800-1667347199@aviationinstitute.eu
SUMMARY:M15 Examination - Only English*
DESCRIPTION:M15 – Gas turbine engines \n*Only English Session is a special type of session tailored for foreign students. In order to organize it as scheduled\, at least 1 foreign student OR a minimum group of 6 Romanian students have to participate.
URL:https://aviationinstitute.eu/calendar-evenimente/m15-examination-13/
LOCATION:Romanian Aeronautical Association – Bucharest\, Biharia 44\, Bucharest\, Romania
CATEGORIES:EASA Part 66 Modules EXAMINATIONS - BUCHAREST
END:VEVENT
BEGIN:VEVENT
DTSTART;VALUE=DATE:20221101
DTEND;VALUE=DATE:20221102
DTSTAMP:20260425T184454
CREATED:20220405T122001Z
LAST-MODIFIED:20221026T184705Z
UID:3436-1667260800-1667347199@aviationinstitute.eu
SUMMARY:M16 Examination - Only English*
DESCRIPTION:M16 – Piston engine \n*Only English Session is a special type of session tailored for foreign students. In order to organize it as scheduled\, at least 1 foreign student OR a minimum group of 6 Romanian students have to participate.
URL:https://aviationinstitute.eu/calendar-evenimente/m16-examination-4/
LOCATION:Romanian Aeronautical Association – Bucharest\, Biharia 44\, Bucharest\, Romania
CATEGORIES:EASA Part 66 Modules EXAMINATIONS - BUCHAREST
END:VEVENT
BEGIN:VEVENT
DTSTART;TZID=Europe/Helsinki:20221124T160000
DTEND;TZID=Europe/Helsinki:20221124T173000
DTSTAMP:20260425T184454
CREATED:20220527T123121Z
LAST-MODIFIED:20220527T123121Z
UID:3467-1669305600-1669311000@aviationinstitute.eu
SUMMARY:M16 Examination
DESCRIPTION:M16 – Piston engine
URL:https://aviationinstitute.eu/calendar-evenimente/m16-examination-7/
LOCATION:Romanian Aeronautical Association – Bucharest\, Biharia 44\, Bucharest\, Romania
CATEGORIES:EASA Part 66 Modules EXAMINATIONS - BUCHAREST
END:VEVENT
BEGIN:VEVENT
DTSTART;TZID=Europe/Helsinki:20221124T160000
DTEND;TZID=Europe/Helsinki:20221124T175500
DTSTAMP:20260425T184454
CREATED:20220527T123043Z
LAST-MODIFIED:20220527T123043Z
UID:3465-1669305600-1669312500@aviationinstitute.eu
SUMMARY:M15 Examination
DESCRIPTION:M15 – Gas turbine engines
URL:https://aviationinstitute.eu/calendar-evenimente/m15-examination-14/
LOCATION:Romanian Aeronautical Association – Bucharest\, Biharia 44\, Bucharest\, Romania
CATEGORIES:EASA Part 66 Modules EXAMINATIONS - BUCHAREST
END:VEVENT
BEGIN:VEVENT
DTSTART;TZID=Europe/Helsinki:20221215T160000
DTEND;TZID=Europe/Helsinki:20221215T184000
DTSTAMP:20260425T184454
CREATED:20220527T122958Z
LAST-MODIFIED:20220527T122958Z
UID:3463-1671120000-1671129600@aviationinstitute.eu
SUMMARY:M7 Examination
DESCRIPTION:M7 – Maintenance practices (MCQ + Essay 1 + Essay 2)
URL:https://aviationinstitute.eu/calendar-evenimente/m7-examination-5/
LOCATION:Romanian Aeronautical Association – Bucharest\, Biharia 44\, Bucharest\, Romania
CATEGORIES:EASA Part 66 Modules EXAMINATIONS - BUCHAREST
END:VEVENT
BEGIN:VEVENT
DTSTART;TZID=Europe/Helsinki:20230131T160000
DTEND;TZID=Europe/Helsinki:20230131T173000
DTSTAMP:20260425T184454
CREATED:20230112T200922Z
LAST-MODIFIED:20230123T115436Z
UID:3539-1675180800-1675186200@aviationinstitute.eu
SUMMARY:M6 Examination - rescheduled for 01.02.2023
DESCRIPTION:M6 – Materials and hardware
URL:https://aviationinstitute.eu/calendar-evenimente/m6-examination-21/
LOCATION:Romanian Aeronautical Association – Bucharest\, Biharia 44\, Bucharest\, Romania
CATEGORIES:EASA Part 66 Modules EXAMINATIONS - BACAU,EASA Part 66 Modules EXAMINATIONS - BUCHAREST
END:VEVENT
BEGIN:VEVENT
DTSTART;TZID=Europe/Helsinki:20230131T174000
DTEND;TZID=Europe/Helsinki:20230131T180500
DTSTAMP:20260425T184454
CREATED:20230112T201204Z
LAST-MODIFIED:20230123T115523Z
UID:3541-1675186800-1675188300@aviationinstitute.eu
SUMMARY:M8 Examination - rescheduled for 01.02.2023
DESCRIPTION:M8 – Basic aerodynamics
URL:https://aviationinstitute.eu/calendar-evenimente/m8-examination-14/
LOCATION:Romanian Aeronautical Association – Bucharest\, Biharia 44\, Bucharest\, Romania
CATEGORIES:EASA Part 66 Modules EXAMINATIONS - BUCHAREST
END:VEVENT
BEGIN:VEVENT
DTSTART;TZID=Europe/Helsinki:20230201T160000
DTEND;TZID=Europe/Helsinki:20230201T162500
DTSTAMP:20260425T184454
CREATED:20230112T201346Z
LAST-MODIFIED:20230112T201346Z
UID:3543-1675267200-1675268700@aviationinstitute.eu
SUMMARY:M9A MCQ Examination
DESCRIPTION:M9 – Human Factors
URL:https://aviationinstitute.eu/calendar-evenimente/m9a-mcq-examination-5/
LOCATION:Romanian Aeronautical Association – Bucharest\, Biharia 44\, Bucharest\, Romania
CATEGORIES:EASA Part 66 Modules EXAMINATIONS - BUCHAREST
END:VEVENT
BEGIN:VEVENT
DTSTART;TZID=Europe/Helsinki:20230201T160000
DTEND;TZID=Europe/Helsinki:20230201T173000
DTSTAMP:20260425T184454
CREATED:20230123T114907Z
LAST-MODIFIED:20230123T114907Z
UID:3717-1675267200-1675272600@aviationinstitute.eu
SUMMARY:M6 Examination
DESCRIPTION:M6 – Materials and hardware
URL:https://aviationinstitute.eu/calendar-evenimente/m6-examination-24/
LOCATION:Romanian Aeronautical Association – Bucharest\, Biharia 44\, Bucharest\, Romania
CATEGORIES:EASA Part 66 Modules EXAMINATIONS - BUCHAREST
END:VEVENT
BEGIN:VEVENT
DTSTART;TZID=Europe/Helsinki:20230201T164000
DTEND;TZID=Europe/Helsinki:20230201T170000
DTSTAMP:20260425T184454
CREATED:20230112T201525Z
LAST-MODIFIED:20230112T201525Z
UID:3545-1675269600-1675270800@aviationinstitute.eu
SUMMARY:M9A Essay 1 Examination
DESCRIPTION:M9 – Human Factors
URL:https://aviationinstitute.eu/calendar-evenimente/m9a-essay-1-examination/
LOCATION:Romanian Aeronautical Association – Bucharest\, Biharia 44\, Bucharest\, Romania
CATEGORIES:EASA Part 66 Modules EXAMINATIONS - BUCHAREST
END:VEVENT
BEGIN:VEVENT
DTSTART;TZID=Europe/Helsinki:20230201T171000
DTEND;TZID=Europe/Helsinki:20230201T180000
DTSTAMP:20260425T184454
CREATED:20230112T201643Z
LAST-MODIFIED:20230112T201643Z
UID:3547-1675271400-1675274400@aviationinstitute.eu
SUMMARY:M10 MCQ Examination
DESCRIPTION:M10 – Aviation Legislation
URL:https://aviationinstitute.eu/calendar-evenimente/m10-mcq-examination-16/
LOCATION:Romanian Aeronautical Association – Bucharest\, Biharia 44\, Bucharest\, Romania
CATEGORIES:EASA Part 66 Modules EXAMINATIONS - BUCHAREST
END:VEVENT
BEGIN:VEVENT
DTSTART;TZID=Europe/Helsinki:20230201T181000
DTEND;TZID=Europe/Helsinki:20230201T183000
DTSTAMP:20260425T184454
CREATED:20230112T201731Z
LAST-MODIFIED:20230112T201731Z
UID:3549-1675275000-1675276200@aviationinstitute.eu
SUMMARY:M10 Essay 1 Examination
DESCRIPTION:M10 – Aviation Legislation
URL:https://aviationinstitute.eu/calendar-evenimente/m10-essay-1-examination/
LOCATION:Romanian Aeronautical Association – Bucharest\, Biharia 44\, Bucharest\, Romania
CATEGORIES:EASA Part 66 Modules EXAMINATIONS - BUCHAREST
END:VEVENT
BEGIN:VEVENT
DTSTART;TZID=Europe/Helsinki:20230201T181000
DTEND;TZID=Europe/Helsinki:20230201T183500
DTSTAMP:20260425T184454
CREATED:20230123T115039Z
LAST-MODIFIED:20230123T115039Z
UID:3719-1675275000-1675276500@aviationinstitute.eu
SUMMARY:M8 Examination
DESCRIPTION:M8 – Basic aerodynamics
URL:https://aviationinstitute.eu/calendar-evenimente/m8-examination-17/
LOCATION:Romanian Aeronautical Association – Bucharest\, Biharia 44\, Bucharest\, Romania
CATEGORIES:EASA Part 66 Modules EXAMINATIONS - BUCHAREST
END:VEVENT
BEGIN:VEVENT
DTSTART;TZID=Europe/Helsinki:20230210T160000
DTEND;TZID=Europe/Helsinki:20230210T174000
DTSTAMP:20260425T184454
CREATED:20230112T201908Z
LAST-MODIFIED:20230112T201908Z
UID:3551-1676044800-1676050800@aviationinstitute.eu
SUMMARY:M7 MCQ Examination
DESCRIPTION:M7 – Maintenance practices
URL:https://aviationinstitute.eu/calendar-evenimente/m7-mcq-examination-16/
LOCATION:Romanian Aeronautical Association – Bucharest\, Biharia 44\, Bucharest\, Romania
CATEGORIES:EASA Part 66 Modules EXAMINATIONS - BUCHAREST
END:VEVENT
BEGIN:VEVENT
DTSTART;TZID=Europe/Helsinki:20230210T175000
DTEND;TZID=Europe/Helsinki:20230210T181000
DTSTAMP:20260425T184454
CREATED:20230112T202018Z
LAST-MODIFIED:20230112T202018Z
UID:3553-1676051400-1676052600@aviationinstitute.eu
SUMMARY:M7 Essay 1 Examination
DESCRIPTION:M7 – Maintenance practices
URL:https://aviationinstitute.eu/calendar-evenimente/m7-essay-1-examination-18/
LOCATION:Romanian Aeronautical Association – Bucharest\, Biharia 44\, Bucharest\, Romania
CATEGORIES:EASA Part 66 Modules EXAMINATIONS - BUCHAREST
END:VEVENT
BEGIN:VEVENT
DTSTART;TZID=Europe/Helsinki:20230210T182000
DTEND;TZID=Europe/Helsinki:20230210T184000
DTSTAMP:20260425T184454
CREATED:20230112T202136Z
LAST-MODIFIED:20230112T202136Z
UID:3555-1676053200-1676054400@aviationinstitute.eu
SUMMARY:M7 Essay 2 Examination
DESCRIPTION:M7 – Maintenance practices
URL:https://aviationinstitute.eu/calendar-evenimente/m7-essay-2-examination-16/
LOCATION:Romanian Aeronautical Association – Bucharest\, Biharia 44\, Bucharest\, Romania
CATEGORIES:EASA Part 66 Modules EXAMINATIONS - BUCHAREST
END:VEVENT
BEGIN:VEVENT
DTSTART;TZID=Europe/Helsinki:20230223T160000
DTEND;TZID=Europe/Helsinki:20230223T163000
DTSTAMP:20260425T184454
CREATED:20230112T202316Z
LAST-MODIFIED:20230112T202316Z
UID:3557-1677168000-1677169800@aviationinstitute.eu
SUMMARY:M14 Examination
DESCRIPTION:M14 – Propulsion
URL:https://aviationinstitute.eu/calendar-evenimente/m14-examination-11/
LOCATION:Romanian Aeronautical Association – Bucharest\, Biharia 44\, Bucharest\, Romania
CATEGORIES:EASA Part 66 Modules EXAMINATIONS - BUCHAREST
END:VEVENT
BEGIN:VEVENT
DTSTART;TZID=Europe/Helsinki:20230223T160000
DTEND;TZID=Europe/Helsinki:20230223T164000
DTSTAMP:20260425T184454
CREATED:20230112T202417Z
LAST-MODIFIED:20230112T202417Z
UID:3559-1677168000-1677170400@aviationinstitute.eu
SUMMARY:M17 Examination
DESCRIPTION:M17 – Propeller
URL:https://aviationinstitute.eu/calendar-evenimente/m17-examination-15/
LOCATION:Romanian Aeronautical Association – Bucharest\, Biharia 44\, Bucharest\, Romania
CATEGORIES:EASA Part 66 Modules EXAMINATIONS - BUCHAREST
END:VEVENT
BEGIN:VEVENT
DTSTART;TZID=Europe/Helsinki:20230303T160000
DTEND;TZID=Europe/Helsinki:20230303T185500
DTSTAMP:20260425T184454
CREATED:20230112T202545Z
LAST-MODIFIED:20230112T202545Z
UID:3561-1677859200-1677869700@aviationinstitute.eu
SUMMARY:M11A Examination
DESCRIPTION:M11 – Aeroplane aerodynamics\, structures and systems
URL:https://aviationinstitute.eu/calendar-evenimente/m11a-examination-6/
LOCATION:Romanian Aeronautical Association – Bucharest\, Biharia 44\, Bucharest\, Romania
CATEGORIES:EASA Part 66 Modules EXAMINATIONS - BUCHAREST
END:VEVENT
BEGIN:VEVENT
DTSTART;TZID=Europe/Helsinki:20230303T160000
DTEND;TZID=Europe/Helsinki:20230303T194500
DTSTAMP:20260425T184454
CREATED:20230112T202715Z
LAST-MODIFIED:20230112T202715Z
UID:3563-1677859200-1677872700@aviationinstitute.eu
SUMMARY:M13 Examination
DESCRIPTION:M13 – Aircraft aerodynamics\, structures and systems
URL:https://aviationinstitute.eu/calendar-evenimente/m13-examination-8/
LOCATION:Romanian Aeronautical Association – Bucharest\, Biharia 44\, Bucharest\, Romania
CATEGORIES:EASA Part 66 Modules EXAMINATIONS - BUCHAREST
END:VEVENT
BEGIN:VEVENT
DTSTART;TZID=Europe/Helsinki:20230403T160000
DTEND;TZID=Europe/Helsinki:20230403T173000
DTSTAMP:20260425T184454
CREATED:20230113T135714Z
LAST-MODIFIED:20230113T135714Z
UID:3635-1680537600-1680543000@aviationinstitute.eu
SUMMARY:M6 Examination – Only English*
DESCRIPTION:M6 – Materials and hardware \n*Only English Session is a special type of session tailored for foreign students. In order to organize it as scheduled\, at least 1 foreign student OR a minimum group of 6 Romanian students have to participate.
URL:https://aviationinstitute.eu/calendar-evenimente/m6-examination-only-english-3/
LOCATION:Romanian Aeronautical Association – Bucharest\, Biharia 44\, Bucharest\, Romania
CATEGORIES:EASA Part 66 Modules EXAMINATIONS - BUCHAREST
END:VEVENT
BEGIN:VEVENT
DTSTART;TZID=Europe/Helsinki:20230403T174000
DTEND;TZID=Europe/Helsinki:20230403T180500
DTSTAMP:20260425T184454
CREATED:20230113T135933Z
LAST-MODIFIED:20230113T135933Z
UID:3637-1680543600-1680545100@aviationinstitute.eu
SUMMARY:M8 Examination – Only English*
DESCRIPTION:M8 – Basic aerodynamics \n*Only English Session is a special type of session tailored for foreign students. In order to organize it as scheduled\, at least 1 foreign student OR a minimum group of 6 Romanian students have to participate.
URL:https://aviationinstitute.eu/calendar-evenimente/m8-examination-only-english-4/
LOCATION:Romanian Aeronautical Association – Bucharest\, Biharia 44\, Bucharest\, Romania
CATEGORIES:EASA Part 66 Modules EXAMINATIONS - BUCHAREST
END:VEVENT
BEGIN:VEVENT
DTSTART;TZID=Europe/Helsinki:20230403T182000
DTEND;TZID=Europe/Helsinki:20230403T190000
DTSTAMP:20260425T184454
CREATED:20230113T140056Z
LAST-MODIFIED:20230113T140117Z
UID:3639-1680546000-1680548400@aviationinstitute.eu
SUMMARY:M1 Examination – Only English*
DESCRIPTION:M1 – Mathematics \n*Only English Session is a special type of session tailored for foreign students. In order to organize it as scheduled\, at least 1 foreign student OR a minimum group of 6 Romanian students have to participate.
URL:https://aviationinstitute.eu/calendar-evenimente/m1-examination-only-english-5/
LOCATION:Romanian Aeronautical Association – Bucharest\, Biharia 44\, Bucharest\, Romania
CATEGORIES:EASA Part 66 Modules EXAMINATIONS - BUCHAREST
END:VEVENT
BEGIN:VEVENT
DTSTART;TZID=Europe/Helsinki:20230403T191000
DTEND;TZID=Europe/Helsinki:20230403T201500
DTSTAMP:20260425T184454
CREATED:20230113T140224Z
LAST-MODIFIED:20230113T140224Z
UID:3641-1680549000-1680552900@aviationinstitute.eu
SUMMARY:M2 Examination – Only English*
DESCRIPTION:M2 – Physics \n*Only English Session is a special type of session tailored for foreign students. In order to organize it as scheduled\, at least 1 foreign student OR a minimum group of 6 Romanian students have to participate.
URL:https://aviationinstitute.eu/calendar-evenimente/m2-examination-only-english-5/
LOCATION:Romanian Aeronautical Association – Bucharest\, Biharia 44\, Bucharest\, Romania
CATEGORIES:EASA Part 66 Modules EXAMINATIONS - BUCHAREST
END:VEVENT
BEGIN:VEVENT
DTSTART;TZID=Europe/Helsinki:20230404T160000
DTEND;TZID=Europe/Helsinki:20230404T162500
DTSTAMP:20260425T184454
CREATED:20230113T140421Z
LAST-MODIFIED:20230113T140421Z
UID:3643-1680624000-1680625500@aviationinstitute.eu
SUMMARY:M9A MCQ Examination – Only English*
DESCRIPTION:M9 – Human Factors \n*Only English Session is a special type of session tailored for foreign students. In order to organize it as scheduled\, at least 1 foreign student OR a minimum group of 6 Romanian students have to participate.
URL:https://aviationinstitute.eu/calendar-evenimente/m9a-mcq-examination-only-english-2/
LOCATION:Romanian Aeronautical Association – Bucharest\, Biharia 44\, Bucharest\, Romania
CATEGORIES:EASA Part 66 Modules EXAMINATIONS - BUCHAREST
END:VEVENT
BEGIN:VEVENT
DTSTART;TZID=Europe/Helsinki:20230404T164000
DTEND;TZID=Europe/Helsinki:20230404T170000
DTSTAMP:20260425T184454
CREATED:20230113T140552Z
LAST-MODIFIED:20230113T140552Z
UID:3645-1680626400-1680627600@aviationinstitute.eu
SUMMARY:M9A Essay 1 Examination – Only English*
DESCRIPTION:M9 – Human Factors \n*Only English Session is a special type of session tailored for foreign students. In order to organize it as scheduled\, at least 1 foreign student OR a minimum group of 6 Romanian students have to participate.
URL:https://aviationinstitute.eu/calendar-evenimente/m9a-essay-1-examination-only-english/
LOCATION:Romanian Aeronautical Association – Bucharest\, Biharia 44\, Bucharest\, Romania
CATEGORIES:EASA Part 66 Modules EXAMINATIONS - BUCHAREST
END:VEVENT
BEGIN:VEVENT
DTSTART;TZID=Europe/Helsinki:20230404T171000
DTEND;TZID=Europe/Helsinki:20230404T180000
DTSTAMP:20260425T184454
CREATED:20230113T140708Z
LAST-MODIFIED:20230113T140708Z
UID:3647-1680628200-1680631200@aviationinstitute.eu
SUMMARY:M10 MCQ Examination – Only English*
DESCRIPTION:M10 – Aviation Legislation \n*Only English Session is a special type of session tailored for foreign students. In order to organize it as scheduled\, at least 1 foreign student OR a minimum group of 6 Romanian students have to participate.
URL:https://aviationinstitute.eu/calendar-evenimente/m10-mcq-examination-only-english-5/
LOCATION:Romanian Aeronautical Association – Bucharest\, Biharia 44\, Bucharest\, Romania
CATEGORIES:EASA Part 66 Modules EXAMINATIONS - BUCHAREST
END:VEVENT
END:VCALENDAR