BEGIN:VCALENDAR
VERSION:2.0
PRODID:-//European Aviation Institute - ECPv6.15.20//NONSGML v1.0//EN
CALSCALE:GREGORIAN
METHOD:PUBLISH
X-WR-CALNAME:European Aviation Institute
X-ORIGINAL-URL:https://aviationinstitute.eu
X-WR-CALDESC:Events for European Aviation Institute
REFRESH-INTERVAL;VALUE=DURATION:PT1H
X-Robots-Tag:noindex
X-PUBLISHED-TTL:PT1H
BEGIN:VTIMEZONE
TZID:Europe/Helsinki
BEGIN:DAYLIGHT
TZOFFSETFROM:+0200
TZOFFSETTO:+0300
TZNAME:EEST
DTSTART:20220327T010000
END:DAYLIGHT
BEGIN:STANDARD
TZOFFSETFROM:+0300
TZOFFSETTO:+0200
TZNAME:EET
DTSTART:20221030T010000
END:STANDARD
BEGIN:DAYLIGHT
TZOFFSETFROM:+0200
TZOFFSETTO:+0300
TZNAME:EEST
DTSTART:20230326T010000
END:DAYLIGHT
BEGIN:STANDARD
TZOFFSETFROM:+0300
TZOFFSETTO:+0200
TZNAME:EET
DTSTART:20231029T010000
END:STANDARD
BEGIN:DAYLIGHT
TZOFFSETFROM:+0200
TZOFFSETTO:+0300
TZNAME:EEST
DTSTART:20240331T010000
END:DAYLIGHT
BEGIN:STANDARD
TZOFFSETFROM:+0300
TZOFFSETTO:+0200
TZNAME:EET
DTSTART:20241027T010000
END:STANDARD
END:VTIMEZONE
BEGIN:VEVENT
DTSTART;TZID=Europe/Helsinki:20230411T181500
DTEND;TZID=Europe/Helsinki:20230411T194500
DTSTAMP:20260425T154422
CREATED:20230113T201441Z
LAST-MODIFIED:20230113T201441Z
UID:3667-1681236900-1681242300@aviationinstitute.eu
SUMMARY:M5 Examination – Only English*
DESCRIPTION:M5 – Digital techniques/ Electronic instrument systems \n*Only English Session is a special type of session tailored for foreign students. In order to organize it as scheduled\, at least 1 foreign student OR a minimum group of 6 Romanian students have to participate.
URL:https://aviationinstitute.eu/calendar-evenimente/m5-examination-only-english-5/
LOCATION:Romanian Aeronautical Association – Bucharest\, Biharia 44\, Bucharest\, Romania
CATEGORIES:EASA Part 66 Modules EXAMINATIONS - BUCHAREST
END:VEVENT
BEGIN:VEVENT
DTSTART;TZID=Europe/Helsinki:20230412T160000
DTEND;TZID=Europe/Helsinki:20230412T174000
DTSTAMP:20260425T154422
CREATED:20230113T201622Z
LAST-MODIFIED:20230113T201622Z
UID:3669-1681315200-1681321200@aviationinstitute.eu
SUMMARY:M7 MCQ Examination – Only English*
DESCRIPTION:M7 – Maintenance practices \n*Only English Session is a special type of session tailored for foreign students. In order to organize it as scheduled\, at least 1 foreign student OR a minimum group of 6 Romanian students have to participate.
URL:https://aviationinstitute.eu/calendar-evenimente/m7-mcq-examination-only-english-4/
LOCATION:Romanian Aeronautical Association – Bucharest\, Biharia 44\, Bucharest\, Romania
CATEGORIES:EASA Part 66 Modules EXAMINATIONS - BUCHAREST
END:VEVENT
BEGIN:VEVENT
DTSTART;TZID=Europe/Helsinki:20230412T175000
DTEND;TZID=Europe/Helsinki:20230412T181000
DTSTAMP:20260425T154422
CREATED:20230113T201730Z
LAST-MODIFIED:20230113T201730Z
UID:3671-1681321800-1681323000@aviationinstitute.eu
SUMMARY:M7 Essay 1 Examination – Only English*
DESCRIPTION:M7 – Maintenance practices \n*Only English Session is a special type of session tailored for foreign students. In order to organize it as scheduled\, at least 1 foreign student OR a minimum group of 6 Romanian students have to participate.
URL:https://aviationinstitute.eu/calendar-evenimente/m7-essay-1-examination-only-english/
LOCATION:Romanian Aeronautical Association – Bucharest\, Biharia 44\, Bucharest\, Romania
CATEGORIES:EASA Part 66 Modules EXAMINATIONS - BUCHAREST
END:VEVENT
BEGIN:VEVENT
DTSTART;TZID=Europe/Helsinki:20230412T182000
DTEND;TZID=Europe/Helsinki:20230412T184000
DTSTAMP:20260425T154422
CREATED:20230113T201836Z
LAST-MODIFIED:20230113T201836Z
UID:3673-1681323600-1681324800@aviationinstitute.eu
SUMMARY:M7 Essay 2 Examination – Only English*
DESCRIPTION:M7 – Maintenance practices \n*Only English Session is a special type of session tailored for foreign students. In order to organize it as scheduled\, at least 1 foreign student OR a minimum group of 6 Romanian students have to participate.
URL:https://aviationinstitute.eu/calendar-evenimente/m7-essay-2-examination-only-english/
LOCATION:Romanian Aeronautical Association – Bucharest\, Biharia 44\, Bucharest\, Romania
CATEGORIES:EASA Part 66 Modules EXAMINATIONS - BUCHAREST
END:VEVENT
BEGIN:VEVENT
DTSTART;TZID=Europe/Helsinki:20230511T160000
DTEND;TZID=Europe/Helsinki:20230511T173000
DTSTAMP:20260425T154422
CREATED:20230112T202854Z
LAST-MODIFIED:20230510T201135Z
UID:3565-1683820800-1683826200@aviationinstitute.eu
SUMMARY:M6 Examination - cancelled
DESCRIPTION:M6 – Materials and hardware
URL:https://aviationinstitute.eu/calendar-evenimente/m6-examination-22/
LOCATION:Romanian Aeronautical Association – Bucharest\, Biharia 44\, Bucharest\, Romania
CATEGORIES:EASA Part 66 Modules EXAMINATIONS - BUCHAREST
END:VEVENT
BEGIN:VEVENT
DTSTART;TZID=Europe/Helsinki:20230511T174000
DTEND;TZID=Europe/Helsinki:20230511T180500
DTSTAMP:20260425T154422
CREATED:20230112T203014Z
LAST-MODIFIED:20230510T201219Z
UID:3567-1683826800-1683828300@aviationinstitute.eu
SUMMARY:M8 Examination - cancelled
DESCRIPTION:M8 – Basic aerodynamics
URL:https://aviationinstitute.eu/calendar-evenimente/m8-examination-15/
LOCATION:Romanian Aeronautical Association – Bucharest\, Biharia 44\, Bucharest\, Romania
CATEGORIES:EASA Part 66 Modules EXAMINATIONS - BUCHAREST
END:VEVENT
BEGIN:VEVENT
DTSTART;TZID=Europe/Helsinki:20230524T160000
DTEND;TZID=Europe/Helsinki:20230524T173000
DTSTAMP:20260425T154422
CREATED:20230510T201351Z
LAST-MODIFIED:20230510T201351Z
UID:3734-1684944000-1684949400@aviationinstitute.eu
SUMMARY:M6 Examination
DESCRIPTION:M6 – Materials and hardware
URL:https://aviationinstitute.eu/calendar-evenimente/m6-examination-25/
LOCATION:Romanian Aeronautical Association – Bucharest\, Biharia 44\, Bucharest\, Romania
CATEGORIES:EASA Part 66 Modules EXAMINATIONS - BUCHAREST
END:VEVENT
BEGIN:VEVENT
DTSTART;TZID=Europe/Helsinki:20230524T160000
DTEND;TZID=Europe/Helsinki:20230524T174000
DTSTAMP:20260425T154422
CREATED:20230112T203351Z
LAST-MODIFIED:20230112T203351Z
UID:3569-1684944000-1684950000@aviationinstitute.eu
SUMMARY:M7 MCQ Examination
DESCRIPTION:M7 – Maintenance practices
URL:https://aviationinstitute.eu/calendar-evenimente/m7-mcq-examination-17/
LOCATION:Romanian Aeronautical Association – Bucharest\, Biharia 44\, Bucharest\, Romania
CATEGORIES:EASA Part 66 Modules EXAMINATIONS - BUCHAREST
END:VEVENT
BEGIN:VEVENT
DTSTART;TZID=Europe/Helsinki:20230524T175000
DTEND;TZID=Europe/Helsinki:20230524T181000
DTSTAMP:20260425T154422
CREATED:20230112T203514Z
LAST-MODIFIED:20230112T203514Z
UID:3571-1684950600-1684951800@aviationinstitute.eu
SUMMARY:M7 Essay 1 Examination
DESCRIPTION:M7 – Maintenance practices
URL:https://aviationinstitute.eu/calendar-evenimente/m7-essay-1-examination-19/
LOCATION:Romanian Aeronautical Association – Bucharest\, Biharia 44\, Bucharest\, Romania
CATEGORIES:EASA Part 66 Modules EXAMINATIONS - BUCHAREST
END:VEVENT
BEGIN:VEVENT
DTSTART;TZID=Europe/Helsinki:20230524T182000
DTEND;TZID=Europe/Helsinki:20230524T184000
DTSTAMP:20260425T154422
CREATED:20230112T203615Z
LAST-MODIFIED:20230112T203615Z
UID:3573-1684952400-1684953600@aviationinstitute.eu
SUMMARY:M7 Essay 2 Examination
DESCRIPTION:M7 – Maintenance practices
URL:https://aviationinstitute.eu/calendar-evenimente/m7-essay-2-examination-17/
LOCATION:Romanian Aeronautical Association – Bucharest\, Biharia 44\, Bucharest\, Romania
CATEGORIES:EASA Part 66 Modules EXAMINATIONS - BUCHAREST
END:VEVENT
BEGIN:VEVENT
DTSTART;TZID=Europe/Helsinki:20230704T160000
DTEND;TZID=Europe/Helsinki:20230704T162500
DTSTAMP:20260425T154422
CREATED:20230112T203744Z
LAST-MODIFIED:20230112T203744Z
UID:3575-1688486400-1688487900@aviationinstitute.eu
SUMMARY:M9A MCQ Examination
DESCRIPTION:M9 – Human Factors
URL:https://aviationinstitute.eu/calendar-evenimente/m9a-mcq-examination-6/
LOCATION:Romanian Aeronautical Association – Bucharest\, Biharia 44\, Bucharest\, Romania
CATEGORIES:EASA Part 66 Modules EXAMINATIONS - BUCHAREST
END:VEVENT
BEGIN:VEVENT
DTSTART;TZID=Europe/Helsinki:20230704T164000
DTEND;TZID=Europe/Helsinki:20230704T170000
DTSTAMP:20260425T154422
CREATED:20230112T203843Z
LAST-MODIFIED:20230112T203843Z
UID:3577-1688488800-1688490000@aviationinstitute.eu
SUMMARY:M9A Essay 1 Examination
DESCRIPTION:M9 – Human Factors
URL:https://aviationinstitute.eu/calendar-evenimente/m9a-essay-1-examination-2/
LOCATION:Romanian Aeronautical Association – Bucharest\, Biharia 44\, Bucharest\, Romania
CATEGORIES:EASA Part 66 Modules EXAMINATIONS - BUCHAREST
END:VEVENT
BEGIN:VEVENT
DTSTART;TZID=Europe/Helsinki:20230704T171000
DTEND;TZID=Europe/Helsinki:20230704T180000
DTSTAMP:20260425T154422
CREATED:20230112T203946Z
LAST-MODIFIED:20230112T203946Z
UID:3579-1688490600-1688493600@aviationinstitute.eu
SUMMARY:M10 MCQ Examination
DESCRIPTION:M10 – Aviation Legislation
URL:https://aviationinstitute.eu/calendar-evenimente/m10-mcq-examination-17/
LOCATION:Romanian Aeronautical Association – Bucharest\, Biharia 44\, Bucharest\, Romania
CATEGORIES:EASA Part 66 Modules EXAMINATIONS - BUCHAREST
END:VEVENT
BEGIN:VEVENT
DTSTART;TZID=Europe/Helsinki:20230704T181000
DTEND;TZID=Europe/Helsinki:20230704T183000
DTSTAMP:20260425T154422
CREATED:20230112T204047Z
LAST-MODIFIED:20230112T204047Z
UID:3581-1688494200-1688495400@aviationinstitute.eu
SUMMARY:M10 Essay 1 Examination
DESCRIPTION:M10 – Aviation Legislation
URL:https://aviationinstitute.eu/calendar-evenimente/m10-essay-1-examination-2/
LOCATION:Romanian Aeronautical Association – Bucharest\, Biharia 44\, Bucharest\, Romania
CATEGORIES:EASA Part 66 Modules EXAMINATIONS - BUCHAREST
END:VEVENT
BEGIN:VEVENT
DTSTART;TZID=Europe/Helsinki:20230720T160000
DTEND;TZID=Europe/Helsinki:20230720T163000
DTSTAMP:20260425T154422
CREATED:20230112T204216Z
LAST-MODIFIED:20230112T204216Z
UID:3583-1689868800-1689870600@aviationinstitute.eu
SUMMARY:M14 Examination
DESCRIPTION:M14 – Propulsion
URL:https://aviationinstitute.eu/calendar-evenimente/m14-examination-12/
LOCATION:Romanian Aeronautical Association – Bucharest\, Biharia 44\, Bucharest\, Romania
CATEGORIES:EASA Part 66 Modules EXAMINATIONS - BUCHAREST
END:VEVENT
BEGIN:VEVENT
DTSTART;TZID=Europe/Helsinki:20230720T160000
DTEND;TZID=Europe/Helsinki:20230720T164000
DTSTAMP:20260425T154422
CREATED:20230112T204309Z
LAST-MODIFIED:20230112T204309Z
UID:3585-1689868800-1689871200@aviationinstitute.eu
SUMMARY:M17 Examination
DESCRIPTION:M17 – Propeller
URL:https://aviationinstitute.eu/calendar-evenimente/m17-examination-16/
LOCATION:Romanian Aeronautical Association – Bucharest\, Biharia 44\, Bucharest\, Romania
CATEGORIES:EASA Part 66 Modules EXAMINATIONS - BUCHAREST
END:VEVENT
BEGIN:VEVENT
DTSTART;TZID=Europe/Helsinki:20230803T160000
DTEND;TZID=Europe/Helsinki:20230803T185500
DTSTAMP:20260425T154422
CREATED:20230112T204443Z
LAST-MODIFIED:20230112T204443Z
UID:3587-1691078400-1691088900@aviationinstitute.eu
SUMMARY:M11A Examination
DESCRIPTION:M11 – Aeroplane aerodynamics\, structures and systems
URL:https://aviationinstitute.eu/calendar-evenimente/m11a-examination-7/
LOCATION:Romanian Aeronautical Association – Bucharest\, Biharia 44\, Bucharest\, Romania
CATEGORIES:EASA Part 66 Modules EXAMINATIONS - BUCHAREST
END:VEVENT
BEGIN:VEVENT
DTSTART;TZID=Europe/Helsinki:20230803T160000
DTEND;TZID=Europe/Helsinki:20230803T194500
DTSTAMP:20260425T154422
CREATED:20230112T204544Z
LAST-MODIFIED:20230112T204544Z
UID:3589-1691078400-1691091900@aviationinstitute.eu
SUMMARY:M13 Examination
DESCRIPTION:M13 – Aircraft aerodynamics\, structures and systems \n 
URL:https://aviationinstitute.eu/calendar-evenimente/m13-examination-9/
LOCATION:Romanian Aeronautical Association – Bucharest\, Biharia 44\, Bucharest\, Romania
CATEGORIES:EASA Part 66 Modules EXAMINATIONS - BUCHAREST
END:VEVENT
BEGIN:VEVENT
DTSTART;TZID=Europe/Helsinki:20230821T160000
DTEND;TZID=Europe/Helsinki:20230821T175500
DTSTAMP:20260425T154422
CREATED:20230112T204818Z
LAST-MODIFIED:20230112T204818Z
UID:3591-1692633600-1692640500@aviationinstitute.eu
SUMMARY:M15 Examination
DESCRIPTION:M15 – Gas turbine engine
URL:https://aviationinstitute.eu/calendar-evenimente/m15-examination-15/
LOCATION:Romanian Aeronautical Association – Bucharest\, Biharia 44\, Bucharest\, Romania
CATEGORIES:EASA Part 66 Modules EXAMINATIONS - BUCHAREST
END:VEVENT
BEGIN:VEVENT
DTSTART;TZID=Europe/Helsinki:20230821T181000
DTEND;TZID=Europe/Helsinki:20230821T194000
DTSTAMP:20260425T154422
CREATED:20230112T204936Z
LAST-MODIFIED:20230112T204936Z
UID:3593-1692641400-1692646800@aviationinstitute.eu
SUMMARY:M16 Examination
DESCRIPTION:M16 – Piston engine
URL:https://aviationinstitute.eu/calendar-evenimente/m16-examination-8/
LOCATION:Romanian Aeronautical Association – Bucharest\, Biharia 44\, Bucharest\, Romania
CATEGORIES:EASA Part 66 Modules EXAMINATIONS - BUCHAREST
END:VEVENT
BEGIN:VEVENT
DTSTART;TZID=Europe/Helsinki:20230918T160000
DTEND;TZID=Europe/Helsinki:20230918T185500
DTSTAMP:20260425T154422
CREATED:20230113T202210Z
LAST-MODIFIED:20230113T202210Z
UID:3675-1695052800-1695063300@aviationinstitute.eu
SUMMARY:M11A Examination – Only English*
DESCRIPTION:M11 – Aeroplane aerodynamics\, structures and systems \n*Only English Session is a special type of session tailored for foreign students. In order to organize it as scheduled\, at least 1 foreign student OR a minimum group of 6 Romanian students have to participate.
URL:https://aviationinstitute.eu/calendar-evenimente/m11a-examination-only-english-3/
LOCATION:Romanian Aeronautical Association – Bucharest\, Biharia 44\, Bucharest\, Romania
CATEGORIES:EASA Part 66 Modules EXAMINATIONS - BUCHAREST
END:VEVENT
BEGIN:VEVENT
DTSTART;TZID=Europe/Helsinki:20230918T160000
DTEND;TZID=Europe/Helsinki:20230918T194500
DTSTAMP:20260425T154422
CREATED:20230113T202418Z
LAST-MODIFIED:20230113T202455Z
UID:3677-1695052800-1695066300@aviationinstitute.eu
SUMMARY:M13 Examination – Only English*
DESCRIPTION:M13 – Aircraft aerodynamics\, structures and systems \n*Only English Session is a special type of session tailored for foreign students. In order to organize it as scheduled\, at least 1 foreign student OR a minimum group of 6 Romanian students have to participate.
URL:https://aviationinstitute.eu/calendar-evenimente/m13-examination-11/
LOCATION:Romanian Aeronautical Association – Bucharest\, Biharia 44\, Bucharest\, Romania
CATEGORIES:EASA Part 66 Modules EXAMINATIONS - BUCHAREST
END:VEVENT
BEGIN:VEVENT
DTSTART;TZID=Europe/Helsinki:20230919T160000
DTEND;TZID=Europe/Helsinki:20230919T173000
DTSTAMP:20260425T154422
CREATED:20230113T202834Z
LAST-MODIFIED:20230113T202834Z
UID:3680-1695139200-1695144600@aviationinstitute.eu
SUMMARY:M6 Examination – Only English*
DESCRIPTION:M6 – Materials and hardware \n*Only English Session is a special type of session tailored for foreign students. In order to organize it as scheduled\, at least 1 foreign student OR a minimum group of 6 Romanian students have to participate.
URL:https://aviationinstitute.eu/calendar-evenimente/m6-examination-only-english-4/
LOCATION:Romanian Aeronautical Association – Bucharest\, Biharia 44\, Bucharest\, Romania
CATEGORIES:EASA Part 66 Modules EXAMINATIONS - BUCHAREST
END:VEVENT
BEGIN:VEVENT
DTSTART;TZID=Europe/Helsinki:20230919T174000
DTEND;TZID=Europe/Helsinki:20230919T180500
DTSTAMP:20260425T154422
CREATED:20230113T203036Z
LAST-MODIFIED:20230113T203036Z
UID:3682-1695145200-1695146700@aviationinstitute.eu
SUMMARY:M8 Examination – Only English*
DESCRIPTION:M8 – Basic aerodynamics \n*Only English Session is a special type of session tailored for foreign students. In order to organize it as scheduled\, at least 1 foreign student OR a minimum group of 6 Romanian students have to participate.
URL:https://aviationinstitute.eu/calendar-evenimente/m8-examination-only-english-5/
LOCATION:Romanian Aeronautical Association – Bucharest\, Biharia 44\, Bucharest\, Romania
CATEGORIES:EASA Part 66 Modules EXAMINATIONS - BUCHAREST
END:VEVENT
BEGIN:VEVENT
DTSTART;TZID=Europe/Helsinki:20230919T182000
DTEND;TZID=Europe/Helsinki:20230919T190000
DTSTAMP:20260425T154422
CREATED:20230113T203238Z
LAST-MODIFIED:20230113T203238Z
UID:3684-1695147600-1695150000@aviationinstitute.eu
SUMMARY:M1 Examination – Only English*
DESCRIPTION:M1 – Mathematics \n*Only English Session is a special type of session tailored for foreign students. In order to organize it as scheduled\, at least 1 foreign student OR a minimum group of 6 Romanian students have to participate.
URL:https://aviationinstitute.eu/calendar-evenimente/m1-examination-only-english-6/
LOCATION:Romanian Aeronautical Association – Bucharest\, Biharia 44\, Bucharest\, Romania
CATEGORIES:EASA Part 66 Modules EXAMINATIONS - BUCHAREST
END:VEVENT
BEGIN:VEVENT
DTSTART;TZID=Europe/Helsinki:20230919T191000
DTEND;TZID=Europe/Helsinki:20230919T201500
DTSTAMP:20260425T154422
CREATED:20230113T203415Z
LAST-MODIFIED:20230113T203415Z
UID:3686-1695150600-1695154500@aviationinstitute.eu
SUMMARY:M2 Examination – Only English*
DESCRIPTION:M2 – Physics \n*Only English Session is a special type of session tailored for foreign students. In order to organize it as scheduled\, at least 1 foreign student OR a minimum group of 6 Romanian students have to participate.
URL:https://aviationinstitute.eu/calendar-evenimente/m2-examination-only-english-6/
LOCATION:Romanian Aeronautical Association – Bucharest\, Biharia 44\, Bucharest\, Romania
CATEGORIES:EASA Part 66 Modules EXAMINATIONS - BUCHAREST
END:VEVENT
BEGIN:VEVENT
DTSTART;TZID=Europe/Helsinki:20230920T160000
DTEND;TZID=Europe/Helsinki:20230920T174000
DTSTAMP:20260425T154422
CREATED:20230113T203534Z
LAST-MODIFIED:20230113T203534Z
UID:3688-1695225600-1695231600@aviationinstitute.eu
SUMMARY:M7 MCQ Examination – Only English*
DESCRIPTION:M7 – Maintenance practices \n*Only English Session is a special type of session tailored for foreign students. In order to organize it as scheduled\, at least 1 foreign student OR a minimum group of 6 Romanian students have to participate.
URL:https://aviationinstitute.eu/calendar-evenimente/m7-mcq-examination-only-english-6/
LOCATION:Romanian Aeronautical Association – Bucharest\, Biharia 44\, Bucharest\, Romania
CATEGORIES:EASA Part 66 Modules EXAMINATIONS - BUCHAREST
END:VEVENT
BEGIN:VEVENT
DTSTART;TZID=Europe/Helsinki:20230920T175000
DTEND;TZID=Europe/Helsinki:20230920T181000
DTSTAMP:20260425T154422
CREATED:20230113T203722Z
LAST-MODIFIED:20230113T203722Z
UID:3690-1695232200-1695233400@aviationinstitute.eu
SUMMARY:M7 Essay 1 Examination – Only English*
DESCRIPTION:M7 – Maintenance practices \n*Only English Session is a special type of session tailored for foreign students. In order to organize it as scheduled\, at least 1 foreign student OR a minimum group of 6 Romanian students have to participate.
URL:https://aviationinstitute.eu/calendar-evenimente/m7-essay-1-examination-only-english-3/
LOCATION:Romanian Aeronautical Association – Bucharest\, Biharia 44\, Bucharest\, Romania
CATEGORIES:EASA Part 66 Modules EXAMINATIONS - BUCHAREST
END:VEVENT
BEGIN:VEVENT
DTSTART;TZID=Europe/Helsinki:20230920T182000
DTEND;TZID=Europe/Helsinki:20230920T184000
DTSTAMP:20260425T154422
CREATED:20230113T203944Z
LAST-MODIFIED:20230113T203944Z
UID:3692-1695234000-1695235200@aviationinstitute.eu
SUMMARY:M7 Essay 2 Examination – Only English*
DESCRIPTION:M7 – Maintenance practices \n*Only English Session is a special type of session tailored for foreign students. In order to organize it as scheduled\, at least 1 foreign student OR a minimum group of 6 Romanian students have to participate.
URL:https://aviationinstitute.eu/calendar-evenimente/m7-essay-2-examination-only-english-3/
LOCATION:Romanian Aeronautical Association – Bucharest\, Biharia 44\, Bucharest\, Romania
CATEGORIES:EASA Part 66 Modules EXAMINATIONS - BUCHAREST
END:VEVENT
BEGIN:VEVENT
DTSTART;TZID=Europe/Helsinki:20230921T160000
DTEND;TZID=Europe/Helsinki:20230921T170500
DTSTAMP:20260425T154422
CREATED:20230113T204205Z
LAST-MODIFIED:20230113T204205Z
UID:3694-1695312000-1695315900@aviationinstitute.eu
SUMMARY:M3 Examination – Only English*
DESCRIPTION:M3 – Electrical fundamentals \n*Only English Session is a special type of session tailored for foreign students. In order to organize it as scheduled\, at least 1 foreign student OR a minimum group of 6 Romanian students have to participate.
URL:https://aviationinstitute.eu/calendar-evenimente/m3-examination-only-english-6/
LOCATION:Romanian Aeronautical Association – Bucharest\, Biharia 44\, Bucharest\, Romania
CATEGORIES:EASA Part 66 Modules EXAMINATIONS - BUCHAREST
END:VEVENT
END:VCALENDAR