BEGIN:VCALENDAR
VERSION:2.0
PRODID:-//European Aviation Institute - ECPv6.15.18//NONSGML v1.0//EN
CALSCALE:GREGORIAN
METHOD:PUBLISH
X-WR-CALNAME:European Aviation Institute
X-ORIGINAL-URL:https://aviationinstitute.eu
X-WR-CALDESC:Events for European Aviation Institute
REFRESH-INTERVAL;VALUE=DURATION:PT1H
X-Robots-Tag:noindex
X-PUBLISHED-TTL:PT1H
BEGIN:VTIMEZONE
TZID:Europe/Helsinki
BEGIN:DAYLIGHT
TZOFFSETFROM:+0200
TZOFFSETTO:+0300
TZNAME:EEST
DTSTART:20230326T010000
END:DAYLIGHT
BEGIN:STANDARD
TZOFFSETFROM:+0300
TZOFFSETTO:+0200
TZNAME:EET
DTSTART:20231029T010000
END:STANDARD
BEGIN:DAYLIGHT
TZOFFSETFROM:+0200
TZOFFSETTO:+0300
TZNAME:EEST
DTSTART:20240331T010000
END:DAYLIGHT
BEGIN:STANDARD
TZOFFSETFROM:+0300
TZOFFSETTO:+0200
TZNAME:EET
DTSTART:20241027T010000
END:STANDARD
BEGIN:DAYLIGHT
TZOFFSETFROM:+0200
TZOFFSETTO:+0300
TZNAME:EEST
DTSTART:20250330T010000
END:DAYLIGHT
BEGIN:STANDARD
TZOFFSETFROM:+0300
TZOFFSETTO:+0200
TZNAME:EET
DTSTART:20251026T010000
END:STANDARD
END:VTIMEZONE
BEGIN:VEVENT
DTSTART;TZID=Europe/Helsinki:20240408T174000
DTEND;TZID=Europe/Helsinki:20240408T180500
DTSTAMP:20260424T164006
CREATED:20240106T135318Z
LAST-MODIFIED:20240312T093649Z
UID:3828-1712598000-1712599500@aviationinstitute.eu
SUMMARY:M8 Examination – *All modules in 1 week
DESCRIPTION:M8 – Basic aerodynamics \n*All modules in 1 Week” examination session is mainly tailored for foreign students. In order to organize it as scheduled\, a group of minimum 6 candidates is required.
URL:https://aviationinstitute.eu/calendar-evenimente/m8-examination-only-english-6/
LOCATION:Romanian Aeronautical Association – Bucharest\, Biharia 44\, Bucharest\, Romania
CATEGORIES:EASA Part 66 Modules EXAMINATIONS - BUCHAREST
END:VEVENT
BEGIN:VEVENT
DTSTART;TZID=Europe/Helsinki:20240408T182000
DTEND;TZID=Europe/Helsinki:20240408T190000
DTSTAMP:20260424T164006
CREATED:20240106T135431Z
LAST-MODIFIED:20240312T094404Z
UID:3830-1712600400-1712602800@aviationinstitute.eu
SUMMARY:M1 Examination – *All modules in 1 week
DESCRIPTION:M1 – Mathematics \n*All modules in 1 Week” examination session is mainly tailored for foreign students. In order to organize it as scheduled\, a group of minimum 6 candidates is required.
URL:https://aviationinstitute.eu/calendar-evenimente/m1-examination-only-english-7/
LOCATION:Romanian Aeronautical Association – Bucharest\, Biharia 44\, Bucharest\, Romania
CATEGORIES:EASA Part 66 Modules EXAMINATIONS - BUCHAREST
END:VEVENT
BEGIN:VEVENT
DTSTART;TZID=Europe/Helsinki:20240408T191000
DTEND;TZID=Europe/Helsinki:20240408T201500
DTSTAMP:20260424T164006
CREATED:20240106T135548Z
LAST-MODIFIED:20240312T093346Z
UID:3832-1712603400-1712607300@aviationinstitute.eu
SUMMARY:M2 Examination – *All modules in 1 week
DESCRIPTION:M2 – Physics \n*All modules in 1 Week” examination session is mainly tailored for foreign students. In order to organize it as scheduled\, a group of minimum 6 candidates is required.
URL:https://aviationinstitute.eu/calendar-evenimente/m2-examination-only-english-7/
LOCATION:Romanian Aeronautical Association – Bucharest\, Biharia 44\, Bucharest\, Romania
CATEGORIES:EASA Part 66 Modules EXAMINATIONS - BUCHAREST
END:VEVENT
BEGIN:VEVENT
DTSTART;TZID=Europe/Helsinki:20240409T160000
DTEND;TZID=Europe/Helsinki:20240409T163000
DTSTAMP:20260424T164006
CREATED:20240106T140853Z
LAST-MODIFIED:20240320T081850Z
UID:3850-1712678400-1712680200@aviationinstitute.eu
SUMMARY:M14 Examination – *All modules in 1 week
DESCRIPTION:M14 – Propulsion \n*All modules in 1 Week” examination session is mainly tailored for foreign students. In order to organize it as scheduled\, a group of minimum 6 candidates is required.
URL:https://aviationinstitute.eu/calendar-evenimente/m14-examination-only-english-5/
LOCATION:Romanian Aeronautical Association – Bucharest\, Biharia 44\, Bucharest\, Romania
CATEGORIES:EASA Part 66 Modules EXAMINATIONS - BUCHAREST
END:VEVENT
BEGIN:VEVENT
DTSTART;TZID=Europe/Helsinki:20240409T160000
DTEND;TZID=Europe/Helsinki:20240409T164000
DTSTAMP:20260424T164006
CREATED:20240106T140959Z
LAST-MODIFIED:20240320T081914Z
UID:3852-1712678400-1712680800@aviationinstitute.eu
SUMMARY:M17 Examination – *All modules in 1 week
DESCRIPTION:M17 – Propeller \n*All modules in 1 Week” examination session is mainly tailored for foreign students. In order to organize it as scheduled\, a group of minimum 6 candidates is required.
URL:https://aviationinstitute.eu/calendar-evenimente/m17-examination-only-english-5/
LOCATION:Romanian Aeronautical Association – Bucharest\, Biharia 44\, Bucharest\, Romania
CATEGORIES:EASA Part 66 Modules EXAMINATIONS - BUCHAREST
END:VEVENT
BEGIN:VEVENT
DTSTART;TZID=Europe/Helsinki:20240410T160000
DTEND;TZID=Europe/Helsinki:20240410T175500
DTSTAMP:20260424T164006
CREATED:20240106T140305Z
LAST-MODIFIED:20240312T094056Z
UID:3842-1712764800-1712771700@aviationinstitute.eu
SUMMARY:M15 Examination – *All modules in 1 week
DESCRIPTION:M15 – Gas turbine engine \n*All modules in 1 Week” examination session is mainly tailored for foreign students. In order to organize it as scheduled\, a group of minimum 6 candidates is required. \n 
URL:https://aviationinstitute.eu/calendar-evenimente/m15-examination-only-english-6/
LOCATION:Romanian Aeronautical Association – Bucharest\, Biharia 44\, Bucharest\, Romania
CATEGORIES:EASA Part 66 Modules EXAMINATIONS - BUCHAREST
END:VEVENT
BEGIN:VEVENT
DTSTART;TZID=Europe/Helsinki:20240410T180500
DTEND;TZID=Europe/Helsinki:20240410T193500
DTSTAMP:20260424T164006
CREATED:20240106T140448Z
LAST-MODIFIED:20240312T094121Z
UID:3844-1712772300-1712777700@aviationinstitute.eu
SUMMARY:M16 Examination – *All modules in 1 week
DESCRIPTION:M16 – Piston engine \n*All modules in 1 Week” examination session is mainly tailored for foreign students. In order to organize it as scheduled\, a group of minimum 6 candidates is required.
URL:https://aviationinstitute.eu/calendar-evenimente/m16-examination-only-english-3/
LOCATION:Romanian Aeronautical Association – Bucharest\, Biharia 44\, Bucharest\, Romania
CATEGORIES:EASA Part 66 Modules EXAMINATIONS - BUCHAREST
END:VEVENT
BEGIN:VEVENT
DTSTART;TZID=Europe/Helsinki:20240411T160000
DTEND;TZID=Europe/Helsinki:20240411T185500
DTSTAMP:20260424T164006
CREATED:20240106T140619Z
LAST-MODIFIED:20240312T093922Z
UID:3846-1712851200-1712861700@aviationinstitute.eu
SUMMARY:M11A Examination – *All modules in 1 week
DESCRIPTION:M11 – Aeroplane aerodynamics\, structures and systems \n*All modules in 1 Week” examination session is mainly tailored for foreign students. In order to organize it as scheduled\, a group of minimum 6 candidates is required.
URL:https://aviationinstitute.eu/calendar-evenimente/m11a-examination-only-english-4/
LOCATION:Romanian Aeronautical Association – Bucharest\, Biharia 44\, Bucharest\, Romania
CATEGORIES:EASA Part 66 Modules EXAMINATIONS - BUCHAREST
END:VEVENT
BEGIN:VEVENT
DTSTART;TZID=Europe/Helsinki:20240411T160000
DTEND;TZID=Europe/Helsinki:20240411T194500
DTSTAMP:20260424T164006
CREATED:20240106T140734Z
LAST-MODIFIED:20240312T093958Z
UID:3848-1712851200-1712864700@aviationinstitute.eu
SUMMARY:M13 Examination – *All modules in 1 week
DESCRIPTION:M13 – Aircraft aerodynamics\, structures and systems \n*All modules in 1 Week” examination session is mainly tailored for foreign students. In order to organize it as scheduled\, a group of minimum 6 candidates is required.
URL:https://aviationinstitute.eu/calendar-evenimente/m13-examination-only-english-3/
LOCATION:Romanian Aeronautical Association – Bucharest\, Biharia 44\, Bucharest\, Romania
CATEGORIES:EASA Part 66 Modules EXAMINATIONS - BUCHAREST
END:VEVENT
BEGIN:VEVENT
DTSTART;TZID=Europe/Helsinki:20240412T160000
DTEND;TZID=Europe/Helsinki:20240412T162500
DTSTAMP:20260424T164006
CREATED:20240106T135754Z
LAST-MODIFIED:20240320T081732Z
UID:3834-1712937600-1712939100@aviationinstitute.eu
SUMMARY:M9A MCQ Examination – *All modules in 1 week
DESCRIPTION:M9 – Human Factors \n*All modules in 1 Week” examination session is mainly tailored for foreign students. In order to organize it as scheduled\, a group of minimum 6 candidates is required.
URL:https://aviationinstitute.eu/calendar-evenimente/m9a-mcq-examination-only-english-4/
LOCATION:Romanian Aeronautical Association – Bucharest\, Biharia 44\, Bucharest\, Romania
CATEGORIES:EASA Part 66 Modules EXAMINATIONS - BUCHAREST
END:VEVENT
BEGIN:VEVENT
DTSTART;TZID=Europe/Helsinki:20240412T164000
DTEND;TZID=Europe/Helsinki:20240412T170000
DTSTAMP:20260424T164006
CREATED:20240106T135911Z
LAST-MODIFIED:20240320T081703Z
UID:3836-1712940000-1712941200@aviationinstitute.eu
SUMMARY:M9A Essay 1 Examination – *All modules in 1 week
DESCRIPTION:M9 – Human Factors \n*All modules in 1 Week” examination session is mainly tailored for foreign students. In order to organize it as scheduled\, a group of minimum 6 candidates is required.
URL:https://aviationinstitute.eu/calendar-evenimente/m9a-essay-1-examination-only-english-3/
LOCATION:Romanian Aeronautical Association – Bucharest\, Biharia 44\, Bucharest\, Romania
CATEGORIES:EASA Part 66 Modules EXAMINATIONS - BUCHAREST
END:VEVENT
BEGIN:VEVENT
DTSTART;TZID=Europe/Helsinki:20240412T171000
DTEND;TZID=Europe/Helsinki:20240412T180000
DTSTAMP:20260424T164006
CREATED:20240106T140023Z
LAST-MODIFIED:20240320T081821Z
UID:3838-1712941800-1712944800@aviationinstitute.eu
SUMMARY:M10 MCQ Examination – *All modules in 1 week
DESCRIPTION:M10 – Aviation Legislation \n*All modules in 1 Week” examination session is mainly tailored for foreign students. In order to organize it as scheduled\, a group of minimum 6 candidates is required.
URL:https://aviationinstitute.eu/calendar-evenimente/m10-mcq-examination-only-english-7/
LOCATION:Romanian Aeronautical Association – Bucharest\, Biharia 44\, Bucharest\, Romania
CATEGORIES:EASA Part 66 Modules EXAMINATIONS - BUCHAREST
END:VEVENT
BEGIN:VEVENT
DTSTART;TZID=Europe/Helsinki:20240412T181000
DTEND;TZID=Europe/Helsinki:20240412T183000
DTSTAMP:20260424T164006
CREATED:20240106T140116Z
LAST-MODIFIED:20240320T081759Z
UID:3840-1712945400-1712946600@aviationinstitute.eu
SUMMARY:M10 Essay 1 Examination – *All modules in 1 week
DESCRIPTION:M10 – Aviation Legislation \n*All modules in 1 Week” examination session is mainly tailored for foreign students. In order to organize it as scheduled\, a group of minimum 6 candidates is required.
URL:https://aviationinstitute.eu/calendar-evenimente/m10-essay-1-examination-only-english-3/
LOCATION:Romanian Aeronautical Association – Bucharest\, Biharia 44\, Bucharest\, Romania
CATEGORIES:EASA Part 66 Modules EXAMINATIONS - BUCHAREST
END:VEVENT
BEGIN:VEVENT
DTSTART;TZID=Europe/Helsinki:20240415T160000
DTEND;TZID=Europe/Helsinki:20240415T170500
DTSTAMP:20260424T164006
CREATED:20240106T141134Z
LAST-MODIFIED:20240312T093321Z
UID:3854-1713196800-1713200700@aviationinstitute.eu
SUMMARY:M3 Examination – *All modules in 1 week
DESCRIPTION:M3 – Electrical fundamentals \n*All modules in 1 Week” examination session is mainly tailored for foreign students. In order to organize it as scheduled\, a group of minimum 6 candidates is required.
URL:https://aviationinstitute.eu/calendar-evenimente/m3-examination-only-english-7/
LOCATION:Romanian Aeronautical Association – Bucharest\, Biharia 44\, Bucharest\, Romania
CATEGORIES:EASA Part 66 Modules EXAMINATIONS - BUCHAREST
END:VEVENT
BEGIN:VEVENT
DTSTART;TZID=Europe/Helsinki:20240415T171500
DTEND;TZID=Europe/Helsinki:20240415T180500
DTSTAMP:20260424T164006
CREATED:20240106T141251Z
LAST-MODIFIED:20240312T093252Z
UID:3856-1713201300-1713204300@aviationinstitute.eu
SUMMARY:M4 Examination – *All modules in 1 week
DESCRIPTION:M4 – Electronic fundamentals \n*All modules in 1 Week” examination session is mainly tailored for foreign students. In order to organize it as scheduled\, a group of minimum 6 candidates is required.
URL:https://aviationinstitute.eu/calendar-evenimente/m4-examination-only-english-7/
LOCATION:Romanian Aeronautical Association – Bucharest\, Biharia 44\, Bucharest\, Romania
CATEGORIES:EASA Part 66 Modules EXAMINATIONS - BUCHAREST
END:VEVENT
BEGIN:VEVENT
DTSTART;TZID=Europe/Helsinki:20240415T181500
DTEND;TZID=Europe/Helsinki:20240415T194500
DTSTAMP:20260424T164006
CREATED:20240106T141407Z
LAST-MODIFIED:20240312T093207Z
UID:3858-1713204900-1713210300@aviationinstitute.eu
SUMMARY:M5 Examination – *All modules in 1 week
DESCRIPTION:M5 – Digital techniques/ Electronic instrument systems \n*All modules in 1 Week” examination session is mainly tailored for foreign students. In order to organize it as scheduled\, a group of minimum 6 candidates is required.
URL:https://aviationinstitute.eu/calendar-evenimente/m5-examination-only-english-7/
LOCATION:Romanian Aeronautical Association – Bucharest\, Biharia 44\, Bucharest\, Romania
CATEGORIES:EASA Part 66 Modules EXAMINATIONS - BUCHAREST
END:VEVENT
BEGIN:VEVENT
DTSTART;TZID=Europe/Helsinki:20240416T160000
DTEND;TZID=Europe/Helsinki:20240416T174000
DTSTAMP:20260424T164006
CREATED:20240106T141604Z
LAST-MODIFIED:20240312T093621Z
UID:3860-1713283200-1713289200@aviationinstitute.eu
SUMMARY:M7 MCQ Examination – *All modules in 1 week
DESCRIPTION:M7 – Maintenance practices \n*All modules in 1 Week” examination session is mainly tailored for foreign students. In order to organize it as scheduled\, a group of minimum 6 candidates is required.
URL:https://aviationinstitute.eu/calendar-evenimente/m7-mcq-examination-only-english-7/
LOCATION:Romanian Aeronautical Association – Bucharest\, Biharia 44\, Bucharest\, Romania
CATEGORIES:EASA Part 66 Modules EXAMINATIONS - BUCHAREST
END:VEVENT
BEGIN:VEVENT
DTSTART;TZID=Europe/Helsinki:20240416T175000
DTEND;TZID=Europe/Helsinki:20240416T181000
DTSTAMP:20260424T164006
CREATED:20240106T141701Z
LAST-MODIFIED:20240312T093545Z
UID:3862-1713289800-1713291000@aviationinstitute.eu
SUMMARY:M7 Essay 1 Examination – *All modules in 1 week
DESCRIPTION:M7 – Maintenance practices \n*All modules in 1 Week” examination session is mainly tailored for foreign students. In order to organize it as scheduled\, a group of minimum 6 candidates is required.
URL:https://aviationinstitute.eu/calendar-evenimente/m7-essay-1-examination-only-english-4/
LOCATION:Romanian Aeronautical Association – Bucharest\, Biharia 44\, Bucharest\, Romania
CATEGORIES:EASA Part 66 Modules EXAMINATIONS - BUCHAREST
END:VEVENT
BEGIN:VEVENT
DTSTART;TZID=Europe/Helsinki:20240416T182000
DTEND;TZID=Europe/Helsinki:20240416T184000
DTSTAMP:20260424T164006
CREATED:20240106T141759Z
LAST-MODIFIED:20240312T094704Z
UID:3864-1713291600-1713292800@aviationinstitute.eu
SUMMARY:M7 Essay 2 Examination – *All modules in 1 week
DESCRIPTION:M7 – Maintenance practices \n*All modules in 1 Week” examination session is mainly tailored for foreign students. In order to organize it as scheduled\, a group of minimum 6 candidates is required.
URL:https://aviationinstitute.eu/calendar-evenimente/m7-essay-2-examination-only-english-4/
LOCATION:Romanian Aeronautical Association – Bucharest\, Biharia 44\, Bucharest\, Romania
CATEGORIES:EASA Part 66 Modules EXAMINATIONS - BUCHAREST
END:VEVENT
BEGIN:VEVENT
DTSTART;TZID=Europe/Helsinki:20240517T160000
DTEND;TZID=Europe/Helsinki:20240517T173000
DTSTAMP:20260424T164006
CREATED:20240106T130438Z
LAST-MODIFIED:20240106T130438Z
UID:3772-1715961600-1715967000@aviationinstitute.eu
SUMMARY:M6 Examination
DESCRIPTION:M6 – Materials and hardware
URL:https://aviationinstitute.eu/calendar-evenimente/m6-examination-27/
LOCATION:Romanian Aeronautical Association – Bucharest\, Biharia 44\, Bucharest\, Romania
CATEGORIES:EASA Part 66 Modules EXAMINATIONS - BUCHAREST
END:VEVENT
BEGIN:VEVENT
DTSTART;TZID=Europe/Helsinki:20240517T174000
DTEND;TZID=Europe/Helsinki:20240517T180500
DTSTAMP:20260424T164006
CREATED:20240106T130538Z
LAST-MODIFIED:20240106T130538Z
UID:3774-1715967600-1715969100@aviationinstitute.eu
SUMMARY:M8 Examination
DESCRIPTION:M8 – Basic aerodynamics
URL:https://aviationinstitute.eu/calendar-evenimente/m8-examination-19/
LOCATION:Romanian Aeronautical Association – Bucharest\, Biharia 44\, Bucharest\, Romania
CATEGORIES:EASA Part 66 Modules EXAMINATIONS - BUCHAREST
END:VEVENT
BEGIN:VEVENT
DTSTART;TZID=Europe/Helsinki:20240520T160000
DTEND;TZID=Europe/Helsinki:20240520T174000
DTSTAMP:20260424T164006
CREATED:20240106T130700Z
LAST-MODIFIED:20240106T130700Z
UID:3776-1716220800-1716226800@aviationinstitute.eu
SUMMARY:M7 MCQ Examination
DESCRIPTION:M7 – Maintenance practices
URL:https://aviationinstitute.eu/calendar-evenimente/m7-mcq-examination-20/
LOCATION:Romanian Aeronautical Association – Bucharest\, Biharia 44\, Bucharest\, Romania
CATEGORIES:EASA Part 66 Modules EXAMINATIONS - BUCHAREST
END:VEVENT
BEGIN:VEVENT
DTSTART;TZID=Europe/Helsinki:20240520T175000
DTEND;TZID=Europe/Helsinki:20240520T181000
DTSTAMP:20260424T164006
CREATED:20240106T130750Z
LAST-MODIFIED:20240106T130750Z
UID:3778-1716227400-1716228600@aviationinstitute.eu
SUMMARY:M7 Essay 1 Examination
DESCRIPTION:M7 – Maintenance practices
URL:https://aviationinstitute.eu/calendar-evenimente/m7-essay-1-examination-22/
LOCATION:Romanian Aeronautical Association – Bucharest\, Biharia 44\, Bucharest\, Romania
CATEGORIES:EASA Part 66 Modules EXAMINATIONS - BUCHAREST
END:VEVENT
BEGIN:VEVENT
DTSTART;TZID=Europe/Helsinki:20240520T182000
DTEND;TZID=Europe/Helsinki:20240520T184000
DTSTAMP:20260424T164006
CREATED:20240106T130853Z
LAST-MODIFIED:20240106T130853Z
UID:3780-1716229200-1716230400@aviationinstitute.eu
SUMMARY:M7 Essay 2 Examination
DESCRIPTION:M7 – Maintenance practices \n 
URL:https://aviationinstitute.eu/calendar-evenimente/m7-essay-2-examination-20/
LOCATION:Romanian Aeronautical Association – Bucharest\, Biharia 44\, Bucharest\, Romania
CATEGORIES:EASA Part 66 Modules EXAMINATIONS - BUCHAREST
END:VEVENT
BEGIN:VEVENT
DTSTART;TZID=Europe/Helsinki:20240715T160000
DTEND;TZID=Europe/Helsinki:20240715T163000
DTSTAMP:20260424T164006
CREATED:20240106T132727Z
LAST-MODIFIED:20240106T132727Z
UID:3790-1721059200-1721061000@aviationinstitute.eu
SUMMARY:M14 Examination
DESCRIPTION:M14 – Propulsion
URL:https://aviationinstitute.eu/calendar-evenimente/m14-examination-14/
LOCATION:Romanian Aeronautical Association – Bucharest\, Biharia 44\, Bucharest\, Romania
CATEGORIES:EASA Part 66 Modules EXAMINATIONS - BUCHAREST
END:VEVENT
BEGIN:VEVENT
DTSTART;TZID=Europe/Helsinki:20240715T160000
DTEND;TZID=Europe/Helsinki:20240715T164000
DTSTAMP:20260424T164006
CREATED:20240106T132829Z
LAST-MODIFIED:20240705T124909Z
UID:3792-1721059200-1721061600@aviationinstitute.eu
SUMMARY:M17:Examination – Propeller
DESCRIPTION:
URL:https://aviationinstitute.eu/calendar-evenimente/m17-examination-18/
LOCATION:Romanian Aeronautical Association – Bucharest\, Biharia 44\, Bucharest\, Romania
CATEGORIES:EASA Part 66 Modules EXAMINATIONS - BUCHAREST
END:VEVENT
BEGIN:VEVENT
DTSTART;TZID=Europe/Helsinki:20240802T160000
DTEND;TZID=Europe/Helsinki:20240802T185500
DTSTAMP:20260424T164006
CREATED:20240106T132945Z
LAST-MODIFIED:20240106T132945Z
UID:3794-1722614400-1722624900@aviationinstitute.eu
SUMMARY:M11A Examination
DESCRIPTION:M11 – Aeroplane aerodynamics\, structures and systems
URL:https://aviationinstitute.eu/calendar-evenimente/m11a-examination-10/
LOCATION:Romanian Aeronautical Association – Bucharest\, Biharia 44\, Bucharest\, Romania
CATEGORIES:EASA Part 66 Modules EXAMINATIONS - BUCHAREST
END:VEVENT
BEGIN:VEVENT
DTSTART;TZID=Europe/Helsinki:20240802T160000
DTEND;TZID=Europe/Helsinki:20240802T195500
DTSTAMP:20260424T164006
CREATED:20240106T133047Z
LAST-MODIFIED:20240710T205157Z
UID:3796-1722614400-1722628500@aviationinstitute.eu
SUMMARY:M13 Examination
DESCRIPTION:M13 – Aircraft aerodynamics\, structures and systems
URL:https://aviationinstitute.eu/calendar-evenimente/m13-examination-13/
LOCATION:Romanian Aeronautical Association – Bucharest\, Biharia 44\, Bucharest\, Romania
CATEGORIES:EASA Part 66 Modules EXAMINATIONS - BUCHAREST
END:VEVENT
BEGIN:VEVENT
DTSTART;TZID=Europe/Helsinki:20240814T160000
DTEND;TZID=Europe/Helsinki:20240814T163500
DTSTAMP:20260424T164006
CREATED:20240106T132257Z
LAST-MODIFIED:20240717T104108Z
UID:3782-1723651200-1723653300@aviationinstitute.eu
SUMMARY:M9A Examination
DESCRIPTION:M9 – Human Factors
URL:https://aviationinstitute.eu/calendar-evenimente/m9a-mcq-examination-10/
LOCATION:Romanian Aeronautical Association – Bucharest\, Biharia 44\, Bucharest\, Romania
CATEGORIES:EASA Part 66 Modules EXAMINATIONS - BUCHAREST
END:VEVENT
BEGIN:VEVENT
DTSTART;TZID=Europe/Helsinki:20240814T160000
DTEND;TZID=Europe/Helsinki:20240814T175500
DTSTAMP:20260424T164006
CREATED:20240717T104403Z
LAST-MODIFIED:20240717T104516Z
UID:5604-1723651200-1723658100@aviationinstitute.eu
SUMMARY:M15 Examination
DESCRIPTION:M15 – Gas turbine engine
URL:https://aviationinstitute.eu/calendar-evenimente/m15-examination-17/
LOCATION:Romanian Aeronautical Association – Bucharest\, Biharia 44\, Bucharest\, Romania
CATEGORIES:EASA Part 66 Modules EXAMINATIONS - BUCHAREST
END:VEVENT
END:VCALENDAR