BEGIN:VCALENDAR
VERSION:2.0
PRODID:-//European Aviation Institute - ECPv6.15.20//NONSGML v1.0//EN
CALSCALE:GREGORIAN
METHOD:PUBLISH
X-WR-CALNAME:European Aviation Institute
X-ORIGINAL-URL:https://aviationinstitute.eu
X-WR-CALDESC:Events for European Aviation Institute
REFRESH-INTERVAL;VALUE=DURATION:PT1H
X-Robots-Tag:noindex
X-PUBLISHED-TTL:PT1H
BEGIN:VTIMEZONE
TZID:Europe/Helsinki
BEGIN:DAYLIGHT
TZOFFSETFROM:+0200
TZOFFSETTO:+0300
TZNAME:EEST
DTSTART:20220327T010000
END:DAYLIGHT
BEGIN:STANDARD
TZOFFSETFROM:+0300
TZOFFSETTO:+0200
TZNAME:EET
DTSTART:20221030T010000
END:STANDARD
BEGIN:DAYLIGHT
TZOFFSETFROM:+0200
TZOFFSETTO:+0300
TZNAME:EEST
DTSTART:20230326T010000
END:DAYLIGHT
BEGIN:STANDARD
TZOFFSETFROM:+0300
TZOFFSETTO:+0200
TZNAME:EET
DTSTART:20231029T010000
END:STANDARD
BEGIN:DAYLIGHT
TZOFFSETFROM:+0200
TZOFFSETTO:+0300
TZNAME:EEST
DTSTART:20240331T010000
END:DAYLIGHT
BEGIN:STANDARD
TZOFFSETFROM:+0300
TZOFFSETTO:+0200
TZNAME:EET
DTSTART:20241027T010000
END:STANDARD
END:VTIMEZONE
BEGIN:VEVENT
DTSTART;TZID=Europe/Helsinki:20230821T181000
DTEND;TZID=Europe/Helsinki:20230821T194000
DTSTAMP:20260425T184224
CREATED:20230112T204936Z
LAST-MODIFIED:20230112T204936Z
UID:3593-1692641400-1692646800@aviationinstitute.eu
SUMMARY:M16 Examination
DESCRIPTION:M16 – Piston engine
URL:https://aviationinstitute.eu/calendar-evenimente/m16-examination-8/
LOCATION:Romanian Aeronautical Association – Bucharest\, Biharia 44\, Bucharest\, Romania
CATEGORIES:EASA Part 66 Modules EXAMINATIONS - BUCHAREST
END:VEVENT
BEGIN:VEVENT
DTSTART;TZID=Europe/Helsinki:20230918T160000
DTEND;TZID=Europe/Helsinki:20230918T185500
DTSTAMP:20260425T184224
CREATED:20230113T202210Z
LAST-MODIFIED:20230113T202210Z
UID:3675-1695052800-1695063300@aviationinstitute.eu
SUMMARY:M11A Examination – Only English*
DESCRIPTION:M11 – Aeroplane aerodynamics\, structures and systems \n*Only English Session is a special type of session tailored for foreign students. In order to organize it as scheduled\, at least 1 foreign student OR a minimum group of 6 Romanian students have to participate.
URL:https://aviationinstitute.eu/calendar-evenimente/m11a-examination-only-english-3/
LOCATION:Romanian Aeronautical Association – Bucharest\, Biharia 44\, Bucharest\, Romania
CATEGORIES:EASA Part 66 Modules EXAMINATIONS - BUCHAREST
END:VEVENT
BEGIN:VEVENT
DTSTART;TZID=Europe/Helsinki:20230918T160000
DTEND;TZID=Europe/Helsinki:20230918T194500
DTSTAMP:20260425T184224
CREATED:20230113T202418Z
LAST-MODIFIED:20230113T202455Z
UID:3677-1695052800-1695066300@aviationinstitute.eu
SUMMARY:M13 Examination – Only English*
DESCRIPTION:M13 – Aircraft aerodynamics\, structures and systems \n*Only English Session is a special type of session tailored for foreign students. In order to organize it as scheduled\, at least 1 foreign student OR a minimum group of 6 Romanian students have to participate.
URL:https://aviationinstitute.eu/calendar-evenimente/m13-examination-11/
LOCATION:Romanian Aeronautical Association – Bucharest\, Biharia 44\, Bucharest\, Romania
CATEGORIES:EASA Part 66 Modules EXAMINATIONS - BUCHAREST
END:VEVENT
BEGIN:VEVENT
DTSTART;TZID=Europe/Helsinki:20230919T160000
DTEND;TZID=Europe/Helsinki:20230919T173000
DTSTAMP:20260425T184224
CREATED:20230113T202834Z
LAST-MODIFIED:20230113T202834Z
UID:3680-1695139200-1695144600@aviationinstitute.eu
SUMMARY:M6 Examination – Only English*
DESCRIPTION:M6 – Materials and hardware \n*Only English Session is a special type of session tailored for foreign students. In order to organize it as scheduled\, at least 1 foreign student OR a minimum group of 6 Romanian students have to participate.
URL:https://aviationinstitute.eu/calendar-evenimente/m6-examination-only-english-4/
LOCATION:Romanian Aeronautical Association – Bucharest\, Biharia 44\, Bucharest\, Romania
CATEGORIES:EASA Part 66 Modules EXAMINATIONS - BUCHAREST
END:VEVENT
BEGIN:VEVENT
DTSTART;TZID=Europe/Helsinki:20230919T174000
DTEND;TZID=Europe/Helsinki:20230919T180500
DTSTAMP:20260425T184224
CREATED:20230113T203036Z
LAST-MODIFIED:20230113T203036Z
UID:3682-1695145200-1695146700@aviationinstitute.eu
SUMMARY:M8 Examination – Only English*
DESCRIPTION:M8 – Basic aerodynamics \n*Only English Session is a special type of session tailored for foreign students. In order to organize it as scheduled\, at least 1 foreign student OR a minimum group of 6 Romanian students have to participate.
URL:https://aviationinstitute.eu/calendar-evenimente/m8-examination-only-english-5/
LOCATION:Romanian Aeronautical Association – Bucharest\, Biharia 44\, Bucharest\, Romania
CATEGORIES:EASA Part 66 Modules EXAMINATIONS - BUCHAREST
END:VEVENT
BEGIN:VEVENT
DTSTART;TZID=Europe/Helsinki:20230919T182000
DTEND;TZID=Europe/Helsinki:20230919T190000
DTSTAMP:20260425T184224
CREATED:20230113T203238Z
LAST-MODIFIED:20230113T203238Z
UID:3684-1695147600-1695150000@aviationinstitute.eu
SUMMARY:M1 Examination – Only English*
DESCRIPTION:M1 – Mathematics \n*Only English Session is a special type of session tailored for foreign students. In order to organize it as scheduled\, at least 1 foreign student OR a minimum group of 6 Romanian students have to participate.
URL:https://aviationinstitute.eu/calendar-evenimente/m1-examination-only-english-6/
LOCATION:Romanian Aeronautical Association – Bucharest\, Biharia 44\, Bucharest\, Romania
CATEGORIES:EASA Part 66 Modules EXAMINATIONS - BUCHAREST
END:VEVENT
BEGIN:VEVENT
DTSTART;TZID=Europe/Helsinki:20230919T191000
DTEND;TZID=Europe/Helsinki:20230919T201500
DTSTAMP:20260425T184224
CREATED:20230113T203415Z
LAST-MODIFIED:20230113T203415Z
UID:3686-1695150600-1695154500@aviationinstitute.eu
SUMMARY:M2 Examination – Only English*
DESCRIPTION:M2 – Physics \n*Only English Session is a special type of session tailored for foreign students. In order to organize it as scheduled\, at least 1 foreign student OR a minimum group of 6 Romanian students have to participate.
URL:https://aviationinstitute.eu/calendar-evenimente/m2-examination-only-english-6/
LOCATION:Romanian Aeronautical Association – Bucharest\, Biharia 44\, Bucharest\, Romania
CATEGORIES:EASA Part 66 Modules EXAMINATIONS - BUCHAREST
END:VEVENT
BEGIN:VEVENT
DTSTART;TZID=Europe/Helsinki:20230920T160000
DTEND;TZID=Europe/Helsinki:20230920T174000
DTSTAMP:20260425T184224
CREATED:20230113T203534Z
LAST-MODIFIED:20230113T203534Z
UID:3688-1695225600-1695231600@aviationinstitute.eu
SUMMARY:M7 MCQ Examination – Only English*
DESCRIPTION:M7 – Maintenance practices \n*Only English Session is a special type of session tailored for foreign students. In order to organize it as scheduled\, at least 1 foreign student OR a minimum group of 6 Romanian students have to participate.
URL:https://aviationinstitute.eu/calendar-evenimente/m7-mcq-examination-only-english-6/
LOCATION:Romanian Aeronautical Association – Bucharest\, Biharia 44\, Bucharest\, Romania
CATEGORIES:EASA Part 66 Modules EXAMINATIONS - BUCHAREST
END:VEVENT
BEGIN:VEVENT
DTSTART;TZID=Europe/Helsinki:20230920T175000
DTEND;TZID=Europe/Helsinki:20230920T181000
DTSTAMP:20260425T184224
CREATED:20230113T203722Z
LAST-MODIFIED:20230113T203722Z
UID:3690-1695232200-1695233400@aviationinstitute.eu
SUMMARY:M7 Essay 1 Examination – Only English*
DESCRIPTION:M7 – Maintenance practices \n*Only English Session is a special type of session tailored for foreign students. In order to organize it as scheduled\, at least 1 foreign student OR a minimum group of 6 Romanian students have to participate.
URL:https://aviationinstitute.eu/calendar-evenimente/m7-essay-1-examination-only-english-3/
LOCATION:Romanian Aeronautical Association – Bucharest\, Biharia 44\, Bucharest\, Romania
CATEGORIES:EASA Part 66 Modules EXAMINATIONS - BUCHAREST
END:VEVENT
BEGIN:VEVENT
DTSTART;TZID=Europe/Helsinki:20230920T182000
DTEND;TZID=Europe/Helsinki:20230920T184000
DTSTAMP:20260425T184224
CREATED:20230113T203944Z
LAST-MODIFIED:20230113T203944Z
UID:3692-1695234000-1695235200@aviationinstitute.eu
SUMMARY:M7 Essay 2 Examination – Only English*
DESCRIPTION:M7 – Maintenance practices \n*Only English Session is a special type of session tailored for foreign students. In order to organize it as scheduled\, at least 1 foreign student OR a minimum group of 6 Romanian students have to participate.
URL:https://aviationinstitute.eu/calendar-evenimente/m7-essay-2-examination-only-english-3/
LOCATION:Romanian Aeronautical Association – Bucharest\, Biharia 44\, Bucharest\, Romania
CATEGORIES:EASA Part 66 Modules EXAMINATIONS - BUCHAREST
END:VEVENT
BEGIN:VEVENT
DTSTART;TZID=Europe/Helsinki:20230921T160000
DTEND;TZID=Europe/Helsinki:20230921T170500
DTSTAMP:20260425T184224
CREATED:20230113T204205Z
LAST-MODIFIED:20230113T204205Z
UID:3694-1695312000-1695315900@aviationinstitute.eu
SUMMARY:M3 Examination – Only English*
DESCRIPTION:M3 – Electrical fundamentals \n*Only English Session is a special type of session tailored for foreign students. In order to organize it as scheduled\, at least 1 foreign student OR a minimum group of 6 Romanian students have to participate.
URL:https://aviationinstitute.eu/calendar-evenimente/m3-examination-only-english-6/
LOCATION:Romanian Aeronautical Association – Bucharest\, Biharia 44\, Bucharest\, Romania
CATEGORIES:EASA Part 66 Modules EXAMINATIONS - BUCHAREST
END:VEVENT
BEGIN:VEVENT
DTSTART;TZID=Europe/Helsinki:20230921T171500
DTEND;TZID=Europe/Helsinki:20230921T180500
DTSTAMP:20260425T184224
CREATED:20230113T204338Z
LAST-MODIFIED:20230113T204338Z
UID:3696-1695316500-1695319500@aviationinstitute.eu
SUMMARY:M4 Examination – Only English*
DESCRIPTION:M4 – Electronic fundamentals \n*Only English Session is a special type of session tailored for foreign students. In order to organize it as scheduled\, at least 1 foreign student OR a minimum group of 6 Romanian students have to participate.
URL:https://aviationinstitute.eu/calendar-evenimente/m4-examination-only-english-6/
LOCATION:Romanian Aeronautical Association – Bucharest\, Biharia 44\, Bucharest\, Romania
CATEGORIES:EASA Part 66 Modules EXAMINATIONS - BUCHAREST
END:VEVENT
BEGIN:VEVENT
DTSTART;TZID=Europe/Helsinki:20230921T181500
DTEND;TZID=Europe/Helsinki:20230921T194500
DTSTAMP:20260425T184224
CREATED:20230113T204506Z
LAST-MODIFIED:20230113T204506Z
UID:3698-1695320100-1695325500@aviationinstitute.eu
SUMMARY:M5 Examination – Only English*
DESCRIPTION:M5 – Digital techniques/ Electronic instrument systems \n*Only English Session is a special type of session tailored for foreign students. In order to organize it as scheduled\, at least 1 foreign student OR a minimum group of 6 Romanian students have to participate.
URL:https://aviationinstitute.eu/calendar-evenimente/m5-examination-only-english-6/
LOCATION:Romanian Aeronautical Association – Bucharest\, Biharia 44\, Bucharest\, Romania
CATEGORIES:EASA Part 66 Modules EXAMINATIONS - BUCHAREST
END:VEVENT
BEGIN:VEVENT
DTSTART;TZID=Europe/Helsinki:20230922T160000
DTEND;TZID=Europe/Helsinki:20230922T175500
DTSTAMP:20260425T184224
CREATED:20230113T204719Z
LAST-MODIFIED:20230113T204719Z
UID:3700-1695398400-1695405300@aviationinstitute.eu
SUMMARY:M15 Examination – Only English*
DESCRIPTION:M15 – Gas turbine engine \n*Only English Session is a special type of session tailored for foreign students. In order to organize it as scheduled\, at least 1 foreign student OR a minimum group of 6 Romanian students have to participate.
URL:https://aviationinstitute.eu/calendar-evenimente/m15-examination-only-english-5/
LOCATION:Romanian Aeronautical Association – Bucharest\, Biharia 44\, Bucharest\, Romania
CATEGORIES:EASA Part 66 Modules EXAMINATIONS - BUCHAREST
END:VEVENT
BEGIN:VEVENT
DTSTART;TZID=Europe/Helsinki:20230922T180500
DTEND;TZID=Europe/Helsinki:20230922T193500
DTSTAMP:20260425T184224
CREATED:20230113T204909Z
LAST-MODIFIED:20230113T204909Z
UID:3702-1695405900-1695411300@aviationinstitute.eu
SUMMARY:M16 Examination – Only English*
DESCRIPTION:M16 – Piston engine \n*Only English Session is a special type of session tailored for foreign students. In order to organize it as scheduled\, at least 1 foreign student OR a minimum group of 6 Romanian students have to participate.
URL:https://aviationinstitute.eu/calendar-evenimente/m16-examination-only-english-2/
LOCATION:Romanian Aeronautical Association – Bucharest\, Biharia 44\, Bucharest\, Romania
CATEGORIES:EASA Part 66 Modules EXAMINATIONS - BUCHAREST
END:VEVENT
BEGIN:VEVENT
DTSTART;TZID=Europe/Helsinki:20230925T160000
DTEND;TZID=Europe/Helsinki:20230925T162500
DTSTAMP:20260425T184224
CREATED:20230113T205051Z
LAST-MODIFIED:20230113T205051Z
UID:3704-1695657600-1695659100@aviationinstitute.eu
SUMMARY:M9A MCQ Examination – Only English*
DESCRIPTION:M9 – Human Factors \n*Only English Session is a special type of session tailored for foreign students. In order to organize it as scheduled\, at least 1 foreign student OR a minimum group of 6 Romanian students have to participate.
URL:https://aviationinstitute.eu/calendar-evenimente/m9a-mcq-examination-only-english-3/
LOCATION:Romanian Aeronautical Association – Bucharest\, Biharia 44\, Bucharest\, Romania
CATEGORIES:EASA Part 66 Modules EXAMINATIONS - BUCHAREST
END:VEVENT
BEGIN:VEVENT
DTSTART;TZID=Europe/Helsinki:20230925T164000
DTEND;TZID=Europe/Helsinki:20230925T170000
DTSTAMP:20260425T184224
CREATED:20230113T205235Z
LAST-MODIFIED:20230113T205247Z
UID:3706-1695660000-1695661200@aviationinstitute.eu
SUMMARY:M9A Essay 1 Examination – Only English*
DESCRIPTION:M9 – Human Factors \n*Only English Session is a special type of session tailored for foreign students. In order to organize it as scheduled\, at least 1 foreign student OR a minimum group of 6 Romanian students have to participate.
URL:https://aviationinstitute.eu/calendar-evenimente/m9a-essay-1-examination-only-english-2/
LOCATION:Romanian Aeronautical Association – Bucharest\, Biharia 44\, Bucharest\, Romania
CATEGORIES:EASA Part 66 Modules EXAMINATIONS - BUCHAREST
END:VEVENT
BEGIN:VEVENT
DTSTART;TZID=Europe/Helsinki:20230925T171000
DTEND;TZID=Europe/Helsinki:20230925T180000
DTSTAMP:20260425T184224
CREATED:20230113T205426Z
LAST-MODIFIED:20230113T205426Z
UID:3709-1695661800-1695664800@aviationinstitute.eu
SUMMARY:M10 MCQ Examination – Only English*
DESCRIPTION:M10 – Aviation Legislation \n*Only English Session is a special type of session tailored for foreign students. In order to organize it as scheduled\, at least 1 foreign student OR a minimum group of 6 Romanian students have to participate.
URL:https://aviationinstitute.eu/calendar-evenimente/m10-mcq-examination-only-english-6/
LOCATION:Romanian Aeronautical Association – Bucharest\, Biharia 44\, Bucharest\, Romania
CATEGORIES:EASA Part 66 Modules EXAMINATIONS - BUCHAREST
END:VEVENT
BEGIN:VEVENT
DTSTART;TZID=Europe/Helsinki:20230925T181000
DTEND;TZID=Europe/Helsinki:20230925T183000
DTSTAMP:20260425T184224
CREATED:20230113T205603Z
LAST-MODIFIED:20230113T205603Z
UID:3711-1695665400-1695666600@aviationinstitute.eu
SUMMARY:M10 Essay 1 Examination – Only English*
DESCRIPTION:M10 – Aviation Legislation \n*Only English Session is a special type of session tailored for foreign students. In order to organize it as scheduled\, at least 1 foreign student OR a minimum group of 6 Romanian students have to participate.
URL:https://aviationinstitute.eu/calendar-evenimente/m10-essay-1-examination-only-english-2/
LOCATION:Romanian Aeronautical Association – Bucharest\, Biharia 44\, Bucharest\, Romania
CATEGORIES:EASA Part 66 Modules EXAMINATIONS - BUCHAREST
END:VEVENT
BEGIN:VEVENT
DTSTART;TZID=Europe/Helsinki:20230926T160000
DTEND;TZID=Europe/Helsinki:20230926T163000
DTSTAMP:20260425T184224
CREATED:20230113T205821Z
LAST-MODIFIED:20230113T205821Z
UID:3713-1695744000-1695745800@aviationinstitute.eu
SUMMARY:M14 Examination – Only English*
DESCRIPTION:M14 – Propulsion \n*Only English Session is a special type of session tailored for foreign students. In order to organize it as scheduled\, at least 1 foreign student OR a minimum group of 6 Romanian students have to participate.
URL:https://aviationinstitute.eu/calendar-evenimente/m14-examination-only-english-4/
LOCATION:Romanian Aeronautical Association – Bucharest\, Biharia 44\, Bucharest\, Romania
CATEGORIES:EASA Part 66 Modules EXAMINATIONS - BUCHAREST
END:VEVENT
BEGIN:VEVENT
DTSTART;TZID=Europe/Helsinki:20230926T160000
DTEND;TZID=Europe/Helsinki:20230926T164000
DTSTAMP:20260425T184224
CREATED:20230113T210011Z
LAST-MODIFIED:20230113T210011Z
UID:3715-1695744000-1695746400@aviationinstitute.eu
SUMMARY:M17 Examination – Only English*
DESCRIPTION:M17 – Propeller \n*Only English Session is a special type of session tailored for foreign students. In order to organize it as scheduled\, at least 1 foreign student OR a minimum group of 6 Romanian students have to participate.
URL:https://aviationinstitute.eu/calendar-evenimente/m17-examination-only-english-4/
LOCATION:Romanian Aeronautical Association – Bucharest\, Biharia 44\, Bucharest\, Romania
CATEGORIES:EASA Part 66 Modules EXAMINATIONS - BUCHAREST
END:VEVENT
BEGIN:VEVENT
DTSTART;TZID=Europe/Helsinki:20231013T160000
DTEND;TZID=Europe/Helsinki:20231013T162500
DTSTAMP:20260425T184224
CREATED:20230928T073045Z
LAST-MODIFIED:20231010T101404Z
UID:3737-1697212800-1697214300@aviationinstitute.eu
SUMMARY:M9A MCQ Examination
DESCRIPTION:M9 – Human Factors
URL:https://aviationinstitute.eu/calendar-evenimente/m9a-mcq-examination-8/
LOCATION:Romanian Aeronautical Association – Bucharest\, Biharia 44\, Bucharest\, Romania
CATEGORIES:EASA Part 66 Modules EXAMINATIONS - BUCHAREST
END:VEVENT
BEGIN:VEVENT
DTSTART;TZID=Europe/Helsinki:20231013T164000
DTEND;TZID=Europe/Helsinki:20231013T170000
DTSTAMP:20260425T184224
CREATED:20230928T073142Z
LAST-MODIFIED:20231010T101427Z
UID:3739-1697215200-1697216400@aviationinstitute.eu
SUMMARY:M9A Essay 1 Examination
DESCRIPTION:M9 – Human Factors
URL:https://aviationinstitute.eu/calendar-evenimente/m9a-essay-1-examination-4/
LOCATION:Romanian Aeronautical Association – Bucharest\, Biharia 44\, Bucharest\, Romania
CATEGORIES:EASA Part 66 Modules EXAMINATIONS - BUCHAREST
END:VEVENT
BEGIN:VEVENT
DTSTART;TZID=Europe/Helsinki:20231013T171000
DTEND;TZID=Europe/Helsinki:20231013T180000
DTSTAMP:20260425T184224
CREATED:20230928T073240Z
LAST-MODIFIED:20231010T101527Z
UID:3741-1697217000-1697220000@aviationinstitute.eu
SUMMARY:M10 MCQ Examination
DESCRIPTION:M10 – Aviation Legislation
URL:https://aviationinstitute.eu/calendar-evenimente/m10-mcq-examination-19/
LOCATION:Romanian Aeronautical Association – Bucharest\, Biharia 44\, Bucharest\, Romania
CATEGORIES:EASA Part 66 Modules EXAMINATIONS - BUCHAREST
END:VEVENT
BEGIN:VEVENT
DTSTART;TZID=Europe/Helsinki:20231013T181000
DTEND;TZID=Europe/Helsinki:20231013T183000
DTSTAMP:20260425T184224
CREATED:20230928T073324Z
LAST-MODIFIED:20231010T101508Z
UID:3743-1697220600-1697221800@aviationinstitute.eu
SUMMARY:M10 Essay 1 Examination
DESCRIPTION:M10 – Aviation Legislation
URL:https://aviationinstitute.eu/calendar-evenimente/m10-essay-1-examination-4/
LOCATION:Romanian Aeronautical Association – Bucharest\, Biharia 44\, Bucharest\, Romania
CATEGORIES:EASA Part 66 Modules EXAMINATIONS - BUCHAREST
END:VEVENT
BEGIN:VEVENT
DTSTART;TZID=Europe/Helsinki:20231026T160000
DTEND;TZID=Europe/Helsinki:20231026T170500
DTSTAMP:20260425T184224
CREATED:20230112T205146Z
LAST-MODIFIED:20230112T205146Z
UID:3595-1698336000-1698339900@aviationinstitute.eu
SUMMARY:M3 Examination
DESCRIPTION:M3 – Electrical fundamentals
URL:https://aviationinstitute.eu/calendar-evenimente/m3-examination-5/
LOCATION:Romanian Aeronautical Association – Bucharest\, Biharia 44\, Bucharest\, Romania
CATEGORIES:EASA Part 66 Modules EXAMINATIONS - BUCHAREST
END:VEVENT
BEGIN:VEVENT
DTSTART;TZID=Europe/Helsinki:20231026T171500
DTEND;TZID=Europe/Helsinki:20231026T180500
DTSTAMP:20260425T184224
CREATED:20230112T205328Z
LAST-MODIFIED:20230112T205328Z
UID:3597-1698340500-1698343500@aviationinstitute.eu
SUMMARY:M4 Examination
DESCRIPTION:M4 – Electronic fundamentals
URL:https://aviationinstitute.eu/calendar-evenimente/m4-examination-7/
LOCATION:Romanian Aeronautical Association – Bucharest\, Biharia 44\, Bucharest\, Romania
CATEGORIES:EASA Part 66 Modules EXAMINATIONS - BUCHAREST
END:VEVENT
BEGIN:VEVENT
DTSTART;TZID=Europe/Helsinki:20231026T181500
DTEND;TZID=Europe/Helsinki:20231026T194500
DTSTAMP:20260425T184224
CREATED:20230112T205456Z
LAST-MODIFIED:20230112T205456Z
UID:3599-1698344100-1698349500@aviationinstitute.eu
SUMMARY:M5 Examination
DESCRIPTION:M5 – Digital techniques/ Electronic instrument systems
URL:https://aviationinstitute.eu/calendar-evenimente/m5-examination-9/
LOCATION:Romanian Aeronautical Association – Bucharest\, Biharia 44\, Bucharest\, Romania
CATEGORIES:EASA Part 66 Modules EXAMINATIONS - BUCHAREST
END:VEVENT
BEGIN:VEVENT
DTSTART;TZID=Europe/Helsinki:20231101T160000
DTEND;TZID=Europe/Helsinki:20231101T173000
DTSTAMP:20260425T184224
CREATED:20230112T205625Z
LAST-MODIFIED:20230112T205625Z
UID:3601-1698854400-1698859800@aviationinstitute.eu
SUMMARY:M6 Examination
DESCRIPTION:M6 – Materials and hardware
URL:https://aviationinstitute.eu/calendar-evenimente/m6-examination-23/
LOCATION:Romanian Aeronautical Association – Bucharest\, Biharia 44\, Bucharest\, Romania
CATEGORIES:EASA Part 66 Modules EXAMINATIONS - BUCHAREST
END:VEVENT
BEGIN:VEVENT
DTSTART;TZID=Europe/Helsinki:20231101T174000
DTEND;TZID=Europe/Helsinki:20231101T180500
DTSTAMP:20260425T184224
CREATED:20230112T205713Z
LAST-MODIFIED:20230112T205713Z
UID:3603-1698860400-1698861900@aviationinstitute.eu
SUMMARY:M8 Examination
DESCRIPTION:
URL:https://aviationinstitute.eu/calendar-evenimente/m8-examination-16/
LOCATION:Romanian Aeronautical Association – Bucharest\, Biharia 44\, Bucharest\, Romania
CATEGORIES:EASA Part 66 Modules EXAMINATIONS - BUCHAREST
END:VEVENT
END:VCALENDAR