BEGIN:VCALENDAR
VERSION:2.0
PRODID:-//European Aviation Institute - ECPv6.15.18//NONSGML v1.0//EN
CALSCALE:GREGORIAN
METHOD:PUBLISH
X-WR-CALNAME:European Aviation Institute
X-ORIGINAL-URL:https://aviationinstitute.eu
X-WR-CALDESC:Events for European Aviation Institute
REFRESH-INTERVAL;VALUE=DURATION:PT1H
X-Robots-Tag:noindex
X-PUBLISHED-TTL:PT1H
BEGIN:VTIMEZONE
TZID:Europe/Helsinki
BEGIN:DAYLIGHT
TZOFFSETFROM:+0200
TZOFFSETTO:+0300
TZNAME:EEST
DTSTART:20240331T010000
END:DAYLIGHT
BEGIN:STANDARD
TZOFFSETFROM:+0300
TZOFFSETTO:+0200
TZNAME:EET
DTSTART:20241027T010000
END:STANDARD
BEGIN:DAYLIGHT
TZOFFSETFROM:+0200
TZOFFSETTO:+0300
TZNAME:EEST
DTSTART:20250330T010000
END:DAYLIGHT
BEGIN:STANDARD
TZOFFSETFROM:+0300
TZOFFSETTO:+0200
TZNAME:EET
DTSTART:20251026T010000
END:STANDARD
BEGIN:DAYLIGHT
TZOFFSETFROM:+0200
TZOFFSETTO:+0300
TZNAME:EEST
DTSTART:20260329T010000
END:DAYLIGHT
BEGIN:STANDARD
TZOFFSETFROM:+0300
TZOFFSETTO:+0200
TZNAME:EET
DTSTART:20261025T010000
END:STANDARD
END:VTIMEZONE
BEGIN:VEVENT
DTSTART;TZID=Europe/Helsinki:20250915T155000
DTEND;TZID=Europe/Helsinki:20250915T165500
DTSTAMP:20260424T030059
CREATED:20241126T143505Z
LAST-MODIFIED:20241126T143505Z
UID:6431-1757951400-1757955300@aviationinstitute.eu
SUMMARY:M2 Examination
DESCRIPTION:M2 – Physics
URL:https://aviationinstitute.eu/calendar-evenimente/m2-examination-5/
LOCATION:Caransebes (Max Austin)\, Aeroportului Street\, nr. 1\, Caransebes\, Caransebes\, 325400\, Romania
CATEGORIES:EASA Part 66 Modules EXAMINATIONS - CARANSEBES (Max Austin)
END:VEVENT
BEGIN:VEVENT
DTSTART;TZID=Europe/Helsinki:20250917T150000
DTEND;TZID=Europe/Helsinki:20250917T160500
DTSTAMP:20260424T030059
CREATED:20241126T143638Z
LAST-MODIFIED:20241126T143638Z
UID:6433-1758121200-1758125100@aviationinstitute.eu
SUMMARY:M3 Examination
DESCRIPTION:M3 – Electrical fundamentals
URL:https://aviationinstitute.eu/calendar-evenimente/m3-examination-8/
LOCATION:Caransebes (Max Austin)\, Aeroportului Street\, nr. 1\, Caransebes\, Caransebes\, 325400\, Romania
CATEGORIES:EASA Part 66 Modules EXAMINATIONS - CARANSEBES (Max Austin)
END:VEVENT
BEGIN:VEVENT
DTSTART;TZID=Europe/Helsinki:20250919T150000
DTEND;TZID=Europe/Helsinki:20250919T155000
DTSTAMP:20260424T030059
CREATED:20241126T143742Z
LAST-MODIFIED:20241126T143742Z
UID:6435-1758294000-1758297000@aviationinstitute.eu
SUMMARY:M4 Examination
DESCRIPTION:M4 – Electronic fundamentals
URL:https://aviationinstitute.eu/calendar-evenimente/m4-examination-10/
LOCATION:Caransebes (Max Austin)\, Aeroportului Street\, nr. 1\, Caransebes\, Caransebes\, 325400\, Romania
CATEGORIES:EASA Part 66 Modules EXAMINATIONS - CARANSEBES (Max Austin)
END:VEVENT
BEGIN:VEVENT
DTSTART;TZID=Europe/Helsinki:20250919T160000
DTEND;TZID=Europe/Helsinki:20250919T173000
DTSTAMP:20260424T030059
CREATED:20241126T143839Z
LAST-MODIFIED:20250114T130039Z
UID:6437-1758297600-1758303000@aviationinstitute.eu
SUMMARY:M5 Examination
DESCRIPTION:M5 – Digital techniques/ Electronic instrument systems
URL:https://aviationinstitute.eu/calendar-evenimente/m5-examination-12/
LOCATION:Caransebes (Max Austin)\, Aeroportului Street\, nr. 1\, Caransebes\, Caransebes\, 325400\, Romania
CATEGORIES:EASA Part 66 Modules EXAMINATIONS - CARANSEBES (Max Austin)
END:VEVENT
BEGIN:VEVENT
DTSTART;TZID=Europe/Helsinki:20250922T160000
DTEND;TZID=Europe/Helsinki:20250922T174000
DTSTAMP:20260424T030059
CREATED:20241126T143945Z
LAST-MODIFIED:20250114T130226Z
UID:6439-1758556800-1758562800@aviationinstitute.eu
SUMMARY:M6 Examination
DESCRIPTION:M6 – Materials and hardware
URL:https://aviationinstitute.eu/calendar-evenimente/m6-examination-30/
LOCATION:Caransebes (Max Austin)\, Aeroportului Street\, nr. 1\, Caransebes\, Caransebes\, 325400\, Romania
CATEGORIES:EASA Part 66 Modules EXAMINATIONS - CARANSEBES (Max Austin)
END:VEVENT
BEGIN:VEVENT
DTSTART;TZID=Europe/Helsinki:20250922T175000
DTEND;TZID=Europe/Helsinki:20250922T182000
DTSTAMP:20260424T030059
CREATED:20241126T144045Z
LAST-MODIFIED:20250114T130332Z
UID:6441-1758563400-1758565200@aviationinstitute.eu
SUMMARY:M8 Examination
DESCRIPTION:M8 – Basic aerodynamics
URL:https://aviationinstitute.eu/calendar-evenimente/m8-examination-23/
LOCATION:Caransebes (Max Austin)\, Aeroportului Street\, nr. 1\, Caransebes\, Caransebes\, 325400\, Romania
CATEGORIES:EASA Part 66 Modules EXAMINATIONS - CARANSEBES (Max Austin)
END:VEVENT
BEGIN:VEVENT
DTSTART;TZID=Europe/Helsinki:20250923T160000
DTEND;TZID=Europe/Helsinki:20250923T163500
DTSTAMP:20260424T030059
CREATED:20241126T144151Z
LAST-MODIFIED:20250114T130433Z
UID:6443-1758643200-1758645300@aviationinstitute.eu
SUMMARY:M9 Examination
DESCRIPTION:M9 – Human Factors
URL:https://aviationinstitute.eu/calendar-evenimente/m9-examination-5/
LOCATION:Caransebes (Max Austin)\, Aeroportului Street\, nr. 1\, Caransebes\, Caransebes\, 325400\, Romania
CATEGORIES:EASA Part 66 Modules EXAMINATIONS - CARANSEBES (Max Austin)
END:VEVENT
BEGIN:VEVENT
DTSTART;TZID=Europe/Helsinki:20250923T164500
DTEND;TZID=Europe/Helsinki:20250923T174000
DTSTAMP:20260424T030059
CREATED:20241126T144713Z
LAST-MODIFIED:20250114T130552Z
UID:6445-1758645900-1758649200@aviationinstitute.eu
SUMMARY:M10 Examination
DESCRIPTION:M10 – Aviation Legislation
URL:https://aviationinstitute.eu/calendar-evenimente/m10-examination-5/
LOCATION:Caransebes (Max Austin)\, Aeroportului Street\, nr. 1\, Caransebes\, Caransebes\, 325400\, Romania
CATEGORIES:EASA Part 66 Modules EXAMINATIONS - CARANSEBES (Max Austin)
END:VEVENT
BEGIN:VEVENT
DTSTART;TZID=Europe/Helsinki:20250929T160000
DTEND;TZID=Europe/Helsinki:20250929T164000
DTSTAMP:20260424T030059
CREATED:20241126T144825Z
LAST-MODIFIED:20250114T130817Z
UID:6447-1759161600-1759164000@aviationinstitute.eu
SUMMARY:M17 Examination
DESCRIPTION:M17 – Propeller
URL:https://aviationinstitute.eu/calendar-evenimente/m17-examination-21/
LOCATION:Caransebes (Max Austin)\, Aeroportului Street\, nr. 1\, Caransebes\, Caransebes\, 325400\, Romania
CATEGORIES:EASA Part 66 Modules EXAMINATIONS - CARANSEBES (Max Austin)
END:VEVENT
BEGIN:VEVENT
DTSTART;TZID=Europe/Helsinki:20250929T160000
DTEND;TZID=Europe/Helsinki:20250929T164000
DTSTAMP:20260424T030059
CREATED:20241126T144922Z
LAST-MODIFIED:20250114T130908Z
UID:6450-1759161600-1759164000@aviationinstitute.eu
SUMMARY:M14 Examination
DESCRIPTION:M14 – Propulsion
URL:https://aviationinstitute.eu/calendar-evenimente/m14-examination-16/
LOCATION:Caransebes (Max Austin)\, Aeroportului Street\, nr. 1\, Caransebes\, Caransebes\, 325400\, Romania
CATEGORIES:EASA Part 66 Modules EXAMINATIONS - CARANSEBES (Max Austin)
END:VEVENT
BEGIN:VEVENT
DTSTART;TZID=Europe/Helsinki:20251002T150000
DTEND;TZID=Europe/Helsinki:20251002T163500
DTSTAMP:20260424T030059
CREATED:20241126T145039Z
LAST-MODIFIED:20250114T131012Z
UID:6452-1759417200-1759422900@aviationinstitute.eu
SUMMARY:M16 Examination
DESCRIPTION:M16 – Piston engine
URL:https://aviationinstitute.eu/calendar-evenimente/m16-examination-11/
LOCATION:Caransebes (Max Austin)\, Aeroportului Street\, nr. 1\, Caransebes\, Caransebes\, 325400\, Romania
CATEGORIES:EASA Part 66 Modules EXAMINATIONS - CARANSEBES (Max Austin)
END:VEVENT
BEGIN:VEVENT
DTSTART;TZID=Europe/Helsinki:20251006T150000
DTEND;TZID=Europe/Helsinki:20251006T175500
DTSTAMP:20260424T030059
CREATED:20241126T145243Z
LAST-MODIFIED:20250114T131157Z
UID:6456-1759762800-1759773300@aviationinstitute.eu
SUMMARY:M11 Examination
DESCRIPTION:M11 – Aeroplane aerodynamics\, structures and systems
URL:https://aviationinstitute.eu/calendar-evenimente/m11-examination-16/
LOCATION:Caransebes (Max Austin)\, Aeroportului Street\, nr. 1\, Caransebes\, Caransebes\, 325400\, Romania
CATEGORIES:EASA Part 66 Modules EXAMINATIONS - CARANSEBES (Max Austin)
END:VEVENT
BEGIN:VEVENT
DTSTART;TZID=Europe/Helsinki:20251006T150000
DTEND;TZID=Europe/Helsinki:20251006T185500
DTSTAMP:20260424T030059
CREATED:20241126T145140Z
LAST-MODIFIED:20250114T131247Z
UID:6454-1759762800-1759776900@aviationinstitute.eu
SUMMARY:M13 Examination
DESCRIPTION:M13 – Aircraft aerodynamics\, structures and systems
URL:https://aviationinstitute.eu/calendar-evenimente/m13-examination-16/
LOCATION:Caransebes (Max Austin)\, Aeroportului Street\, nr. 1\, Caransebes\, Caransebes\, 325400\, Romania
CATEGORIES:EASA Part 66 Modules EXAMINATIONS - CARANSEBES (Max Austin)
END:VEVENT
BEGIN:VEVENT
DTSTART;TZID=Europe/Helsinki:20251008T150000
DTEND;TZID=Europe/Helsinki:20251008T174000
DTSTAMP:20260424T030059
CREATED:20241126T145342Z
LAST-MODIFIED:20250114T131336Z
UID:6458-1759935600-1759945200@aviationinstitute.eu
SUMMARY:M12 Examination
DESCRIPTION:M12 – Helicopter aerodynamics\, structures and systems
URL:https://aviationinstitute.eu/calendar-evenimente/m12-examination-2/
LOCATION:Caransebes (Max Austin)\, Aeroportului Street\, nr. 1\, Caransebes\, Caransebes\, 325400\, Romania
CATEGORIES:EASA Part 66 Modules EXAMINATIONS - CARANSEBES (Max Austin)
END:VEVENT
BEGIN:VEVENT
DTSTART;TZID=Europe/Helsinki:20251013T150000
DTEND;TZID=Europe/Helsinki:20251013T165500
DTSTAMP:20260424T030059
CREATED:20241126T145442Z
LAST-MODIFIED:20250114T131430Z
UID:6460-1760367600-1760374500@aviationinstitute.eu
SUMMARY:M15 Examination
DESCRIPTION:M15 – Gas turbine engine
URL:https://aviationinstitute.eu/calendar-evenimente/m15-examination-19/
LOCATION:Caransebes (Max Austin)\, Aeroportului Street\, nr. 1\, Caransebes\, Caransebes\, 325400\, Romania
CATEGORIES:EASA Part 66 Modules EXAMINATIONS - CARANSEBES (Max Austin)
END:VEVENT
BEGIN:VEVENT
DTSTART;TZID=Europe/Helsinki:20251016T160000
DTEND;TZID=Europe/Helsinki:20251016T174000
DTSTAMP:20260424T030059
CREATED:20241126T145602Z
LAST-MODIFIED:20250114T131544Z
UID:6462-1760630400-1760636400@aviationinstitute.eu
SUMMARY:M7 MCQ Examination
DESCRIPTION:M7 – Maintenance practices
URL:https://aviationinstitute.eu/calendar-evenimente/m7-mcq-examination-25/
LOCATION:Caransebes (Max Austin)\, Aeroportului Street\, nr. 1\, Caransebes\, Caransebes\, 325400\, Romania
CATEGORIES:EASA Part 66 Modules EXAMINATIONS - CARANSEBES (Max Austin)
END:VEVENT
BEGIN:VEVENT
DTSTART;TZID=Europe/Helsinki:20251016T175000
DTEND;TZID=Europe/Helsinki:20251016T181000
DTSTAMP:20260424T030059
CREATED:20241126T145704Z
LAST-MODIFIED:20250114T131657Z
UID:6464-1760637000-1760638200@aviationinstitute.eu
SUMMARY:M7 Essay 1 Examination
DESCRIPTION:M7 – Maintenance practices
URL:https://aviationinstitute.eu/calendar-evenimente/m7-essay-1-examination-25/
LOCATION:Caransebes (Max Austin)\, Aeroportului Street\, nr. 1\, Caransebes\, Caransebes\, 325400\, Romania
CATEGORIES:EASA Part 66 Modules EXAMINATIONS - CARANSEBES (Max Austin)
END:VEVENT
BEGIN:VEVENT
DTSTART;TZID=Europe/Helsinki:20251016T182000
DTEND;TZID=Europe/Helsinki:20251016T184000
DTSTAMP:20260424T030059
CREATED:20241126T145802Z
LAST-MODIFIED:20250114T131800Z
UID:6466-1760638800-1760640000@aviationinstitute.eu
SUMMARY:M7 Essay 2 Examination
DESCRIPTION:M7 – Maintenance practices
URL:https://aviationinstitute.eu/calendar-evenimente/m7-essay-2-examination-24/
LOCATION:Caransebes (Max Austin)\, Aeroportului Street\, nr. 1\, Caransebes\, Caransebes\, 325400\, Romania
CATEGORIES:EASA Part 66 Modules EXAMINATIONS - CARANSEBES (Max Austin)
END:VEVENT
END:VCALENDAR