BEGIN:VCALENDAR
VERSION:2.0
PRODID:-//European Aviation Institute - ECPv6.15.18//NONSGML v1.0//EN
CALSCALE:GREGORIAN
METHOD:PUBLISH
X-WR-CALNAME:European Aviation Institute
X-ORIGINAL-URL:https://aviationinstitute.eu
X-WR-CALDESC:Events for European Aviation Institute
REFRESH-INTERVAL;VALUE=DURATION:PT1H
X-Robots-Tag:noindex
X-PUBLISHED-TTL:PT1H
BEGIN:VTIMEZONE
TZID:Europe/Helsinki
BEGIN:DAYLIGHT
TZOFFSETFROM:+0200
TZOFFSETTO:+0300
TZNAME:EEST
DTSTART:20180325T010000
END:DAYLIGHT
BEGIN:STANDARD
TZOFFSETFROM:+0300
TZOFFSETTO:+0200
TZNAME:EET
DTSTART:20181028T010000
END:STANDARD
BEGIN:DAYLIGHT
TZOFFSETFROM:+0200
TZOFFSETTO:+0300
TZNAME:EEST
DTSTART:20190331T010000
END:DAYLIGHT
BEGIN:STANDARD
TZOFFSETFROM:+0300
TZOFFSETTO:+0200
TZNAME:EET
DTSTART:20191027T010000
END:STANDARD
BEGIN:DAYLIGHT
TZOFFSETFROM:+0200
TZOFFSETTO:+0300
TZNAME:EEST
DTSTART:20200329T010000
END:DAYLIGHT
BEGIN:STANDARD
TZOFFSETFROM:+0300
TZOFFSETTO:+0200
TZNAME:EET
DTSTART:20201025T010000
END:STANDARD
BEGIN:DAYLIGHT
TZOFFSETFROM:+0200
TZOFFSETTO:+0300
TZNAME:EEST
DTSTART:20210328T010000
END:DAYLIGHT
BEGIN:STANDARD
TZOFFSETFROM:+0300
TZOFFSETTO:+0200
TZNAME:EET
DTSTART:20211031T010000
END:STANDARD
BEGIN:DAYLIGHT
TZOFFSETFROM:+0200
TZOFFSETTO:+0300
TZNAME:EEST
DTSTART:20220327T010000
END:DAYLIGHT
BEGIN:STANDARD
TZOFFSETFROM:+0300
TZOFFSETTO:+0200
TZNAME:EET
DTSTART:20221030T010000
END:STANDARD
BEGIN:DAYLIGHT
TZOFFSETFROM:+0200
TZOFFSETTO:+0300
TZNAME:EEST
DTSTART:20230326T010000
END:DAYLIGHT
BEGIN:STANDARD
TZOFFSETFROM:+0300
TZOFFSETTO:+0200
TZNAME:EET
DTSTART:20231029T010000
END:STANDARD
END:VTIMEZONE
BEGIN:VEVENT
DTSTART;TZID=Europe/Helsinki:20220905T140000
DTEND;TZID=Europe/Helsinki:20220908T200000
DTSTAMP:20260422T142029
CREATED:20220906T104111Z
LAST-MODIFIED:20220906T104111Z
UID:3494-1662386400-1662667200@aviationinstitute.eu
SUMMARY:SMS
DESCRIPTION:Safety Management System
URL:https://aviationinstitute.eu/calendar-evenimente/sms/
LOCATION:Romanian Aeronautical Association – Bucharest\, Biharia 44\, Bucharest\, Romania
CATEGORIES:Safety Management System (SMS)
END:VEVENT
BEGIN:VEVENT
DTSTART;TZID=Europe/Helsinki:20220420T100000
DTEND;TZID=Europe/Helsinki:20220420T160000
DTSTAMP:20260422T142029
CREATED:20220419T072803Z
LAST-MODIFIED:20220419T072803Z
UID:3450-1650448800-1650470400@aviationinstitute.eu
SUMMARY:SMS Course Day 2
DESCRIPTION:Safety Management System
URL:https://aviationinstitute.eu/calendar-evenimente/sms-course-day-2/
CATEGORIES:Safety Management System (SMS)
END:VEVENT
BEGIN:VEVENT
DTSTART;TZID=Europe/Helsinki:20220419T100000
DTEND;TZID=Europe/Helsinki:20220419T160000
DTSTAMP:20260422T142029
CREATED:20220419T072705Z
LAST-MODIFIED:20220419T072705Z
UID:3448-1650362400-1650384000@aviationinstitute.eu
SUMMARY:SMS Course Day 1
DESCRIPTION:Safety Management System
URL:https://aviationinstitute.eu/calendar-evenimente/sms-course-day-1/
CATEGORIES:Safety Management System (SMS)
END:VEVENT
BEGIN:VEVENT
DTSTART;VALUE=DATE:20211101
DTEND;VALUE=DATE:20211105
DTSTAMP:20260422T142029
CREATED:20211029T134300Z
LAST-MODIFIED:20211029T134300Z
UID:3148-1635724800-1636070399@aviationinstitute.eu
SUMMARY:Safety Management System
DESCRIPTION:Bucharest
URL:https://aviationinstitute.eu/calendar-evenimente/safety-management-system/
LOCATION:Other locations
CATEGORIES:Safety Management System (SMS)
END:VEVENT
BEGIN:VEVENT
DTSTART;VALUE=DATE:20211004
DTEND;VALUE=DATE:20211007
DTSTAMP:20260422T142029
CREATED:20210902T144756Z
LAST-MODIFIED:20211029T134515Z
UID:3096-1633305600-1633564799@aviationinstitute.eu
SUMMARY:SMS Restarting Operations
DESCRIPTION:SMS Restarting Operations course – Recurrent Safety Management System for Practitioners  \n 
URL:https://aviationinstitute.eu/calendar-evenimente/sms-restarting-operations/
LOCATION:Romanian Aeronautical Association – Bucharest\, Biharia 44\, Bucharest\, Romania
CATEGORIES:Safety Management System (SMS)
END:VEVENT
BEGIN:VEVENT
DTSTART;TZID=Europe/Helsinki:20190519T093000
DTEND;TZID=Europe/Helsinki:20190520T160000
DTSTAMP:20260422T142029
CREATED:20190528T070248Z
LAST-MODIFIED:20190528T070248Z
UID:1806-1558258200-1558368000@aviationinstitute.eu
SUMMARY:Root Cause Analysis Training (Operations)
DESCRIPTION:Nepal
URL:https://aviationinstitute.eu/calendar-evenimente/root-cause-analysis-training-operations/
LOCATION:Other locations
CATEGORIES:Safety Management System (SMS)
END:VEVENT
BEGIN:VEVENT
DTSTART;TZID=Europe/Helsinki:20190217T090000
DTEND;TZID=Europe/Helsinki:20190217T150000
DTSTAMP:20260422T142029
CREATED:20190213T082246Z
LAST-MODIFIED:20190213T082246Z
UID:1602-1550394000-1550415600@aviationinstitute.eu
SUMMARY:Recurrent Safety Management System Training (Operations)
DESCRIPTION:Nepal
URL:https://aviationinstitute.eu/calendar-evenimente/recurrent-safety-management-system-training-operations-3/
LOCATION:Other locations
CATEGORIES:Safety Management System (SMS)
END:VEVENT
BEGIN:VEVENT
DTSTART;TZID=Europe/Helsinki:20190214T090000
DTEND;TZID=Europe/Helsinki:20190216T150000
DTSTAMP:20260422T142029
CREATED:20190212T151831Z
LAST-MODIFIED:20190212T151832Z
UID:1535-1550134800-1550329200@aviationinstitute.eu
SUMMARY:Safety Management System Training
DESCRIPTION:Nepal
URL:https://aviationinstitute.eu/calendar-evenimente/safety-management-system-training/
LOCATION:Other locations
CATEGORIES:Safety Management System (SMS)
END:VEVENT
BEGIN:VEVENT
DTSTART;TZID=Europe/Helsinki:20190213T090000
DTEND;TZID=Europe/Helsinki:20190213T150000
DTSTAMP:20260422T142029
CREATED:20190212T151539Z
LAST-MODIFIED:20190212T151539Z
UID:1532-1550048400-1550070000@aviationinstitute.eu
SUMMARY:Safety Management System Training (Top Management Level)
DESCRIPTION:Nepal
URL:https://aviationinstitute.eu/calendar-evenimente/safety-management-system-training-top-management-level/
LOCATION:Other locations
CATEGORIES:Safety Management System (SMS)
END:VEVENT
BEGIN:VEVENT
DTSTART;TZID=Europe/Helsinki:20190210T090000
DTEND;TZID=Europe/Helsinki:20190212T150000
DTSTAMP:20260422T142029
CREATED:20190212T151449Z
LAST-MODIFIED:20190212T151449Z
UID:1530-1549789200-1549983600@aviationinstitute.eu
SUMMARY:Recurrent Safety Management System Training (Operations)
DESCRIPTION:Nepal
URL:https://aviationinstitute.eu/calendar-evenimente/recurrent-safety-management-system-training-operations-2/
LOCATION:Other locations
CATEGORIES:Safety Management System (SMS)
END:VEVENT
BEGIN:VEVENT
DTSTART;TZID=Europe/Helsinki:20190205T090000
DTEND;TZID=Europe/Helsinki:20190208T150000
DTSTAMP:20260422T142029
CREATED:20190212T151042Z
LAST-MODIFIED:20190213T082409Z
UID:1527-1549357200-1549638000@aviationinstitute.eu
SUMMARY:Recurrent Safety Management System Training (Operations)
DESCRIPTION:Nepal
URL:https://aviationinstitute.eu/calendar-evenimente/recurrent-safety-management-system-training-operations/
LOCATION:Other locations
CATEGORIES:Safety Management System (SMS)
END:VEVENT
BEGIN:VEVENT
DTSTART;TZID=Europe/Helsinki:20190126T090000
DTEND;TZID=Europe/Helsinki:20190126T150000
DTSTAMP:20260422T142029
CREATED:20190212T150629Z
LAST-MODIFIED:20211029T133438Z
UID:1524-1548493200-1548514800@aviationinstitute.eu
SUMMARY:Safety Management System (SMS) Training
DESCRIPTION:Chad
URL:https://aviationinstitute.eu/calendar-evenimente/safety-management-system-sms-training/
LOCATION:Other locations
CATEGORIES:Safety Management System (SMS)
END:VEVENT
END:VCALENDAR