BEGIN:VCALENDAR
VERSION:2.0
PRODID:-//European Aviation Institute - ECPv6.15.20//NONSGML v1.0//EN
CALSCALE:GREGORIAN
METHOD:PUBLISH
X-WR-CALNAME:European Aviation Institute
X-ORIGINAL-URL:https://aviationinstitute.eu/ro
X-WR-CALDESC:Evenimente pentru European Aviation Institute
REFRESH-INTERVAL;VALUE=DURATION:PT1H
X-Robots-Tag:noindex
X-PUBLISHED-TTL:PT1H
BEGIN:VTIMEZONE
TZID:Europe/Helsinki
BEGIN:DAYLIGHT
TZOFFSETFROM:+0200
TZOFFSETTO:+0300
TZNAME:EEST
DTSTART:20200329T010000
END:DAYLIGHT
BEGIN:STANDARD
TZOFFSETFROM:+0300
TZOFFSETTO:+0200
TZNAME:EET
DTSTART:20201025T010000
END:STANDARD
BEGIN:DAYLIGHT
TZOFFSETFROM:+0200
TZOFFSETTO:+0300
TZNAME:EEST
DTSTART:20210328T010000
END:DAYLIGHT
BEGIN:STANDARD
TZOFFSETFROM:+0300
TZOFFSETTO:+0200
TZNAME:EET
DTSTART:20211031T010000
END:STANDARD
BEGIN:DAYLIGHT
TZOFFSETFROM:+0200
TZOFFSETTO:+0300
TZNAME:EEST
DTSTART:20220327T010000
END:DAYLIGHT
BEGIN:STANDARD
TZOFFSETFROM:+0300
TZOFFSETTO:+0200
TZNAME:EET
DTSTART:20221030T010000
END:STANDARD
END:VTIMEZONE
BEGIN:VEVENT
DTSTART;TZID=Europe/Helsinki:20210622T100000
DTEND;TZID=Europe/Helsinki:20210622T110500
DTSTAMP:20260426T035947
CREATED:20210330T133208Z
LAST-MODIFIED:20210618T075332Z
UID:2688-1624356000-1624359900@aviationinstitute.eu
SUMMARY:M10 MCQ Examination - POSTPONED TO 29.07.2021
DESCRIPTION:M10 – Legislation
URL:https://aviationinstitute.eu/ro/calendar-evenimente/m10-mcq-examination-10/
LOCATION:Hotel Unique – Bucharest\, Caderea Bastiliei 35\, Bucharest\, Romania
CATEGORIES:EASA Part 66 Modules EXAMINATIONS - BUCHAREST
END:VEVENT
BEGIN:VEVENT
DTSTART;TZID=Europe/Helsinki:20210622T114000
DTEND;TZID=Europe/Helsinki:20210622T120000
DTSTAMP:20260426T035947
CREATED:20210330T133306Z
LAST-MODIFIED:20210618T075352Z
UID:2690-1624362000-1624363200@aviationinstitute.eu
SUMMARY:M10 Essay Examination - POSTPONED TO 29.07.2021
DESCRIPTION:M10 – Legislation
URL:https://aviationinstitute.eu/ro/calendar-evenimente/m10-essay-examination-13/
LOCATION:Hotel Unique – Bucharest\, Caderea Bastiliei 35\, Bucharest\, Romania
CATEGORIES:EASA Part 66 Modules EXAMINATIONS - BUCHAREST
END:VEVENT
BEGIN:VEVENT
DTSTART;TZID=Europe/Helsinki:20210625T100000
DTEND;TZID=Europe/Helsinki:20210625T102000
DTSTAMP:20260426T035947
CREATED:20210329T135603Z
LAST-MODIFIED:20210329T141241Z
UID:2638-1624615200-1624616400@aviationinstitute.eu
SUMMARY:M7 Essay 1 Examination
DESCRIPTION:M7 – Maintenance practices
URL:https://aviationinstitute.eu/ro/calendar-evenimente/m7-essay-1-examination-9/
LOCATION:Hotel Unique – Bucharest\, Caderea Bastiliei 35\, Bucharest\, Romania
CATEGORIES:EASA Part 66 Modules EXAMINATIONS - BUCHAREST
END:VEVENT
BEGIN:VEVENT
DTSTART;TZID=Europe/Helsinki:20210625T105000
DTEND;TZID=Europe/Helsinki:20210625T111000
DTSTAMP:20260426T035947
CREATED:20210329T135707Z
LAST-MODIFIED:20210329T141329Z
UID:2640-1624618200-1624619400@aviationinstitute.eu
SUMMARY:M7 Essay 2
DESCRIPTION:M7 – Maintenance practices
URL:https://aviationinstitute.eu/ro/calendar-evenimente/m7-essay-2/
LOCATION:Hotel Unique – Bucharest\, Caderea Bastiliei 35\, Bucharest\, Romania
CATEGORIES:EASA Part 66 Modules EXAMINATIONS - BUCHAREST
END:VEVENT
BEGIN:VEVENT
DTSTART;TZID=Europe/Helsinki:20210625T114000
DTEND;TZID=Europe/Helsinki:20210625T132000
DTSTAMP:20260426T035947
CREATED:20210329T135833Z
LAST-MODIFIED:20210329T141311Z
UID:2642-1624621200-1624627200@aviationinstitute.eu
SUMMARY:M7 MCQ Examination
DESCRIPTION:M7 – Maintenance practices
URL:https://aviationinstitute.eu/ro/calendar-evenimente/m7-mcq-examination-8/
LOCATION:Hotel Unique – Bucharest\, Caderea Bastiliei 35\, Bucharest\, Romania
CATEGORIES:EASA Part 66 Modules EXAMINATIONS - BUCHAREST
END:VEVENT
END:VCALENDAR