BEGIN:VCALENDAR
VERSION:2.0
PRODID:-//European Aviation Institute - ECPv6.15.20//NONSGML v1.0//EN
CALSCALE:GREGORIAN
METHOD:PUBLISH
X-WR-CALNAME:European Aviation Institute
X-ORIGINAL-URL:https://aviationinstitute.eu/ro
X-WR-CALDESC:Evenimente pentru European Aviation Institute
REFRESH-INTERVAL;VALUE=DURATION:PT1H
X-Robots-Tag:noindex
X-PUBLISHED-TTL:PT1H
BEGIN:VTIMEZONE
TZID:Europe/Helsinki
BEGIN:DAYLIGHT
TZOFFSETFROM:+0200
TZOFFSETTO:+0300
TZNAME:EEST
DTSTART:20200329T010000
END:DAYLIGHT
BEGIN:STANDARD
TZOFFSETFROM:+0300
TZOFFSETTO:+0200
TZNAME:EET
DTSTART:20201025T010000
END:STANDARD
BEGIN:DAYLIGHT
TZOFFSETFROM:+0200
TZOFFSETTO:+0300
TZNAME:EEST
DTSTART:20210328T010000
END:DAYLIGHT
BEGIN:STANDARD
TZOFFSETFROM:+0300
TZOFFSETTO:+0200
TZNAME:EET
DTSTART:20211031T010000
END:STANDARD
BEGIN:DAYLIGHT
TZOFFSETFROM:+0200
TZOFFSETTO:+0300
TZNAME:EEST
DTSTART:20220327T010000
END:DAYLIGHT
BEGIN:STANDARD
TZOFFSETFROM:+0300
TZOFFSETTO:+0200
TZNAME:EET
DTSTART:20221030T010000
END:STANDARD
END:VTIMEZONE
BEGIN:VEVENT
DTSTART;VALUE=DATE:20211004
DTEND;VALUE=DATE:20211007
DTSTAMP:20260426T022241
CREATED:20210902T144756Z
LAST-MODIFIED:20211029T134515Z
UID:3096-1633305600-1633564799@aviationinstitute.eu
SUMMARY:SMS Restarting Operations
DESCRIPTION:SMS Restarting Operations course – Recurrent Safety Management System for Practitioners  \n 
URL:https://aviationinstitute.eu/ro/calendar-evenimente/sms-restarting-operations/
LOCATION:Romanian Aeronautical Association – Bucharest\, Biharia 44\, Bucharest\, Romania
CATEGORIES:Safety Management System (SMS)
END:VEVENT
BEGIN:VEVENT
DTSTART;TZID=Europe/Helsinki:20211004T160000
DTEND;TZID=Europe/Helsinki:20211004T185500
DTSTAMP:20260426T022241
CREATED:20210329T140145Z
LAST-MODIFIED:20210804T080726Z
UID:2648-1633363200-1633373700@aviationinstitute.eu
SUMMARY:M11 Examination
DESCRIPTION:M11 – Aeroplane aerodynamics\, structures and systems
URL:https://aviationinstitute.eu/ro/calendar-evenimente/m11-examination-12/
LOCATION:Romanian Aeronautical Association – Bucharest\, Biharia 44\, Bucharest\, Romania
CATEGORIES:EASA Part 66 Modules EXAMINATIONS - BUCHAREST
END:VEVENT
BEGIN:VEVENT
DTSTART;TZID=Europe/Helsinki:20211004T160000
DTEND;TZID=Europe/Helsinki:20211004T194500
DTSTAMP:20260426T022241
CREATED:20210329T140042Z
LAST-MODIFIED:20210804T080800Z
UID:2646-1633363200-1633376700@aviationinstitute.eu
SUMMARY:M13 Examination
DESCRIPTION:M13 – Aircraft aerodynamics\, structures and systems
URL:https://aviationinstitute.eu/ro/calendar-evenimente/m13-examination-4/
LOCATION:Romanian Aeronautical Association – Bucharest\, Biharia 44\, Bucharest\, Romania
CATEGORIES:EASA Part 66 Modules EXAMINATIONS - BUCHAREST
END:VEVENT
BEGIN:VEVENT
DTSTART;TZID=Europe/Helsinki:20211005T160000
DTEND;TZID=Europe/Helsinki:20211005T162500
DTSTAMP:20260426T022241
CREATED:20210330T101558Z
LAST-MODIFIED:20210915T092616Z
UID:2670-1633449600-1633451100@aviationinstitute.eu
SUMMARY:M8 Examination
DESCRIPTION:M8 – Basic aerodynamics \n  \n*Only English Session is a special type of session tailored for foreign students. In order to organize it as scheduled\, at least 1 foreign student OR a minimum group of 6 Romanian students have to participate.
URL:https://aviationinstitute.eu/ro/calendar-evenimente/m8-examination-only-english-3/
LOCATION:Romanian Aeronautical Association – Bucharest\, Biharia 44\, Bucharest\, Romania
CATEGORIES:EASA Part 66 Modules EXAMINATIONS - BUCHAREST
END:VEVENT
BEGIN:VEVENT
DTSTART;TZID=Europe/Helsinki:20211005T160000
DTEND;TZID=Europe/Helsinki:20211005T164000
DTSTAMP:20260426T022241
CREATED:20210329T142121Z
LAST-MODIFIED:20210915T092608Z
UID:2656-1633449600-1633452000@aviationinstitute.eu
SUMMARY:M1 Examination
DESCRIPTION:M1 – Mathematics \n  \n*Only English Session is a special type of session tailored for foreign students. In order to organize it as scheduled\, at least 1 foreign student OR a minimum group of 6 Romanian students have to participate.
URL:https://aviationinstitute.eu/ro/calendar-evenimente/m1-examination-only-english-4/
LOCATION:Romanian Aeronautical Association – Bucharest\, Biharia 44\, Bucharest\, Romania
CATEGORIES:EASA Part 66 Modules EXAMINATIONS - BUCHAREST
END:VEVENT
BEGIN:VEVENT
DTSTART;TZID=Europe/Helsinki:20211005T160000
DTEND;TZID=Europe/Helsinki:20211005T164000
DTSTAMP:20260426T022241
CREATED:20210329T142331Z
LAST-MODIFIED:20211005T094832Z
UID:2660-1633449600-1633452000@aviationinstitute.eu
SUMMARY:M17 Examination
DESCRIPTION:M17 – Propeller \n  \n*Only English Session is a special type of session tailored for foreign students. In order to organize it as scheduled\, at least 1 foreign student OR a minimum group of 6 Romanian students have to participate.
URL:https://aviationinstitute.eu/ro/calendar-evenimente/m17-examination-only-english-2/
LOCATION:Romanian Aeronautical Association – Bucharest\, Biharia 44\, Bucharest\, Romania
CATEGORIES:EASA Part 66 Modules EXAMINATIONS - BUCHAREST
END:VEVENT
BEGIN:VEVENT
DTSTART;TZID=Europe/Helsinki:20211005T165000
DTEND;TZID=Europe/Helsinki:20211005T175500
DTSTAMP:20260426T022241
CREATED:20210329T142226Z
LAST-MODIFIED:20210915T092603Z
UID:2658-1633452600-1633456500@aviationinstitute.eu
SUMMARY:M2 Examination
DESCRIPTION:M2 – Physics \n  \n*Only English Session is a special type of session tailored for foreign students. In order to organize it as scheduled\, at least 1 foreign student OR a minimum group of 6 Romanian students have to participate.
URL:https://aviationinstitute.eu/ro/calendar-evenimente/m2-examination-only-english-4/
LOCATION:Romanian Aeronautical Association – Bucharest\, Biharia 44\, Bucharest\, Romania
CATEGORIES:EASA Part 66 Modules EXAMINATIONS - BUCHAREST
END:VEVENT
BEGIN:VEVENT
DTSTART;TZID=Europe/Helsinki:20211006T160000
DTEND;TZID=Europe/Helsinki:20211006T170500
DTSTAMP:20260426T022241
CREATED:20210330T101130Z
LAST-MODIFIED:20210915T092541Z
UID:2662-1633536000-1633539900@aviationinstitute.eu
SUMMARY:M3 Examination
DESCRIPTION:M3 – Electrical fundamentals \n  \n*Only English Session is a special type of session tailored for foreign students. In order to organize it as scheduled\, at least 1 foreign student OR a minimum group of 6 Romanian students have to participate.
URL:https://aviationinstitute.eu/ro/calendar-evenimente/m3-examination-only-english-4/
LOCATION:Romanian Aeronautical Association – Bucharest\, Biharia 44\, Bucharest\, Romania
CATEGORIES:EASA Part 66 Modules EXAMINATIONS - BUCHAREST
END:VEVENT
BEGIN:VEVENT
DTSTART;TZID=Europe/Helsinki:20211006T171000
DTEND;TZID=Europe/Helsinki:20211006T180000
DTSTAMP:20260426T022241
CREATED:20210330T101234Z
LAST-MODIFIED:20210915T092514Z
UID:2664-1633540200-1633543200@aviationinstitute.eu
SUMMARY:M4 Examination
DESCRIPTION:M4 – Electronic fundamentals \n  \n*Only English Session is a special type of session tailored for foreign students. In order to organize it as scheduled\, at least 1 foreign student OR a minimum group of 6 Romanian students have to participate.
URL:https://aviationinstitute.eu/ro/calendar-evenimente/m4-examination-only-english-4/
LOCATION:Romanian Aeronautical Association – Bucharest\, Biharia 44\, Bucharest\, Romania
CATEGORIES:EASA Part 66 Modules EXAMINATIONS - BUCHAREST
END:VEVENT
BEGIN:VEVENT
DTSTART;TZID=Europe/Helsinki:20211006T180000
DTEND;TZID=Europe/Helsinki:20211006T193000
DTSTAMP:20260426T022241
CREATED:20210330T101407Z
LAST-MODIFIED:20210915T092518Z
UID:2666-1633543200-1633548600@aviationinstitute.eu
SUMMARY:M5 Examination
DESCRIPTION:M5 – Digital techniques/ Electronic instrument systems \n  \n*Only English Session is a special type of session tailored for foreign students. In order to organize it as scheduled\, at least 1 foreign student OR a minimum group of 6 Romanian students have to participate.
URL:https://aviationinstitute.eu/ro/calendar-evenimente/m5-examination-only-english-4/
LOCATION:Romanian Aeronautical Association – Bucharest\, Biharia 44\, Bucharest\, Romania
CATEGORIES:EASA Part 66 Modules EXAMINATIONS - BUCHAREST
END:VEVENT
BEGIN:VEVENT
DTSTART;TZID=Europe/Helsinki:20211007T040000
DTEND;TZID=Europe/Helsinki:20211007T173000
DTSTAMP:20260426T022241
CREATED:20210330T101515Z
LAST-MODIFIED:20211004T115138Z
UID:2668-1633579200-1633627800@aviationinstitute.eu
SUMMARY:M6 Examination - POSTPONED to 25.11.2021
DESCRIPTION:M6 – Materials and hardware \n  \n*Only English Session is a special type of session tailored for foreign students. In order to organize it as scheduled\, at least 1 foreign student OR a minimum group of 6 Romanian students have to participate.
URL:https://aviationinstitute.eu/ro/calendar-evenimente/m6-examination-only-english-2/
LOCATION:Romanian Aeronautical Association – Bucharest\, Biharia 44\, Bucharest\, Romania
CATEGORIES:EASA Part 66 Modules EXAMINATIONS - BUCHAREST
END:VEVENT
BEGIN:VEVENT
DTSTART;TZID=Europe/Helsinki:20211008T160000
DTEND;TZID=Europe/Helsinki:20211008T174000
DTSTAMP:20260426T022241
CREATED:20210330T101646Z
LAST-MODIFIED:20210915T092507Z
UID:2672-1633708800-1633714800@aviationinstitute.eu
SUMMARY:M7 MCQ Examination
DESCRIPTION:M7 – Maintenance practices \n  \n*Only English Session is a special type of session tailored for foreign students. In order to organize it as scheduled\, at least 1 foreign student OR a minimum group of 6 Romanian students have to participate.
URL:https://aviationinstitute.eu/ro/calendar-evenimente/m7-mcq-examination-only-english-5/
LOCATION:Romanian Aeronautical Association – Bucharest\, Biharia 44\, Bucharest\, Romania
CATEGORIES:EASA Part 66 Modules EXAMINATIONS - BUCHAREST
END:VEVENT
BEGIN:VEVENT
DTSTART;TZID=Europe/Helsinki:20211008T175000
DTEND;TZID=Europe/Helsinki:20211008T181000
DTSTAMP:20260426T022241
CREATED:20210330T101732Z
LAST-MODIFIED:20210915T092458Z
UID:2674-1633715400-1633716600@aviationinstitute.eu
SUMMARY:M7 Essay 1 Examination
DESCRIPTION:M7 – Maintenance practices \n  \n*Only English Session is a special type of session tailored for foreign students. In order to organize it as scheduled\, at least 1 foreign student OR a minimum group of 6 Romanian students have to participate.
URL:https://aviationinstitute.eu/ro/calendar-evenimente/m7-essay-1-examination-only-english-2/
LOCATION:Romanian Aeronautical Association – Bucharest\, Biharia 44\, Bucharest\, Romania
CATEGORIES:EASA Part 66 Modules EXAMINATIONS - BUCHAREST
END:VEVENT
BEGIN:VEVENT
DTSTART;TZID=Europe/Helsinki:20211008T182000
DTEND;TZID=Europe/Helsinki:20211008T184000
DTSTAMP:20260426T022241
CREATED:20210330T101817Z
LAST-MODIFIED:20210915T092452Z
UID:2676-1633717200-1633718400@aviationinstitute.eu
SUMMARY:M7 Essay 2 Examination
DESCRIPTION:M7 – Maintenance practices \n  \n*Only English Session is a special type of session tailored for foreign students. In order to organize it as scheduled\, at least 1 foreign student OR a minimum group of 6 Romanian students have to participate.
URL:https://aviationinstitute.eu/ro/calendar-evenimente/m7-essay-2-examination-only-english-2/
LOCATION:Romanian Aeronautical Association – Bucharest\, Biharia 44\, Bucharest\, Romania
CATEGORIES:EASA Part 66 Modules EXAMINATIONS - BUCHAREST
END:VEVENT
BEGIN:VEVENT
DTSTART;VALUE=DATE:20211011
DTEND;VALUE=DATE:20211118
DTSTAMP:20260426T022241
CREATED:20210729T132957Z
LAST-MODIFIED:20210913T080357Z
UID:3059-1633910400-1637193599@aviationinstitute.eu
SUMMARY:A320 Type Training
DESCRIPTION:The theoretical online course for A320 CFM56+IAE V2500\, B1&B2\, will take 33 days\, between 16:00-22:00.\nThe practical training\, which will take 11 days\, will start after the theoretical part is completed.\nFor more details\, send an email at office@aeroas.ro
URL:https://aviationinstitute.eu/ro/calendar-evenimente/a320-type-training-3/
CATEGORIES:A320 TYPE TRAINING
END:VEVENT
BEGIN:VEVENT
DTSTART;TZID=Europe/Helsinki:20211011T160000
DTEND;TZID=Europe/Helsinki:20211011T162500
DTSTAMP:20260426T022241
CREATED:20210330T101922Z
LAST-MODIFIED:20210915T092446Z
UID:2678-1633968000-1633969500@aviationinstitute.eu
SUMMARY:M9 MCQ Examination
DESCRIPTION:M9 – Human Factors \n  \n*Only English Session is a special type of session tailored for foreign students. In order to organize it as scheduled\, at least 1 foreign student OR a minimum group of 6 Romanian students have to participate.
URL:https://aviationinstitute.eu/ro/calendar-evenimente/m9-mcq-examination-only-english-2/
LOCATION:Romanian Aeronautical Association – Bucharest\, Biharia 44\, Bucharest\, Romania
CATEGORIES:EASA Part 66 Modules EXAMINATIONS - BUCHAREST
END:VEVENT
BEGIN:VEVENT
DTSTART;TZID=Europe/Helsinki:20211011T164000
DTEND;TZID=Europe/Helsinki:20211011T170000
DTSTAMP:20260426T022241
CREATED:20210330T102009Z
LAST-MODIFIED:20210915T092439Z
UID:2680-1633970400-1633971600@aviationinstitute.eu
SUMMARY:M9 Essay Examination
DESCRIPTION:M9 – Human Factors \n  \n*Only English Session is a special type of session tailored for foreign students. In order to organize it as scheduled\, at least 1 foreign student OR a minimum group of 6 Romanian students have to participate.
URL:https://aviationinstitute.eu/ro/calendar-evenimente/m9-essay-examination-only-english-2/
LOCATION:Romanian Aeronautical Association – Bucharest\, Biharia 44\, Bucharest\, Romania
CATEGORIES:EASA Part 66 Modules EXAMINATIONS - BUCHAREST
END:VEVENT
BEGIN:VEVENT
DTSTART;TZID=Europe/Helsinki:20211011T171000
DTEND;TZID=Europe/Helsinki:20211011T180000
DTSTAMP:20260426T022241
CREATED:20210330T102051Z
LAST-MODIFIED:20210915T092434Z
UID:2682-1633972200-1633975200@aviationinstitute.eu
SUMMARY:M10 MCQ Examination
DESCRIPTION:M10 – Legislation \n  \n*Only English Session is a special type of session tailored for foreign students. In order to organize it as scheduled\, at least 1 foreign student OR a minimum group of 6 Romanian students have to participate.
URL:https://aviationinstitute.eu/ro/calendar-evenimente/m10-mcq-examination-only-english-4/
LOCATION:Romanian Aeronautical Association – Bucharest\, Biharia 44\, Bucharest\, Romania
CATEGORIES:EASA Part 66 Modules EXAMINATIONS - BUCHAREST
END:VEVENT
BEGIN:VEVENT
DTSTART;TZID=Europe/Helsinki:20211011T181000
DTEND;TZID=Europe/Helsinki:20211011T183000
DTSTAMP:20260426T022241
CREATED:20210330T102129Z
LAST-MODIFIED:20210915T092426Z
UID:2684-1633975800-1633977000@aviationinstitute.eu
SUMMARY:M10 Essay Examination
DESCRIPTION:M10 – Legislation \n  \n*Only English Session is a special type of session tailored for foreign students. In order to organize it as scheduled\, at least 1 foreign student OR a minimum group of 6 Romanian students have to participate.
URL:https://aviationinstitute.eu/ro/calendar-evenimente/m10-essay-examination-only-english-3/
LOCATION:Romanian Aeronautical Association – Bucharest\, Biharia 44\, Bucharest\, Romania
CATEGORIES:EASA Part 66 Modules EXAMINATIONS - BUCHAREST
END:VEVENT
BEGIN:VEVENT
DTSTART;TZID=Europe/Helsinki:20211012T160000
DTEND;TZID=Europe/Helsinki:20211012T173000
DTSTAMP:20260426T022241
CREATED:20210804T080448Z
LAST-MODIFIED:20210804T080448Z
UID:3078-1634054400-1634059800@aviationinstitute.eu
SUMMARY:M16 Examination
DESCRIPTION:M16 – Piston engine
URL:https://aviationinstitute.eu/ro/calendar-evenimente/m16-examination-3/
LOCATION:Romanian Aeronautical Association – Bucharest\, Biharia 44\, Bucharest\, Romania
CATEGORIES:EASA Part 66 Modules EXAMINATIONS - BUCHAREST
END:VEVENT
BEGIN:VEVENT
DTSTART;TZID=Europe/Helsinki:20211012T160000
DTEND;TZID=Europe/Helsinki:20211012T175500
DTSTAMP:20260426T022241
CREATED:20210329T140451Z
LAST-MODIFIED:20210804T080609Z
UID:2654-1634054400-1634061300@aviationinstitute.eu
SUMMARY:M15 Examination
DESCRIPTION:M15 – Gas turbine engines
URL:https://aviationinstitute.eu/ro/calendar-evenimente/m15-examination-10/
LOCATION:Romanian Aeronautical Association – Bucharest\, Biharia 44\, Bucharest\, Romania
CATEGORIES:EASA Part 66 Modules EXAMINATIONS - BUCHAREST
END:VEVENT
BEGIN:VEVENT
DTSTART;TZID=Europe/Helsinki:20211030T090000
DTEND;TZID=Europe/Helsinki:20211030T094000
DTSTAMP:20260426T022241
CREATED:20211015T075658Z
LAST-MODIFIED:20211015T075658Z
UID:3137-1635584400-1635586800@aviationinstitute.eu
SUMMARY:M17 Examination
DESCRIPTION:M17 – Propeller
URL:https://aviationinstitute.eu/ro/calendar-evenimente/m17-examination-11/
LOCATION:Aerostar – Bacau\, Str. Condorilor\, 9\, Bacau\, 600302\, Romania
CATEGORIES:EASA Part 66 Modules EXAMINATIONS - BACAU
END:VEVENT
BEGIN:VEVENT
DTSTART;TZID=Europe/Helsinki:20211030T105000
DTEND;TZID=Europe/Helsinki:20211030T111000
DTSTAMP:20260426T022241
CREATED:20211015T075529Z
LAST-MODIFIED:20211015T075529Z
UID:3133-1635591000-1635592200@aviationinstitute.eu
SUMMARY:M7 Essay 1 Examination
DESCRIPTION:M7 – Maintenance practices
URL:https://aviationinstitute.eu/ro/calendar-evenimente/m7-essay-1-examination-11/
LOCATION:Aerostar – Bacau\, Str. Condorilor\, 9\, Bacau\, 600302\, Romania
CATEGORIES:EASA Part 66 Modules EXAMINATIONS - BACAU
END:VEVENT
END:VCALENDAR