BEGIN:VCALENDAR
VERSION:2.0
PRODID:-//European Aviation Institute - ECPv6.15.20//NONSGML v1.0//EN
CALSCALE:GREGORIAN
METHOD:PUBLISH
X-WR-CALNAME:European Aviation Institute
X-ORIGINAL-URL:https://aviationinstitute.eu/ro
X-WR-CALDESC:Evenimente pentru European Aviation Institute
REFRESH-INTERVAL;VALUE=DURATION:PT1H
X-Robots-Tag:noindex
X-PUBLISHED-TTL:PT1H
BEGIN:VTIMEZONE
TZID:Europe/Helsinki
BEGIN:DAYLIGHT
TZOFFSETFROM:+0200
TZOFFSETTO:+0300
TZNAME:EEST
DTSTART:20200329T010000
END:DAYLIGHT
BEGIN:STANDARD
TZOFFSETFROM:+0300
TZOFFSETTO:+0200
TZNAME:EET
DTSTART:20201025T010000
END:STANDARD
BEGIN:DAYLIGHT
TZOFFSETFROM:+0200
TZOFFSETTO:+0300
TZNAME:EEST
DTSTART:20210328T010000
END:DAYLIGHT
BEGIN:STANDARD
TZOFFSETFROM:+0300
TZOFFSETTO:+0200
TZNAME:EET
DTSTART:20211031T010000
END:STANDARD
BEGIN:DAYLIGHT
TZOFFSETFROM:+0200
TZOFFSETTO:+0300
TZNAME:EEST
DTSTART:20220327T010000
END:DAYLIGHT
BEGIN:STANDARD
TZOFFSETFROM:+0300
TZOFFSETTO:+0200
TZNAME:EET
DTSTART:20221030T010000
END:STANDARD
END:VTIMEZONE
BEGIN:VEVENT
DTSTART;VALUE=DATE:20211011
DTEND;VALUE=DATE:20211118
DTSTAMP:20260426T022234
CREATED:20210729T132957Z
LAST-MODIFIED:20210913T080357Z
UID:3059-1633910400-1637193599@aviationinstitute.eu
SUMMARY:A320 Type Training
DESCRIPTION:The theoretical online course for A320 CFM56+IAE V2500\, B1&B2\, will take 33 days\, between 16:00-22:00.\nThe practical training\, which will take 11 days\, will start after the theoretical part is completed.\nFor more details\, send an email at office@aeroas.ro
URL:https://aviationinstitute.eu/ro/calendar-evenimente/a320-type-training-3/
CATEGORIES:A320 TYPE TRAINING
END:VEVENT
BEGIN:VEVENT
DTSTART;VALUE=DATE:20211101
DTEND;VALUE=DATE:20211105
DTSTAMP:20260426T022234
CREATED:20211029T134300Z
LAST-MODIFIED:20211029T134300Z
UID:3148-1635724800-1636070399@aviationinstitute.eu
SUMMARY:Safety Management System
DESCRIPTION:Bucharest
URL:https://aviationinstitute.eu/ro/calendar-evenimente/safety-management-system/
LOCATION:Other locations
CATEGORIES:Safety Management System (SMS)
END:VEVENT
BEGIN:VEVENT
DTSTART;VALUE=DATE:20211108
DTEND;VALUE=DATE:20211120
DTSTAMP:20260426T022234
CREATED:20210824T134527Z
LAST-MODIFIED:20210907T115635Z
UID:3089-1636329600-1637366399@aviationinstitute.eu
SUMMARY:B737 NG Practical Training
DESCRIPTION:B737 NG 600/700/800/900 Practical Training \nLocation: Romaero hangar \n10 days\, Monday-Friday starting 8:00-15:00
URL:https://aviationinstitute.eu/ro/calendar-evenimente/b737-ng-practical-training/
LOCATION:Romaero\, Ficusului 44\, Bucharest\, 013975\, Romania
CATEGORIES:B737 TYPE TRAINING
END:VEVENT
BEGIN:VEVENT
DTSTART;TZID=Europe/Helsinki:20211109T160000
DTEND;TZID=Europe/Helsinki:20211109T174000
DTSTAMP:20260426T022234
CREATED:20210730T091751Z
LAST-MODIFIED:20210730T091751Z
UID:3071-1636473600-1636479600@aviationinstitute.eu
SUMMARY:M7 MCQ Examination
DESCRIPTION:M7 – Maintenance practices
URL:https://aviationinstitute.eu/ro/calendar-evenimente/m7-mcq-examination-9/
LOCATION:Romanian Aeronautical Association – Bucharest\, Biharia 44\, Bucharest\, Romania
CATEGORIES:EASA Part 66 Modules EXAMINATIONS - BUCHAREST
END:VEVENT
BEGIN:VEVENT
DTSTART;TZID=Europe/Helsinki:20211109T175000
DTEND;TZID=Europe/Helsinki:20211109T181000
DTSTAMP:20260426T022234
CREATED:20210730T091839Z
LAST-MODIFIED:20210730T091839Z
UID:3073-1636480200-1636481400@aviationinstitute.eu
SUMMARY:M7 Essay 1 Examination
DESCRIPTION:M7 – Maintenance practices
URL:https://aviationinstitute.eu/ro/calendar-evenimente/m7-essay-1-examination-10/
LOCATION:Romanian Aeronautical Association – Bucharest\, Biharia 44\, Bucharest\, Romania
CATEGORIES:EASA Part 66 Modules EXAMINATIONS - BUCHAREST
END:VEVENT
BEGIN:VEVENT
DTSTART;TZID=Europe/Helsinki:20211109T182000
DTEND;TZID=Europe/Helsinki:20211109T184000
DTSTAMP:20260426T022234
CREATED:20210730T091920Z
LAST-MODIFIED:20210730T091920Z
UID:3075-1636482000-1636483200@aviationinstitute.eu
SUMMARY:M7 Essay 2 Examination
DESCRIPTION:M7 – Maintenance practices
URL:https://aviationinstitute.eu/ro/calendar-evenimente/m7-essay-2-examination-9/
LOCATION:Romanian Aeronautical Association – Bucharest\, Biharia 44\, Bucharest\, Romania
CATEGORIES:EASA Part 66 Modules EXAMINATIONS - BUCHAREST
END:VEVENT
BEGIN:VEVENT
DTSTART;TZID=Europe/Helsinki:20211126T160000
DTEND;TZID=Europe/Helsinki:20211126T201500
DTSTAMP:20260426T022234
CREATED:20211029T134802Z
LAST-MODIFIED:20211029T134802Z
UID:3150-1637942400-1637957700@aviationinstitute.eu
SUMMARY:A320 Type Training Examination
DESCRIPTION:
URL:https://aviationinstitute.eu/ro/calendar-evenimente/a320-type-training-examination/
LOCATION:Romanian Aeronautical Association – Bucharest\, Biharia 44\, Bucharest\, Romania
CATEGORIES:A320 TYPE TRAINING
END:VEVENT
BEGIN:VEVENT
DTSTART;VALUE=DATE:20211127
DTEND;VALUE=DATE:20211129
DTSTAMP:20260426T022234
CREATED:20211117T120937Z
LAST-MODIFIED:20211117T121244Z
UID:3291-1637971200-1638143999@aviationinstitute.eu
SUMMARY:M7 review
DESCRIPTION:M7 – Maintenance practices \nOnline (Teams platform) 9:00 – 15:00 (Bucharest time)
URL:https://aviationinstitute.eu/ro/calendar-evenimente/m7-review/
LOCATION:Romanian Aeronautical Association – Bucharest\, Biharia 44\, Bucharest\, Romania
CATEGORIES:EASA Part 66 Modules Reviews - BUCHAREST
END:VEVENT
END:VCALENDAR