BEGIN:VCALENDAR
VERSION:2.0
PRODID:-//European Aviation Institute - ECPv6.15.20//NONSGML v1.0//EN
CALSCALE:GREGORIAN
METHOD:PUBLISH
X-WR-CALNAME:European Aviation Institute
X-ORIGINAL-URL:https://aviationinstitute.eu/ro
X-WR-CALDESC:Evenimente pentru European Aviation Institute
REFRESH-INTERVAL;VALUE=DURATION:PT1H
X-Robots-Tag:noindex
X-PUBLISHED-TTL:PT1H
BEGIN:VTIMEZONE
TZID:Europe/Helsinki
BEGIN:DAYLIGHT
TZOFFSETFROM:+0200
TZOFFSETTO:+0300
TZNAME:EEST
DTSTART:20210328T010000
END:DAYLIGHT
BEGIN:STANDARD
TZOFFSETFROM:+0300
TZOFFSETTO:+0200
TZNAME:EET
DTSTART:20211031T010000
END:STANDARD
BEGIN:DAYLIGHT
TZOFFSETFROM:+0200
TZOFFSETTO:+0300
TZNAME:EEST
DTSTART:20220327T010000
END:DAYLIGHT
BEGIN:STANDARD
TZOFFSETFROM:+0300
TZOFFSETTO:+0200
TZNAME:EET
DTSTART:20221030T010000
END:STANDARD
BEGIN:DAYLIGHT
TZOFFSETFROM:+0200
TZOFFSETTO:+0300
TZNAME:EEST
DTSTART:20230326T010000
END:DAYLIGHT
BEGIN:STANDARD
TZOFFSETFROM:+0300
TZOFFSETTO:+0200
TZNAME:EET
DTSTART:20231029T010000
END:STANDARD
END:VTIMEZONE
BEGIN:VEVENT
DTSTART;VALUE=DATE:20220117
DTEND;VALUE=DATE:20220218
DTSTAMP:20260425T163833
CREATED:20211015T080236Z
LAST-MODIFIED:20211213T151356Z
UID:3139-1642377600-1645142399@aviationinstitute.eu
SUMMARY:B737 NG Type Training
DESCRIPTION:The theoretical online course for B737 NG (600/700/800/900) CFM56\, B1&B2\, will take 28 days\, between 17:00-23:00 (Bucharest time).\nThe practical training\, which will take 10 days\, will start after the theoretical part is completed.\nFor more details\, send an email at office@aeroas.ro
URL:https://aviationinstitute.eu/ro/calendar-evenimente/b737-ng-type-training-2/
CATEGORIES:B737 TYPE TRAINING
END:VEVENT
BEGIN:VEVENT
DTSTART;TZID=Europe/Helsinki:20220210T160000
DTEND;TZID=Europe/Helsinki:20220210T174000
DTSTAMP:20260425T163833
CREATED:20211115T084000Z
LAST-MODIFIED:20211115T084000Z
UID:3211-1644508800-1644514800@aviationinstitute.eu
SUMMARY:M7 MCQ Examination
DESCRIPTION:M7 – Maintenance practices
URL:https://aviationinstitute.eu/ro/calendar-evenimente/m7-mcq-examination-11/
LOCATION:Romanian Aeronautical Association – Bucharest\, Biharia 44\, Bucharest\, Romania
CATEGORIES:EASA Part 66 Modules EXAMINATIONS - BUCHAREST
END:VEVENT
BEGIN:VEVENT
DTSTART;TZID=Europe/Helsinki:20220210T175000
DTEND;TZID=Europe/Helsinki:20220210T181000
DTSTAMP:20260425T163833
CREATED:20211115T084102Z
LAST-MODIFIED:20211115T084102Z
UID:3213-1644515400-1644516600@aviationinstitute.eu
SUMMARY:M7 Essay 1 Examination
DESCRIPTION:M7 – Maintenance practices
URL:https://aviationinstitute.eu/ro/calendar-evenimente/m7-essay-1-examination-13/
LOCATION:Romanian Aeronautical Association – Bucharest\, Biharia 44\, Bucharest\, Romania
CATEGORIES:EASA Part 66 Modules EXAMINATIONS - BUCHAREST
END:VEVENT
BEGIN:VEVENT
DTSTART;TZID=Europe/Helsinki:20220210T182000
DTEND;TZID=Europe/Helsinki:20220210T184000
DTSTAMP:20260425T163833
CREATED:20211115T084146Z
LAST-MODIFIED:20211115T084146Z
UID:3215-1644517200-1644518400@aviationinstitute.eu
SUMMARY:M7 Essay 2 Examination
DESCRIPTION:M7 – Maintenance practices
URL:https://aviationinstitute.eu/ro/calendar-evenimente/m7-essay-2-examination-11/
LOCATION:Romanian Aeronautical Association – Bucharest\, Biharia 44\, Bucharest\, Romania
CATEGORIES:EASA Part 66 Modules EXAMINATIONS - BUCHAREST
END:VEVENT
BEGIN:VEVENT
DTSTART;TZID=Europe/Helsinki:20220221T100000
DTEND;TZID=Europe/Helsinki:20220221T134500
DTSTAMP:20260425T163833
CREATED:20211122T103119Z
LAST-MODIFIED:20220118T115743Z
UID:3312-1645437600-1645451100@aviationinstitute.eu
SUMMARY:B737 NG Type Training Examination
DESCRIPTION:
URL:https://aviationinstitute.eu/ro/calendar-evenimente/b737-ng-type-training-examination/
LOCATION:Romanian Aeronautical Association – Bucharest\, Biharia 44\, Bucharest\, Romania
CATEGORIES:B737 TYPE TRAINING
END:VEVENT
BEGIN:VEVENT
DTSTART;TZID=Europe/Helsinki:20220223T160000
DTEND;TZID=Europe/Helsinki:20220223T162500
DTSTAMP:20260425T163833
CREATED:20211115T084916Z
LAST-MODIFIED:20220215T160112Z
UID:3219-1645632000-1645633500@aviationinstitute.eu
SUMMARY:M8 Examination - POSTPONED FOR 15.03.2022
DESCRIPTION:M8 – Basic aerodynamics
URL:https://aviationinstitute.eu/ro/calendar-evenimente/m8-examination-10/
LOCATION:Romanian Aeronautical Association – Bucharest\, Biharia 44\, Bucharest\, Romania
CATEGORIES:EASA Part 66 Modules EXAMINATIONS - BUCHAREST
END:VEVENT
BEGIN:VEVENT
DTSTART;TZID=Europe/Helsinki:20220228T160000
DTEND;TZID=Europe/Helsinki:20220228T173000
DTSTAMP:20260425T163833
CREATED:20211115T083419Z
LAST-MODIFIED:20211115T083419Z
UID:3205-1646064000-1646069400@aviationinstitute.eu
SUMMARY:M6 Examination
DESCRIPTION:M6 – Materials and hardware
URL:https://aviationinstitute.eu/ro/calendar-evenimente/m6-examination-18/
LOCATION:Romanian Aeronautical Association – Bucharest\, Biharia 44\, Bucharest\, Romania
CATEGORIES:EASA Part 66 Modules EXAMINATIONS - BUCHAREST
END:VEVENT
END:VCALENDAR