BEGIN:VCALENDAR
VERSION:2.0
PRODID:-//European Aviation Institute - ECPv6.15.20//NONSGML v1.0//EN
CALSCALE:GREGORIAN
METHOD:PUBLISH
X-WR-CALNAME:European Aviation Institute
X-ORIGINAL-URL:https://aviationinstitute.eu/ro
X-WR-CALDESC:Evenimente pentru European Aviation Institute
REFRESH-INTERVAL;VALUE=DURATION:PT1H
X-Robots-Tag:noindex
X-PUBLISHED-TTL:PT1H
BEGIN:VTIMEZONE
TZID:Europe/Helsinki
BEGIN:DAYLIGHT
TZOFFSETFROM:+0200
TZOFFSETTO:+0300
TZNAME:EEST
DTSTART:20210328T010000
END:DAYLIGHT
BEGIN:STANDARD
TZOFFSETFROM:+0300
TZOFFSETTO:+0200
TZNAME:EET
DTSTART:20211031T010000
END:STANDARD
BEGIN:DAYLIGHT
TZOFFSETFROM:+0200
TZOFFSETTO:+0300
TZNAME:EEST
DTSTART:20220327T010000
END:DAYLIGHT
BEGIN:STANDARD
TZOFFSETFROM:+0300
TZOFFSETTO:+0200
TZNAME:EET
DTSTART:20221030T010000
END:STANDARD
BEGIN:DAYLIGHT
TZOFFSETFROM:+0200
TZOFFSETTO:+0300
TZNAME:EEST
DTSTART:20230326T010000
END:DAYLIGHT
BEGIN:STANDARD
TZOFFSETFROM:+0300
TZOFFSETTO:+0200
TZNAME:EET
DTSTART:20231029T010000
END:STANDARD
END:VTIMEZONE
BEGIN:VEVENT
DTSTART;TZID=Europe/Helsinki:20220414T090000
DTEND;TZID=Europe/Helsinki:20220414T120000
DTSTAMP:20260425T175316
CREATED:20220331T074610Z
LAST-MODIFIED:20220331T074610Z
UID:3398-1649926800-1649937600@aviationinstitute.eu
SUMMARY:M6 ONLINE Short review - day 1
DESCRIPTION:M6 – Materials and hardware
URL:https://aviationinstitute.eu/ro/calendar-evenimente/m6-online-short-review-day-1/
CATEGORIES:EASA Part 66 Modules Reviews - BUCHAREST
END:VEVENT
BEGIN:VEVENT
DTSTART;TZID=Europe/Helsinki:20220414T160000
DTEND;TZID=Europe/Helsinki:20220414T185500
DTSTAMP:20260425T175316
CREATED:20211108T093610Z
LAST-MODIFIED:20211108T093610Z
UID:3177-1649952000-1649962500@aviationinstitute.eu
SUMMARY:M11A Examination
DESCRIPTION:M11 – Aeroplane aerodynamics\, structures and systems
URL:https://aviationinstitute.eu/ro/calendar-evenimente/m11a-examination-2/
LOCATION:Romanian Aeronautical Association – Bucharest\, Biharia 44\, Bucharest\, Romania
CATEGORIES:EASA Part 66 Modules EXAMINATIONS - BUCHAREST
END:VEVENT
BEGIN:VEVENT
DTSTART;TZID=Europe/Helsinki:20220415T090000
DTEND;TZID=Europe/Helsinki:20220415T120000
DTSTAMP:20260425T175316
CREATED:20220331T074704Z
LAST-MODIFIED:20220331T074742Z
UID:3400-1650013200-1650024000@aviationinstitute.eu
SUMMARY:M6 ONLINE Short review - day 2
DESCRIPTION:M6 – Materials and hardware
URL:https://aviationinstitute.eu/ro/calendar-evenimente/m6-online-short-review-day-2/
CATEGORIES:EASA Part 66 Modules Reviews - BUCHAREST
END:VEVENT
BEGIN:VEVENT
DTSTART;TZID=Europe/Helsinki:20220416T090000
DTEND;TZID=Europe/Helsinki:20220416T120000
DTSTAMP:20260425T175316
CREATED:20220331T074836Z
LAST-MODIFIED:20220331T074836Z
UID:3402-1650099600-1650110400@aviationinstitute.eu
SUMMARY:M6 ONLINE Short review - day 3
DESCRIPTION:M6 – Materials and hardware
URL:https://aviationinstitute.eu/ro/calendar-evenimente/m6-online-short-review-day-3/
CATEGORIES:EASA Part 66 Modules Reviews - BUCHAREST
END:VEVENT
BEGIN:VEVENT
DTSTART;TZID=Europe/Helsinki:20220417T090000
DTEND;TZID=Europe/Helsinki:20220417T120000
DTSTAMP:20260425T175316
CREATED:20220331T074914Z
LAST-MODIFIED:20220331T074914Z
UID:3404-1650186000-1650196800@aviationinstitute.eu
SUMMARY:M6 ONLINE Short review - day 4
DESCRIPTION:M6 – Materials and hardware
URL:https://aviationinstitute.eu/ro/calendar-evenimente/m6-online-short-review-day-4/
CATEGORIES:EASA Part 66 Modules Reviews - BUCHAREST
END:VEVENT
BEGIN:VEVENT
DTSTART;TZID=Europe/Helsinki:20220419T100000
DTEND;TZID=Europe/Helsinki:20220419T160000
DTSTAMP:20260425T175316
CREATED:20220419T072705Z
LAST-MODIFIED:20220419T072705Z
UID:3448-1650362400-1650384000@aviationinstitute.eu
SUMMARY:SMS Course Day 1
DESCRIPTION:Safety Management System
URL:https://aviationinstitute.eu/ro/calendar-evenimente/sms-course-day-1/
CATEGORIES:Safety Management System (SMS)
END:VEVENT
BEGIN:VEVENT
DTSTART;TZID=Europe/Helsinki:20220420T100000
DTEND;TZID=Europe/Helsinki:20220420T160000
DTSTAMP:20260425T175316
CREATED:20220419T072803Z
LAST-MODIFIED:20220419T072803Z
UID:3450-1650448800-1650470400@aviationinstitute.eu
SUMMARY:SMS Course Day 2
DESCRIPTION:Safety Management System
URL:https://aviationinstitute.eu/ro/calendar-evenimente/sms-course-day-2/
CATEGORIES:Safety Management System (SMS)
END:VEVENT
END:VCALENDAR