BEGIN:VCALENDAR
VERSION:2.0
PRODID:-//European Aviation Institute - ECPv6.15.20//NONSGML v1.0//EN
CALSCALE:GREGORIAN
METHOD:PUBLISH
X-WR-CALNAME:European Aviation Institute
X-ORIGINAL-URL:https://aviationinstitute.eu/ro
X-WR-CALDESC:Evenimente pentru European Aviation Institute
REFRESH-INTERVAL;VALUE=DURATION:PT1H
X-Robots-Tag:noindex
X-PUBLISHED-TTL:PT1H
BEGIN:VTIMEZONE
TZID:Europe/Helsinki
BEGIN:DAYLIGHT
TZOFFSETFROM:+0200
TZOFFSETTO:+0300
TZNAME:EEST
DTSTART:20210328T010000
END:DAYLIGHT
BEGIN:STANDARD
TZOFFSETFROM:+0300
TZOFFSETTO:+0200
TZNAME:EET
DTSTART:20211031T010000
END:STANDARD
BEGIN:DAYLIGHT
TZOFFSETFROM:+0200
TZOFFSETTO:+0300
TZNAME:EEST
DTSTART:20220327T010000
END:DAYLIGHT
BEGIN:STANDARD
TZOFFSETFROM:+0300
TZOFFSETTO:+0200
TZNAME:EET
DTSTART:20221030T010000
END:STANDARD
BEGIN:DAYLIGHT
TZOFFSETFROM:+0200
TZOFFSETTO:+0300
TZNAME:EEST
DTSTART:20230326T010000
END:DAYLIGHT
BEGIN:STANDARD
TZOFFSETFROM:+0300
TZOFFSETTO:+0200
TZNAME:EET
DTSTART:20231029T010000
END:STANDARD
END:VTIMEZONE
BEGIN:VEVENT
DTSTART;VALUE=DATE:20220502
DTEND;VALUE=DATE:20220610
DTSTAMP:20260425T191620
CREATED:20211122T101924Z
LAST-MODIFIED:20220330T081552Z
UID:3304-1651449600-1654819199@aviationinstitute.eu
SUMMARY:A320 Type Training
DESCRIPTION:The theoretical online course for A320 CFM56+IAE V2500\, B1&B2\, will take 33+1 days\, Monday-Friday between 17:00-23:00 (Bucharest time) and Saturday between 9:00-15:00 (Bucharest time). The practical training\, which will take 11 days\, will start after the theoretical part is completed. For more details\, send an email at office@aeroas.ro
URL:https://aviationinstitute.eu/ro/calendar-evenimente/a320-type-training-4/
CATEGORIES:A320 TYPE TRAINING
END:VEVENT
BEGIN:VEVENT
DTSTART;VALUE=DATE:20220609
DTEND;VALUE=DATE:20220610
DTSTAMP:20260425T191620
CREATED:20220630T105927Z
LAST-MODIFIED:20220630T110131Z
UID:3479-1654732800-1654819199@aviationinstitute.eu
SUMMARY:EASA Air Ops Introduction
DESCRIPTION:EASA Air Ops Introduction (Commercial Air Transport for Aeroplanes)
URL:https://aviationinstitute.eu/ro/calendar-evenimente/easa-air-operations-introduction-commercial-air-transport-for-aeroplanes/
LOCATION:Other locations
CATEGORIES:Other courses
END:VEVENT
BEGIN:VEVENT
DTSTART;TZID=Europe/Helsinki:20220614T150000
DTEND;TZID=Europe/Helsinki:20220614T193000
DTSTAMP:20260425T191620
CREATED:20211122T102452Z
LAST-MODIFIED:20220331T075032Z
UID:3308-1655218800-1655235000@aviationinstitute.eu
SUMMARY:A320 Type Training Examination
DESCRIPTION:
URL:https://aviationinstitute.eu/ro/calendar-evenimente/a320-type-training-examination-2/
LOCATION:Romanian Aeronautical Association – Bucharest\, Biharia 44\, Bucharest\, Romania
CATEGORIES:A320 TYPE TRAINING
END:VEVENT
BEGIN:VEVENT
DTSTART;TZID=Europe/Helsinki:20220621T160000
DTEND;TZID=Europe/Helsinki:20220621T162500
DTSTAMP:20260425T191620
CREATED:20211108T094326Z
LAST-MODIFIED:20220303T114448Z
UID:3191-1655827200-1655828700@aviationinstitute.eu
SUMMARY:M9A MCQ Examination
DESCRIPTION:M9 – Human Factors
URL:https://aviationinstitute.eu/ro/calendar-evenimente/m9a-mcq-examination-2/
LOCATION:Romanian Aeronautical Association – Bucharest\, Biharia 44\, Bucharest\, Romania
CATEGORIES:EASA Part 66 Modules EXAMINATIONS - BUCHAREST
END:VEVENT
BEGIN:VEVENT
DTSTART;TZID=Europe/Helsinki:20220621T164000
DTEND;TZID=Europe/Helsinki:20220621T170000
DTSTAMP:20260425T191620
CREATED:20211108T094415Z
LAST-MODIFIED:20220303T114515Z
UID:3193-1655829600-1655830800@aviationinstitute.eu
SUMMARY:M9A Essay Examination
DESCRIPTION:M9 – Human Factors
URL:https://aviationinstitute.eu/ro/calendar-evenimente/m9a-essay-examination-2/
LOCATION:Romanian Aeronautical Association – Bucharest\, Biharia 44\, Bucharest\, Romania
CATEGORIES:EASA Part 66 Modules EXAMINATIONS - BUCHAREST
END:VEVENT
BEGIN:VEVENT
DTSTART;TZID=Europe/Helsinki:20220621T171000
DTEND;TZID=Europe/Helsinki:20220621T180000
DTSTAMP:20260425T191620
CREATED:20211108T094505Z
LAST-MODIFIED:20220303T114543Z
UID:3195-1655831400-1655834400@aviationinstitute.eu
SUMMARY:M10 MCQ Examination
DESCRIPTION:M10 – Aviation Legislation
URL:https://aviationinstitute.eu/ro/calendar-evenimente/m10-mcq-examination-11/
LOCATION:Romanian Aeronautical Association – Bucharest\, Biharia 44\, Bucharest\, Romania
CATEGORIES:EASA Part 66 Modules EXAMINATIONS - BUCHAREST
END:VEVENT
BEGIN:VEVENT
DTSTART;TZID=Europe/Helsinki:20220621T181000
DTEND;TZID=Europe/Helsinki:20220621T183000
DTSTAMP:20260425T191620
CREATED:20211108T094545Z
LAST-MODIFIED:20220303T114609Z
UID:3197-1655835000-1655836200@aviationinstitute.eu
SUMMARY:M10 Essay Examination
DESCRIPTION:M10 – Aviation Legislation
URL:https://aviationinstitute.eu/ro/calendar-evenimente/m10-essay-examination-14/
LOCATION:Romanian Aeronautical Association – Bucharest\, Biharia 44\, Bucharest\, Romania
CATEGORIES:EASA Part 66 Modules EXAMINATIONS - BUCHAREST
END:VEVENT
END:VCALENDAR