BEGIN:VCALENDAR
VERSION:2.0
PRODID:-//European Aviation Institute - ECPv6.15.20//NONSGML v1.0//EN
CALSCALE:GREGORIAN
METHOD:PUBLISH
X-WR-CALNAME:European Aviation Institute
X-ORIGINAL-URL:https://aviationinstitute.eu/ro
X-WR-CALDESC:Evenimente pentru European Aviation Institute
REFRESH-INTERVAL;VALUE=DURATION:PT1H
X-Robots-Tag:noindex
X-PUBLISHED-TTL:PT1H
BEGIN:VTIMEZONE
TZID:Europe/Helsinki
BEGIN:DAYLIGHT
TZOFFSETFROM:+0200
TZOFFSETTO:+0300
TZNAME:EEST
DTSTART:20210328T010000
END:DAYLIGHT
BEGIN:STANDARD
TZOFFSETFROM:+0300
TZOFFSETTO:+0200
TZNAME:EET
DTSTART:20211031T010000
END:STANDARD
BEGIN:DAYLIGHT
TZOFFSETFROM:+0200
TZOFFSETTO:+0300
TZNAME:EEST
DTSTART:20220327T010000
END:DAYLIGHT
BEGIN:STANDARD
TZOFFSETFROM:+0300
TZOFFSETTO:+0200
TZNAME:EET
DTSTART:20221030T010000
END:STANDARD
BEGIN:DAYLIGHT
TZOFFSETFROM:+0200
TZOFFSETTO:+0300
TZNAME:EEST
DTSTART:20230326T010000
END:DAYLIGHT
BEGIN:STANDARD
TZOFFSETFROM:+0300
TZOFFSETTO:+0200
TZNAME:EET
DTSTART:20231029T010000
END:STANDARD
END:VTIMEZONE
BEGIN:VEVENT
DTSTART;TZID=Europe/Helsinki:20220823T160000
DTEND;TZID=Europe/Helsinki:20220823T162000
DTSTAMP:20260425T190014
CREATED:20220729T110222Z
LAST-MODIFIED:20220729T110348Z
UID:3490-1661270400-1661271600@aviationinstitute.eu
SUMMARY:M10 Essay Examination
DESCRIPTION:M10 – Aviation Legislation
URL:https://aviationinstitute.eu/ro/calendar-evenimente/m10-essay-examination-17/
LOCATION:Romanian Aeronautical Association – Bucharest\, Biharia 44\, Bucharest\, Romania
CATEGORIES:EASA Part 66 Modules EXAMINATIONS - BUCHAREST
END:VEVENT
BEGIN:VEVENT
DTSTART;TZID=Europe/Helsinki:20220823T160000
DTEND;TZID=Europe/Helsinki:20220823T165000
DTSTAMP:20260425T190014
CREATED:20220729T110124Z
LAST-MODIFIED:20220729T110124Z
UID:3488-1661270400-1661273400@aviationinstitute.eu
SUMMARY:M10 MCQ Examination
DESCRIPTION:M10 – Aviation Legislation
URL:https://aviationinstitute.eu/ro/calendar-evenimente/m10-mcq-examination-15/
LOCATION:Romanian Aeronautical Association – Bucharest\, Biharia 44\, Bucharest\, Romania
CATEGORIES:EASA Part 66 Modules EXAMINATIONS - BUCHAREST
END:VEVENT
BEGIN:VEVENT
DTSTART;TZID=Europe/Helsinki:20220823T160000
DTEND;TZID=Europe/Helsinki:20220823T170500
DTSTAMP:20260425T190014
CREATED:20220729T110514Z
LAST-MODIFIED:20220729T110514Z
UID:3492-1661270400-1661274300@aviationinstitute.eu
SUMMARY:M3 Examination
DESCRIPTION:M3 – Electrical fundamentals
URL:https://aviationinstitute.eu/ro/calendar-evenimente/m3-examination-4/
LOCATION:Romanian Aeronautical Association – Bucharest\, Biharia 44\, Bucharest\, Romania
CATEGORIES:EASA Part 66 Modules EXAMINATIONS - BUCHAREST
END:VEVENT
BEGIN:VEVENT
DTSTART;TZID=Europe/Helsinki:20220823T160000
DTEND;TZID=Europe/Helsinki:20220823T173000
DTSTAMP:20260425T190014
CREATED:20220303T115440Z
LAST-MODIFIED:20220303T115440Z
UID:3379-1661270400-1661275800@aviationinstitute.eu
SUMMARY:M16 Examination
DESCRIPTION:M16 – Piston engine
URL:https://aviationinstitute.eu/ro/calendar-evenimente/m16-examination-6/
LOCATION:Romanian Aeronautical Association – Bucharest\, Biharia 44\, Bucharest\, Romania
CATEGORIES:EASA Part 66 Modules EXAMINATIONS - BUCHAREST
END:VEVENT
BEGIN:VEVENT
DTSTART;TZID=Europe/Helsinki:20220823T160000
DTEND;TZID=Europe/Helsinki:20220823T175500
DTSTAMP:20260425T190014
CREATED:20220303T115350Z
LAST-MODIFIED:20220303T115350Z
UID:3377-1661270400-1661277300@aviationinstitute.eu
SUMMARY:M15 Examination
DESCRIPTION:M15 – Gas turbine engine
URL:https://aviationinstitute.eu/ro/calendar-evenimente/m15-examination-11/
LOCATION:Romanian Aeronautical Association – Bucharest\, Biharia 44\, Bucharest\, Romania
CATEGORIES:EASA Part 66 Modules EXAMINATIONS - BUCHAREST
END:VEVENT
END:VCALENDAR