BEGIN:VCALENDAR
VERSION:2.0
PRODID:-//European Aviation Institute - ECPv6.15.18//NONSGML v1.0//EN
CALSCALE:GREGORIAN
METHOD:PUBLISH
X-WR-CALNAME:European Aviation Institute
X-ORIGINAL-URL:https://aviationinstitute.eu/ro
X-WR-CALDESC:Evenimente pentru European Aviation Institute
REFRESH-INTERVAL;VALUE=DURATION:PT1H
X-Robots-Tag:noindex
X-PUBLISHED-TTL:PT1H
BEGIN:VTIMEZONE
TZID:Europe/Helsinki
BEGIN:DAYLIGHT
TZOFFSETFROM:+0200
TZOFFSETTO:+0300
TZNAME:EEST
DTSTART:20210328T010000
END:DAYLIGHT
BEGIN:STANDARD
TZOFFSETFROM:+0300
TZOFFSETTO:+0200
TZNAME:EET
DTSTART:20211031T010000
END:STANDARD
BEGIN:DAYLIGHT
TZOFFSETFROM:+0200
TZOFFSETTO:+0300
TZNAME:EEST
DTSTART:20220327T010000
END:DAYLIGHT
BEGIN:STANDARD
TZOFFSETFROM:+0300
TZOFFSETTO:+0200
TZNAME:EET
DTSTART:20221030T010000
END:STANDARD
BEGIN:DAYLIGHT
TZOFFSETFROM:+0200
TZOFFSETTO:+0300
TZNAME:EEST
DTSTART:20230326T010000
END:DAYLIGHT
BEGIN:STANDARD
TZOFFSETFROM:+0300
TZOFFSETTO:+0200
TZNAME:EET
DTSTART:20231029T010000
END:STANDARD
END:VTIMEZONE
BEGIN:VEVENT
DTSTART;VALUE=DATE:20220905
DTEND;VALUE=DATE:20221007
DTSTAMP:20260425T133647
CREATED:20211122T102809Z
LAST-MODIFIED:20211122T102809Z
UID:3310-1662336000-1665100799@aviationinstitute.eu
SUMMARY:B737 NG Type Training
DESCRIPTION:The theoretical online course for B737 NG (600/700/800/900) CFM56\, B1&B2\, will take 28 days\, between 17:00-23:00 (Bucharest time).\nThe practical training\, which will take 10 days\, will start after the theoretical part is completed.\nFor more details\, send an email at office@aeroas.ro
URL:https://aviationinstitute.eu/ro/calendar-evenimente/b737-ng-type-training/
CATEGORIES:B737 TYPE TRAINING
END:VEVENT
BEGIN:VEVENT
DTSTART;TZID=Europe/Helsinki:20221012T100000
DTEND;TZID=Europe/Helsinki:20221012T134500
DTSTAMP:20260425T133647
CREATED:20211122T103219Z
LAST-MODIFIED:20211122T103219Z
UID:3314-1665568800-1665582300@aviationinstitute.eu
SUMMARY:B737 NG Type Training Examination
DESCRIPTION:
URL:https://aviationinstitute.eu/ro/calendar-evenimente/b737-ng-type-training-examination-2/
LOCATION:Romanian Aeronautical Association – Bucharest\, Biharia 44\, Bucharest\, Romania
CATEGORIES:B737 TYPE TRAINING
END:VEVENT
BEGIN:VEVENT
DTSTART;TZID=Europe/Helsinki:20221024T140000
DTEND;TZID=Europe/Helsinki:20221027T200000
DTSTAMP:20260425T133647
CREATED:20221026T191029Z
LAST-MODIFIED:20221026T191208Z
UID:3510-1666620000-1666900800@aviationinstitute.eu
SUMMARY:Regulatory Audit Techniques
DESCRIPTION:
URL:https://aviationinstitute.eu/ro/calendar-evenimente/regulatory-audit-techniques/
LOCATION:Romanian Aeronautical Association – Bucharest\, Biharia 44\, Bucharest\, Romania
CATEGORIES:Other courses
END:VEVENT
BEGIN:VEVENT
DTSTART;TZID=Europe/Helsinki:20221024T160000
DTEND;TZID=Europe/Helsinki:20221024T185500
DTSTAMP:20260425T133647
CREATED:20220405T120322Z
LAST-MODIFIED:20220405T120322Z
UID:3407-1666627200-1666637700@aviationinstitute.eu
SUMMARY:M11 Examination
DESCRIPTION:M11 – Aeroplane aerodynamics\, structures and systems
URL:https://aviationinstitute.eu/ro/calendar-evenimente/m11-examination-14/
LOCATION:Romanian Aeronautical Association – Bucharest\, Biharia 44\, Bucharest\, Romania
CATEGORIES:EASA Part 66 Modules EXAMINATIONS - BUCHAREST
END:VEVENT
BEGIN:VEVENT
DTSTART;TZID=Europe/Helsinki:20221024T160000
DTEND;TZID=Europe/Helsinki:20221024T194500
DTSTAMP:20260425T133647
CREATED:20220405T120414Z
LAST-MODIFIED:20220405T120414Z
UID:3409-1666627200-1666640700@aviationinstitute.eu
SUMMARY:M13 Examination
DESCRIPTION:M13 – Aircraft aerodynamics\, structures and systems
URL:https://aviationinstitute.eu/ro/calendar-evenimente/m13-examination-6/
LOCATION:Romanian Aeronautical Association – Bucharest\, Biharia 44\, Bucharest\, Romania
CATEGORIES:EASA Part 66 Modules EXAMINATIONS - BUCHAREST
END:VEVENT
BEGIN:VEVENT
DTSTART;TZID=Europe/Helsinki:20221025T160000
DTEND;TZID=Europe/Helsinki:20221025T164000
DTSTAMP:20260425T133647
CREATED:20220405T120726Z
LAST-MODIFIED:20220405T122537Z
UID:3411-1666713600-1666716000@aviationinstitute.eu
SUMMARY:M1 Examination - Only English*
DESCRIPTION:M1 – Mathematics \n*Only English Session is a special type of session tailored for foreign students. In order to organize it as scheduled\, at least 1 foreign student OR a minimum group of 6 Romanian students have to participate.
URL:https://aviationinstitute.eu/ro/calendar-evenimente/m1-examination/
LOCATION:Romanian Aeronautical Association – Bucharest\, Biharia 44\, Bucharest\, Romania
CATEGORIES:EASA Part 66 Modules EXAMINATIONS - BUCHAREST
END:VEVENT
BEGIN:VEVENT
DTSTART;TZID=Europe/Helsinki:20221025T165000
DTEND;TZID=Europe/Helsinki:20221025T175500
DTSTAMP:20260425T133647
CREATED:20220405T120841Z
LAST-MODIFIED:20220405T122559Z
UID:3413-1666716600-1666720500@aviationinstitute.eu
SUMMARY:M2 Examination - Only English*
DESCRIPTION:M2 – Physics \n*Only English Session is a special type of session tailored for foreign students. In order to organize it as scheduled\, at least 1 foreign student OR a minimum group of 6 Romanian students have to participate.
URL:https://aviationinstitute.eu/ro/calendar-evenimente/m2-examination-3/
LOCATION:Romanian Aeronautical Association – Bucharest\, Biharia 44\, Bucharest\, Romania
CATEGORIES:EASA Part 66 Modules EXAMINATIONS - BUCHAREST
END:VEVENT
BEGIN:VEVENT
DTSTART;TZID=Europe/Helsinki:20221025T180000
DTEND;TZID=Europe/Helsinki:20221025T184000
DTSTAMP:20260425T133647
CREATED:20220405T121019Z
LAST-MODIFIED:20220405T121019Z
UID:3415-1666720800-1666723200@aviationinstitute.eu
SUMMARY:M17 Examination
DESCRIPTION:M17 – Propeller
URL:https://aviationinstitute.eu/ro/calendar-evenimente/m17-examination-14/
LOCATION:Romanian Aeronautical Association – Bucharest\, Biharia 44\, Bucharest\, Romania
CATEGORIES:EASA Part 66 Modules EXAMINATIONS - BUCHAREST
END:VEVENT
BEGIN:VEVENT
DTSTART;VALUE=DATE:20221026
DTEND;VALUE=DATE:20221027
DTSTAMP:20260425T133647
CREATED:20220405T121202Z
LAST-MODIFIED:20221026T190220Z
UID:3417-1666742400-1666828799@aviationinstitute.eu
SUMMARY:M3 Examination
DESCRIPTION:M3 – Electrical fundamentals
URL:https://aviationinstitute.eu/ro/calendar-evenimente/m3-examination-3/
LOCATION:Romanian Aeronautical Association – Bucharest\, Biharia 44\, Bucharest\, Romania
CATEGORIES:EASA Part 66 Modules EXAMINATIONS - BUCHAREST
END:VEVENT
BEGIN:VEVENT
DTSTART;VALUE=DATE:20221026
DTEND;VALUE=DATE:20221027
DTSTAMP:20260425T133647
CREATED:20220405T121249Z
LAST-MODIFIED:20221026T190200Z
UID:3419-1666742400-1666828799@aviationinstitute.eu
SUMMARY:M4 Examination
DESCRIPTION:M4 – Electronic fundamentals
URL:https://aviationinstitute.eu/ro/calendar-evenimente/m4-examination-6/
LOCATION:Romanian Aeronautical Association – Bucharest\, Biharia 44\, Bucharest\, Romania
CATEGORIES:EASA Part 66 Modules EXAMINATIONS - BUCHAREST
END:VEVENT
BEGIN:VEVENT
DTSTART;VALUE=DATE:20221026
DTEND;VALUE=DATE:20221027
DTSTAMP:20260425T133647
CREATED:20220405T121332Z
LAST-MODIFIED:20221026T190136Z
UID:3421-1666742400-1666828799@aviationinstitute.eu
SUMMARY:M5 Examination
DESCRIPTION:M5 – Digital techniques/ Electronic instrument systems
URL:https://aviationinstitute.eu/ro/calendar-evenimente/m5-examination-8/
LOCATION:Romanian Aeronautical Association – Bucharest\, Biharia 44\, Bucharest\, Romania
CATEGORIES:EASA Part 66 Modules EXAMINATIONS - BUCHAREST
END:VEVENT
BEGIN:VEVENT
DTSTART;VALUE=DATE:20221027
DTEND;VALUE=DATE:20221028
DTSTAMP:20260425T133647
CREATED:20220405T121421Z
LAST-MODIFIED:20221026T185918Z
UID:3423-1666828800-1666915199@aviationinstitute.eu
SUMMARY:M6 Examination
DESCRIPTION:M6 – Materials and hardware
URL:https://aviationinstitute.eu/ro/calendar-evenimente/m6-examination-20/
LOCATION:Romanian Aeronautical Association – Bucharest\, Biharia 44\, Bucharest\, Romania
CATEGORIES:EASA Part 66 Modules EXAMINATIONS - BUCHAREST
END:VEVENT
BEGIN:VEVENT
DTSTART;VALUE=DATE:20221027
DTEND;VALUE=DATE:20221028
DTSTAMP:20260425T133647
CREATED:20220405T121514Z
LAST-MODIFIED:20221026T185956Z
UID:3425-1666828800-1666915199@aviationinstitute.eu
SUMMARY:M8 Examination
DESCRIPTION:M8 – Basic aerodynamics
URL:https://aviationinstitute.eu/ro/calendar-evenimente/m8-examination-13/
LOCATION:Romanian Aeronautical Association – Bucharest\, Biharia 44\, Bucharest\, Romania
CATEGORIES:EASA Part 66 Modules EXAMINATIONS - BUCHAREST
END:VEVENT
BEGIN:VEVENT
DTSTART;VALUE=DATE:20221027
DTEND;VALUE=DATE:20221028
DTSTAMP:20260425T133647
CREATED:20220405T122851Z
LAST-MODIFIED:20221026T185819Z
UID:3443-1666828800-1666915199@aviationinstitute.eu
SUMMARY:M14 Examination
DESCRIPTION:M14 – Propulsion
URL:https://aviationinstitute.eu/ro/calendar-evenimente/m14-examination-10/
LOCATION:Romanian Aeronautical Association – Bucharest\, Biharia 44\, Bucharest\, Romania
CATEGORIES:EASA Part 66 Modules EXAMINATIONS - BUCHAREST
END:VEVENT
BEGIN:VEVENT
DTSTART;VALUE=DATE:20221031
DTEND;VALUE=DATE:20221101
DTSTAMP:20260425T133647
CREATED:20220405T121737Z
LAST-MODIFIED:20221026T184829Z
UID:3429-1667174400-1667260799@aviationinstitute.eu
SUMMARY:M9 Examination
DESCRIPTION:M9 – Human Factors (MCQ + Essay)
URL:https://aviationinstitute.eu/ro/calendar-evenimente/m9-examination-4/
LOCATION:Romanian Aeronautical Association – Bucharest\, Biharia 44\, Bucharest\, Romania
CATEGORIES:EASA Part 66 Modules EXAMINATIONS - BUCHAREST
END:VEVENT
BEGIN:VEVENT
DTSTART;VALUE=DATE:20221031
DTEND;VALUE=DATE:20221101
DTSTAMP:20260425T133647
CREATED:20220405T121837Z
LAST-MODIFIED:20221026T184804Z
UID:3431-1667174400-1667260799@aviationinstitute.eu
SUMMARY:M10 Examination
DESCRIPTION:M10 – Legislation (MCQ + Essay)
URL:https://aviationinstitute.eu/ro/calendar-evenimente/m10-examination-3/
LOCATION:Romanian Aeronautical Association – Bucharest\, Biharia 44\, Bucharest\, Romania
CATEGORIES:EASA Part 66 Modules EXAMINATIONS - BUCHAREST
END:VEVENT
BEGIN:VEVENT
DTSTART;VALUE=DATE:20221031
DTEND;VALUE=DATE:20221102
DTSTAMP:20260425T133647
CREATED:20221026T192028Z
LAST-MODIFIED:20221026T192028Z
UID:3512-1667174400-1667347199@aviationinstitute.eu
SUMMARY:Aerodrome Compliance Monitoring
DESCRIPTION:
URL:https://aviationinstitute.eu/ro/calendar-evenimente/aerodrome-compliance-monitoring/
LOCATION:Romanian Aeronautical Association – Bucharest\, Biharia 44\, Bucharest\, Romania
CATEGORIES:Other courses
END:VEVENT
END:VCALENDAR