BEGIN:VCALENDAR
VERSION:2.0
PRODID:-//European Aviation Institute - ECPv6.15.20//NONSGML v1.0//EN
CALSCALE:GREGORIAN
METHOD:PUBLISH
X-WR-CALNAME:European Aviation Institute
X-ORIGINAL-URL:https://aviationinstitute.eu/ro
X-WR-CALDESC:Evenimente pentru European Aviation Institute
REFRESH-INTERVAL;VALUE=DURATION:PT1H
X-Robots-Tag:noindex
X-PUBLISHED-TTL:PT1H
BEGIN:VTIMEZONE
TZID:Europe/Helsinki
BEGIN:DAYLIGHT
TZOFFSETFROM:+0200
TZOFFSETTO:+0300
TZNAME:EEST
DTSTART:20220327T010000
END:DAYLIGHT
BEGIN:STANDARD
TZOFFSETFROM:+0300
TZOFFSETTO:+0200
TZNAME:EET
DTSTART:20221030T010000
END:STANDARD
BEGIN:DAYLIGHT
TZOFFSETFROM:+0200
TZOFFSETTO:+0300
TZNAME:EEST
DTSTART:20230326T010000
END:DAYLIGHT
BEGIN:STANDARD
TZOFFSETFROM:+0300
TZOFFSETTO:+0200
TZNAME:EET
DTSTART:20231029T010000
END:STANDARD
BEGIN:DAYLIGHT
TZOFFSETFROM:+0200
TZOFFSETTO:+0300
TZNAME:EEST
DTSTART:20240331T010000
END:DAYLIGHT
BEGIN:STANDARD
TZOFFSETFROM:+0300
TZOFFSETTO:+0200
TZNAME:EET
DTSTART:20241027T010000
END:STANDARD
END:VTIMEZONE
BEGIN:VEVENT
DTSTART;VALUE=DATE:20230301
DTEND;VALUE=DATE:20230408
DTSTAMP:20260425T155228
CREATED:20230112T132319Z
LAST-MODIFIED:20230221T122849Z
UID:3531-1677628800-1680911999@aviationinstitute.eu
SUMMARY:A320 Type Training
DESCRIPTION:The theoretical online course for A320 CFM56+IAE V2500\, B1&B2\, will take 33+1 days\, Monday-Friday between 17:00-23:00 (Bucharest time) and Saturday between 9:00-15:00 (Bucharest time). The practical training\, which will take 11 days\, will start after the theoretical part is completed. For more details\, please send an email to office@aeroas.ro.
URL:https://aviationinstitute.eu/ro/calendar-evenimente/a320-type-training/
CATEGORIES:A320 TYPE TRAINING
END:VEVENT
BEGIN:VEVENT
DTSTART;TZID=Europe/Helsinki:20230403T160000
DTEND;TZID=Europe/Helsinki:20230403T173000
DTSTAMP:20260425T155228
CREATED:20230113T135714Z
LAST-MODIFIED:20230113T135714Z
UID:3635-1680537600-1680543000@aviationinstitute.eu
SUMMARY:M6 Examination – Only English*
DESCRIPTION:M6 – Materials and hardware \n*Only English Session is a special type of session tailored for foreign students. In order to organize it as scheduled\, at least 1 foreign student OR a minimum group of 6 Romanian students have to participate.
URL:https://aviationinstitute.eu/ro/calendar-evenimente/m6-examination-only-english-3/
LOCATION:Romanian Aeronautical Association – Bucharest\, Biharia 44\, Bucharest\, Romania
CATEGORIES:EASA Part 66 Modules EXAMINATIONS - BUCHAREST
END:VEVENT
BEGIN:VEVENT
DTSTART;TZID=Europe/Helsinki:20230403T174000
DTEND;TZID=Europe/Helsinki:20230403T180500
DTSTAMP:20260425T155228
CREATED:20230113T135933Z
LAST-MODIFIED:20230113T135933Z
UID:3637-1680543600-1680545100@aviationinstitute.eu
SUMMARY:M8 Examination – Only English*
DESCRIPTION:M8 – Basic aerodynamics \n*Only English Session is a special type of session tailored for foreign students. In order to organize it as scheduled\, at least 1 foreign student OR a minimum group of 6 Romanian students have to participate.
URL:https://aviationinstitute.eu/ro/calendar-evenimente/m8-examination-only-english-4/
LOCATION:Romanian Aeronautical Association – Bucharest\, Biharia 44\, Bucharest\, Romania
CATEGORIES:EASA Part 66 Modules EXAMINATIONS - BUCHAREST
END:VEVENT
BEGIN:VEVENT
DTSTART;TZID=Europe/Helsinki:20230403T182000
DTEND;TZID=Europe/Helsinki:20230403T190000
DTSTAMP:20260425T155228
CREATED:20230113T140056Z
LAST-MODIFIED:20230113T140117Z
UID:3639-1680546000-1680548400@aviationinstitute.eu
SUMMARY:M1 Examination – Only English*
DESCRIPTION:M1 – Mathematics \n*Only English Session is a special type of session tailored for foreign students. In order to organize it as scheduled\, at least 1 foreign student OR a minimum group of 6 Romanian students have to participate.
URL:https://aviationinstitute.eu/ro/calendar-evenimente/m1-examination-only-english-5/
LOCATION:Romanian Aeronautical Association – Bucharest\, Biharia 44\, Bucharest\, Romania
CATEGORIES:EASA Part 66 Modules EXAMINATIONS - BUCHAREST
END:VEVENT
BEGIN:VEVENT
DTSTART;TZID=Europe/Helsinki:20230403T191000
DTEND;TZID=Europe/Helsinki:20230403T201500
DTSTAMP:20260425T155228
CREATED:20230113T140224Z
LAST-MODIFIED:20230113T140224Z
UID:3641-1680549000-1680552900@aviationinstitute.eu
SUMMARY:M2 Examination – Only English*
DESCRIPTION:M2 – Physics \n*Only English Session is a special type of session tailored for foreign students. In order to organize it as scheduled\, at least 1 foreign student OR a minimum group of 6 Romanian students have to participate.
URL:https://aviationinstitute.eu/ro/calendar-evenimente/m2-examination-only-english-5/
LOCATION:Romanian Aeronautical Association – Bucharest\, Biharia 44\, Bucharest\, Romania
CATEGORIES:EASA Part 66 Modules EXAMINATIONS - BUCHAREST
END:VEVENT
BEGIN:VEVENT
DTSTART;TZID=Europe/Helsinki:20230404T160000
DTEND;TZID=Europe/Helsinki:20230404T162500
DTSTAMP:20260425T155228
CREATED:20230113T140421Z
LAST-MODIFIED:20230113T140421Z
UID:3643-1680624000-1680625500@aviationinstitute.eu
SUMMARY:M9A MCQ Examination – Only English*
DESCRIPTION:M9 – Human Factors \n*Only English Session is a special type of session tailored for foreign students. In order to organize it as scheduled\, at least 1 foreign student OR a minimum group of 6 Romanian students have to participate.
URL:https://aviationinstitute.eu/ro/calendar-evenimente/m9a-mcq-examination-only-english-2/
LOCATION:Romanian Aeronautical Association – Bucharest\, Biharia 44\, Bucharest\, Romania
CATEGORIES:EASA Part 66 Modules EXAMINATIONS - BUCHAREST
END:VEVENT
BEGIN:VEVENT
DTSTART;TZID=Europe/Helsinki:20230404T164000
DTEND;TZID=Europe/Helsinki:20230404T170000
DTSTAMP:20260425T155228
CREATED:20230113T140552Z
LAST-MODIFIED:20230113T140552Z
UID:3645-1680626400-1680627600@aviationinstitute.eu
SUMMARY:M9A Essay 1 Examination – Only English*
DESCRIPTION:M9 – Human Factors \n*Only English Session is a special type of session tailored for foreign students. In order to organize it as scheduled\, at least 1 foreign student OR a minimum group of 6 Romanian students have to participate.
URL:https://aviationinstitute.eu/ro/calendar-evenimente/m9a-essay-1-examination-only-english/
LOCATION:Romanian Aeronautical Association – Bucharest\, Biharia 44\, Bucharest\, Romania
CATEGORIES:EASA Part 66 Modules EXAMINATIONS - BUCHAREST
END:VEVENT
BEGIN:VEVENT
DTSTART;TZID=Europe/Helsinki:20230404T171000
DTEND;TZID=Europe/Helsinki:20230404T180000
DTSTAMP:20260425T155228
CREATED:20230113T140708Z
LAST-MODIFIED:20230113T140708Z
UID:3647-1680628200-1680631200@aviationinstitute.eu
SUMMARY:M10 MCQ Examination – Only English*
DESCRIPTION:M10 – Aviation Legislation \n*Only English Session is a special type of session tailored for foreign students. In order to organize it as scheduled\, at least 1 foreign student OR a minimum group of 6 Romanian students have to participate.
URL:https://aviationinstitute.eu/ro/calendar-evenimente/m10-mcq-examination-only-english-5/
LOCATION:Romanian Aeronautical Association – Bucharest\, Biharia 44\, Bucharest\, Romania
CATEGORIES:EASA Part 66 Modules EXAMINATIONS - BUCHAREST
END:VEVENT
BEGIN:VEVENT
DTSTART;TZID=Europe/Helsinki:20230404T181000
DTEND;TZID=Europe/Helsinki:20230404T183000
DTSTAMP:20260425T155228
CREATED:20230113T140831Z
LAST-MODIFIED:20230113T140831Z
UID:3649-1680631800-1680633000@aviationinstitute.eu
SUMMARY:M10 Essay 1 Examination – Only English*
DESCRIPTION:M10 – Aviation Legislation \n*Only English Session is a special type of session tailored for foreign students. In order to organize it as scheduled\, at least 1 foreign student OR a minimum group of 6 Romanian students have to participate.
URL:https://aviationinstitute.eu/ro/calendar-evenimente/m10-essay-1-examination-only-english/
LOCATION:Romanian Aeronautical Association – Bucharest\, Biharia 44\, Bucharest\, Romania
CATEGORIES:EASA Part 66 Modules EXAMINATIONS - BUCHAREST
END:VEVENT
BEGIN:VEVENT
DTSTART;TZID=Europe/Helsinki:20230405T160000
DTEND;TZID=Europe/Helsinki:20230405T175500
DTSTAMP:20260425T155228
CREATED:20230113T141032Z
LAST-MODIFIED:20230113T141032Z
UID:3651-1680710400-1680717300@aviationinstitute.eu
SUMMARY:M15 Examination– Only English*
DESCRIPTION:M15 – Gas turbine engine \n*Only English Session is a special type of session tailored for foreign students. In order to organize it as scheduled\, at least 1 foreign student OR a minimum group of 6 Romanian students have to participate.
URL:https://aviationinstitute.eu/ro/calendar-evenimente/m15-examination-only-english-4/
LOCATION:Romanian Aeronautical Association – Bucharest\, Biharia 44\, Bucharest\, Romania
CATEGORIES:EASA Part 66 Modules EXAMINATIONS - BUCHAREST
END:VEVENT
BEGIN:VEVENT
DTSTART;TZID=Europe/Helsinki:20230405T180500
DTEND;TZID=Europe/Helsinki:20230405T193500
DTSTAMP:20260425T155228
CREATED:20230113T141214Z
LAST-MODIFIED:20230113T141214Z
UID:3653-1680717900-1680723300@aviationinstitute.eu
SUMMARY:M16 Examination – Only English*
DESCRIPTION:M16 – Piston engine \n*Only English Session is a special type of session tailored for foreign students. In order to organize it as scheduled\, at least 1 foreign student OR a minimum group of 6 Romanian students have to participate.
URL:https://aviationinstitute.eu/ro/calendar-evenimente/m16-examination-only-english/
LOCATION:Romanian Aeronautical Association – Bucharest\, Biharia 44\, Bucharest\, Romania
CATEGORIES:EASA Part 66 Modules EXAMINATIONS - BUCHAREST
END:VEVENT
BEGIN:VEVENT
DTSTART;TZID=Europe/Helsinki:20230406T160000
DTEND;TZID=Europe/Helsinki:20230406T185500
DTSTAMP:20260425T155228
CREATED:20230113T141413Z
LAST-MODIFIED:20230113T141413Z
UID:3655-1680796800-1680807300@aviationinstitute.eu
SUMMARY:M11A Examination – Only English*
DESCRIPTION:M11 – Aeroplane aerodynamics\, structures and systems \n*Only English Session is a special type of session tailored for foreign students. In order to organize it as scheduled\, at least 1 foreign student OR a minimum group of 6 Romanian students have to participate.
URL:https://aviationinstitute.eu/ro/calendar-evenimente/m11a-examination-only-english-2/
LOCATION:Romanian Aeronautical Association – Bucharest\, Biharia 44\, Bucharest\, Romania
CATEGORIES:EASA Part 66 Modules EXAMINATIONS - BUCHAREST
END:VEVENT
BEGIN:VEVENT
DTSTART;TZID=Europe/Helsinki:20230406T160000
DTEND;TZID=Europe/Helsinki:20230406T194500
DTSTAMP:20260425T155228
CREATED:20230113T141530Z
LAST-MODIFIED:20230113T141530Z
UID:3657-1680796800-1680810300@aviationinstitute.eu
SUMMARY:M13 Examination – Only English*
DESCRIPTION:M13 – Aircraft aerodynamics\, structures and systems \n*Only English Session is a special type of session tailored for foreign students. In order to organize it as scheduled\, at least 1 foreign student OR a minimum group of 6 Romanian students have to participate.
URL:https://aviationinstitute.eu/ro/calendar-evenimente/m13-examination-only-english-2/
LOCATION:Romanian Aeronautical Association – Bucharest\, Biharia 44\, Bucharest\, Romania
CATEGORIES:EASA Part 66 Modules EXAMINATIONS - BUCHAREST
END:VEVENT
BEGIN:VEVENT
DTSTART;TZID=Europe/Helsinki:20230410T120000
DTEND;TZID=Europe/Helsinki:20230410T163000
DTSTAMP:20260425T155228
CREATED:20230112T132544Z
LAST-MODIFIED:20230309T120815Z
UID:3533-1681128000-1681144200@aviationinstitute.eu
SUMMARY:A320 Type Training Examination
DESCRIPTION:
URL:https://aviationinstitute.eu/ro/calendar-evenimente/a320-type-training-examination-3/
LOCATION:Romanian Aeronautical Association – Bucharest\, Biharia 44\, Bucharest\, Romania
CATEGORIES:A320 TYPE TRAINING
END:VEVENT
BEGIN:VEVENT
DTSTART;TZID=Europe/Helsinki:20230410T160000
DTEND;TZID=Europe/Helsinki:20230410T163000
DTSTAMP:20260425T155228
CREATED:20230113T200423Z
LAST-MODIFIED:20230113T200423Z
UID:3659-1681142400-1681144200@aviationinstitute.eu
SUMMARY:M14 Examination – Only English*
DESCRIPTION:M14 – Propulsion \n*Only English Session is a special type of session tailored for foreign students. In order to organize it as scheduled\, at least 1 foreign student OR a minimum group of 6 Romanian students have to participate.
URL:https://aviationinstitute.eu/ro/calendar-evenimente/m14-examination-only-english-3/
LOCATION:Romanian Aeronautical Association – Bucharest\, Biharia 44\, Bucharest\, Romania
CATEGORIES:EASA Part 66 Modules EXAMINATIONS - BUCHAREST
END:VEVENT
BEGIN:VEVENT
DTSTART;TZID=Europe/Helsinki:20230410T160000
DTEND;TZID=Europe/Helsinki:20230410T164000
DTSTAMP:20260425T155228
CREATED:20230113T200651Z
LAST-MODIFIED:20230113T200651Z
UID:3661-1681142400-1681144800@aviationinstitute.eu
SUMMARY:M17 Examination – Only English*
DESCRIPTION:M17 – Propeller \n*Only English Session is a special type of session tailored for foreign students. In order to organize it as scheduled\, at least 1 foreign student OR a minimum group of 6 Romanian students have to participate.
URL:https://aviationinstitute.eu/ro/calendar-evenimente/m17-examination-only-english-3/
LOCATION:Romanian Aeronautical Association – Bucharest\, Biharia 44\, Bucharest\, Romania
CATEGORIES:EASA Part 66 Modules EXAMINATIONS - BUCHAREST
END:VEVENT
BEGIN:VEVENT
DTSTART;TZID=Europe/Helsinki:20230411T160000
DTEND;TZID=Europe/Helsinki:20230411T170500
DTSTAMP:20260425T155228
CREATED:20230113T201026Z
LAST-MODIFIED:20230113T201026Z
UID:3663-1681228800-1681232700@aviationinstitute.eu
SUMMARY:M3 Examination – Only English*
DESCRIPTION:M3 – Electrical fundamentals \n*Only English Session is a special type of session tailored for foreign students. In order to organize it as scheduled\, at least 1 foreign student OR a minimum group of 6 Romanian students have to participate.
URL:https://aviationinstitute.eu/ro/calendar-evenimente/m3-examination-only-english-5/
LOCATION:Romanian Aeronautical Association – Bucharest\, Biharia 44\, Bucharest\, Romania
CATEGORIES:EASA Part 66 Modules EXAMINATIONS - BUCHAREST
END:VEVENT
BEGIN:VEVENT
DTSTART;TZID=Europe/Helsinki:20230411T171500
DTEND;TZID=Europe/Helsinki:20230411T180500
DTSTAMP:20260425T155228
CREATED:20230113T201303Z
LAST-MODIFIED:20230113T201303Z
UID:3665-1681233300-1681236300@aviationinstitute.eu
SUMMARY:M4 Examination – Only English*
DESCRIPTION:M4 – Electronic fundamentals \n*Only English Session is a special type of session tailored for foreign students. In order to organize it as scheduled\, at least 1 foreign student OR a minimum group of 6 Romanian students have to participate.
URL:https://aviationinstitute.eu/ro/calendar-evenimente/m4-examination-only-english-5/
LOCATION:Romanian Aeronautical Association – Bucharest\, Biharia 44\, Bucharest\, Romania
CATEGORIES:EASA Part 66 Modules EXAMINATIONS - BUCHAREST
END:VEVENT
BEGIN:VEVENT
DTSTART;TZID=Europe/Helsinki:20230411T181500
DTEND;TZID=Europe/Helsinki:20230411T194500
DTSTAMP:20260425T155228
CREATED:20230113T201441Z
LAST-MODIFIED:20230113T201441Z
UID:3667-1681236900-1681242300@aviationinstitute.eu
SUMMARY:M5 Examination – Only English*
DESCRIPTION:M5 – Digital techniques/ Electronic instrument systems \n*Only English Session is a special type of session tailored for foreign students. In order to organize it as scheduled\, at least 1 foreign student OR a minimum group of 6 Romanian students have to participate.
URL:https://aviationinstitute.eu/ro/calendar-evenimente/m5-examination-only-english-5/
LOCATION:Romanian Aeronautical Association – Bucharest\, Biharia 44\, Bucharest\, Romania
CATEGORIES:EASA Part 66 Modules EXAMINATIONS - BUCHAREST
END:VEVENT
BEGIN:VEVENT
DTSTART;TZID=Europe/Helsinki:20230412T160000
DTEND;TZID=Europe/Helsinki:20230412T174000
DTSTAMP:20260425T155228
CREATED:20230113T201622Z
LAST-MODIFIED:20230113T201622Z
UID:3669-1681315200-1681321200@aviationinstitute.eu
SUMMARY:M7 MCQ Examination – Only English*
DESCRIPTION:M7 – Maintenance practices \n*Only English Session is a special type of session tailored for foreign students. In order to organize it as scheduled\, at least 1 foreign student OR a minimum group of 6 Romanian students have to participate.
URL:https://aviationinstitute.eu/ro/calendar-evenimente/m7-mcq-examination-only-english-4/
LOCATION:Romanian Aeronautical Association – Bucharest\, Biharia 44\, Bucharest\, Romania
CATEGORIES:EASA Part 66 Modules EXAMINATIONS - BUCHAREST
END:VEVENT
BEGIN:VEVENT
DTSTART;TZID=Europe/Helsinki:20230412T175000
DTEND;TZID=Europe/Helsinki:20230412T181000
DTSTAMP:20260425T155228
CREATED:20230113T201730Z
LAST-MODIFIED:20230113T201730Z
UID:3671-1681321800-1681323000@aviationinstitute.eu
SUMMARY:M7 Essay 1 Examination – Only English*
DESCRIPTION:M7 – Maintenance practices \n*Only English Session is a special type of session tailored for foreign students. In order to organize it as scheduled\, at least 1 foreign student OR a minimum group of 6 Romanian students have to participate.
URL:https://aviationinstitute.eu/ro/calendar-evenimente/m7-essay-1-examination-only-english/
LOCATION:Romanian Aeronautical Association – Bucharest\, Biharia 44\, Bucharest\, Romania
CATEGORIES:EASA Part 66 Modules EXAMINATIONS - BUCHAREST
END:VEVENT
BEGIN:VEVENT
DTSTART;TZID=Europe/Helsinki:20230412T182000
DTEND;TZID=Europe/Helsinki:20230412T184000
DTSTAMP:20260425T155228
CREATED:20230113T201836Z
LAST-MODIFIED:20230113T201836Z
UID:3673-1681323600-1681324800@aviationinstitute.eu
SUMMARY:M7 Essay 2 Examination – Only English*
DESCRIPTION:M7 – Maintenance practices \n*Only English Session is a special type of session tailored for foreign students. In order to organize it as scheduled\, at least 1 foreign student OR a minimum group of 6 Romanian students have to participate.
URL:https://aviationinstitute.eu/ro/calendar-evenimente/m7-essay-2-examination-only-english/
LOCATION:Romanian Aeronautical Association – Bucharest\, Biharia 44\, Bucharest\, Romania
CATEGORIES:EASA Part 66 Modules EXAMINATIONS - BUCHAREST
END:VEVENT
BEGIN:VEVENT
DTSTART;VALUE=DATE:20230424
DTEND;VALUE=DATE:20230527
DTSTAMP:20260425T155228
CREATED:20230112T132921Z
LAST-MODIFIED:20230418T113425Z
UID:3535-1682294400-1685145599@aviationinstitute.eu
SUMMARY:B737 NG Type Training
DESCRIPTION:The theoretical online course for B737 NG (600/700/800/900) CFM56\, B1&B2\, will take 28 days\, between 17:00-23:00 (Bucharest time).\nThe practical training\, which will take 10 days\, will start after the theoretical part is completed.\nFor more details\, please send an email to office@aeroas.ro.
URL:https://aviationinstitute.eu/ro/calendar-evenimente/b737-ng-type-training-3/
CATEGORIES:B737 TYPE TRAINING
END:VEVENT
END:VCALENDAR