BEGIN:VCALENDAR
VERSION:2.0
PRODID:-//European Aviation Institute - ECPv6.15.18//NONSGML v1.0//EN
CALSCALE:GREGORIAN
METHOD:PUBLISH
X-WR-CALNAME:European Aviation Institute
X-ORIGINAL-URL:https://aviationinstitute.eu/ro
X-WR-CALDESC:Evenimente pentru European Aviation Institute
REFRESH-INTERVAL;VALUE=DURATION:PT1H
X-Robots-Tag:noindex
X-PUBLISHED-TTL:PT1H
BEGIN:VTIMEZONE
TZID:Europe/Helsinki
BEGIN:DAYLIGHT
TZOFFSETFROM:+0200
TZOFFSETTO:+0300
TZNAME:EEST
DTSTART:20220327T010000
END:DAYLIGHT
BEGIN:STANDARD
TZOFFSETFROM:+0300
TZOFFSETTO:+0200
TZNAME:EET
DTSTART:20221030T010000
END:STANDARD
BEGIN:DAYLIGHT
TZOFFSETFROM:+0200
TZOFFSETTO:+0300
TZNAME:EEST
DTSTART:20230326T010000
END:DAYLIGHT
BEGIN:STANDARD
TZOFFSETFROM:+0300
TZOFFSETTO:+0200
TZNAME:EET
DTSTART:20231029T010000
END:STANDARD
BEGIN:DAYLIGHT
TZOFFSETFROM:+0200
TZOFFSETTO:+0300
TZNAME:EEST
DTSTART:20240331T010000
END:DAYLIGHT
BEGIN:STANDARD
TZOFFSETFROM:+0300
TZOFFSETTO:+0200
TZNAME:EET
DTSTART:20241027T010000
END:STANDARD
END:VTIMEZONE
BEGIN:VEVENT
DTSTART;TZID=Europe/Helsinki:20231101T160000
DTEND;TZID=Europe/Helsinki:20231101T173000
DTSTAMP:20260424T025659
CREATED:20230112T205625Z
LAST-MODIFIED:20230112T205625Z
UID:3601-1698854400-1698859800@aviationinstitute.eu
SUMMARY:M6 Examination
DESCRIPTION:M6 – Materials and hardware
URL:https://aviationinstitute.eu/ro/calendar-evenimente/m6-examination-23/
LOCATION:Romanian Aeronautical Association – Bucharest\, Biharia 44\, Bucharest\, Romania
CATEGORIES:EASA Part 66 Modules EXAMINATIONS - BUCHAREST
END:VEVENT
BEGIN:VEVENT
DTSTART;TZID=Europe/Helsinki:20231101T174000
DTEND;TZID=Europe/Helsinki:20231101T180500
DTSTAMP:20260424T025659
CREATED:20230112T205713Z
LAST-MODIFIED:20230112T205713Z
UID:3603-1698860400-1698861900@aviationinstitute.eu
SUMMARY:M8 Examination
DESCRIPTION:
URL:https://aviationinstitute.eu/ro/calendar-evenimente/m8-examination-16/
LOCATION:Romanian Aeronautical Association – Bucharest\, Biharia 44\, Bucharest\, Romania
CATEGORIES:EASA Part 66 Modules EXAMINATIONS - BUCHAREST
END:VEVENT
BEGIN:VEVENT
DTSTART;VALUE=DATE:20231106
DTEND;VALUE=DATE:20231214
DTSTAMP:20260424T025659
CREATED:20230112T211625Z
LAST-MODIFIED:20230112T211625Z
UID:3631-1699228800-1702511999@aviationinstitute.eu
SUMMARY:B737 NG Type Training
DESCRIPTION:The theoretical online course for B737 NG (600/700/800/900) CFM56\, B1&B2\, will take 28 days\, between 17:00-23:00 (Bucharest time).\nThe practical training\, which will take 10 days\, will start after the theoretical part is completed.\nFor more details\, please send an email to office@aeroas.ro.
URL:https://aviationinstitute.eu/ro/calendar-evenimente/b737-ng-type-training-4/
CATEGORIES:B737 TYPE TRAINING
END:VEVENT
BEGIN:VEVENT
DTSTART;TZID=Europe/Helsinki:20231106T160000
DTEND;TZID=Europe/Helsinki:20231106T162500
DTSTAMP:20260424T025659
CREATED:20230112T205857Z
LAST-MODIFIED:20230112T205857Z
UID:3605-1699286400-1699287900@aviationinstitute.eu
SUMMARY:M9A MCQ Examination
DESCRIPTION:M9 – Human Factors
URL:https://aviationinstitute.eu/ro/calendar-evenimente/m9a-mcq-examination-7/
LOCATION:Romanian Aeronautical Association – Bucharest\, Biharia 44\, Bucharest\, Romania
CATEGORIES:EASA Part 66 Modules EXAMINATIONS - BUCHAREST
END:VEVENT
BEGIN:VEVENT
DTSTART;TZID=Europe/Helsinki:20231106T164000
DTEND;TZID=Europe/Helsinki:20231106T170000
DTSTAMP:20260424T025659
CREATED:20230112T205959Z
LAST-MODIFIED:20230112T205959Z
UID:3607-1699288800-1699290000@aviationinstitute.eu
SUMMARY:M9A Essay 1 Examination
DESCRIPTION:M9 – Human Factors
URL:https://aviationinstitute.eu/ro/calendar-evenimente/m9a-essay-1-examination-3/
LOCATION:Romanian Aeronautical Association – Bucharest\, Biharia 44\, Bucharest\, Romania
CATEGORIES:EASA Part 66 Modules EXAMINATIONS - BUCHAREST
END:VEVENT
BEGIN:VEVENT
DTSTART;TZID=Europe/Helsinki:20231106T171000
DTEND;TZID=Europe/Helsinki:20231106T180000
DTSTAMP:20260424T025659
CREATED:20230112T210118Z
LAST-MODIFIED:20230112T210118Z
UID:3609-1699290600-1699293600@aviationinstitute.eu
SUMMARY:M10 MCQ Examination
DESCRIPTION:M10 – Aviation Legislation
URL:https://aviationinstitute.eu/ro/calendar-evenimente/m10-mcq-examination-18/
LOCATION:Romanian Aeronautical Association – Bucharest\, Biharia 44\, Bucharest\, Romania
CATEGORIES:EASA Part 66 Modules EXAMINATIONS - BUCHAREST
END:VEVENT
BEGIN:VEVENT
DTSTART;TZID=Europe/Helsinki:20231106T181000
DTEND;TZID=Europe/Helsinki:20231106T183000
DTSTAMP:20260424T025659
CREATED:20230112T210222Z
LAST-MODIFIED:20230112T210222Z
UID:3611-1699294200-1699295400@aviationinstitute.eu
SUMMARY:M10 Essay 1 Examination
DESCRIPTION:M10 – Aviation Legislation
URL:https://aviationinstitute.eu/ro/calendar-evenimente/m10-essay-1-examination-3/
LOCATION:Romanian Aeronautical Association – Bucharest\, Biharia 44\, Bucharest\, Romania
CATEGORIES:EASA Part 66 Modules EXAMINATIONS - BUCHAREST
END:VEVENT
BEGIN:VEVENT
DTSTART;TZID=Europe/Helsinki:20231127T160000
DTEND;TZID=Europe/Helsinki:20231127T173000
DTSTAMP:20260424T025659
CREATED:20230112T210500Z
LAST-MODIFIED:20230112T210500Z
UID:3615-1701100800-1701106200@aviationinstitute.eu
SUMMARY:M16 Examination
DESCRIPTION:M16 – Piston engine
URL:https://aviationinstitute.eu/ro/calendar-evenimente/m16-examination-9/
LOCATION:Romanian Aeronautical Association – Bucharest\, Biharia 44\, Bucharest\, Romania
CATEGORIES:EASA Part 66 Modules EXAMINATIONS - BUCHAREST
END:VEVENT
BEGIN:VEVENT
DTSTART;TZID=Europe/Helsinki:20231127T160000
DTEND;TZID=Europe/Helsinki:20231127T175500
DTSTAMP:20260424T025659
CREATED:20230112T210414Z
LAST-MODIFIED:20230112T210414Z
UID:3613-1701100800-1701107700@aviationinstitute.eu
SUMMARY:M15 Examination
DESCRIPTION:M15 – Gas turbine engine
URL:https://aviationinstitute.eu/ro/calendar-evenimente/m15-examination-16/
LOCATION:Romanian Aeronautical Association – Bucharest\, Biharia 44\, Bucharest\, Romania
CATEGORIES:EASA Part 66 Modules EXAMINATIONS - BUCHAREST
END:VEVENT
END:VCALENDAR