BEGIN:VCALENDAR
VERSION:2.0
PRODID:-//European Aviation Institute - ECPv6.15.18//NONSGML v1.0//EN
CALSCALE:GREGORIAN
METHOD:PUBLISH
X-WR-CALNAME:European Aviation Institute
X-ORIGINAL-URL:https://aviationinstitute.eu/ro
X-WR-CALDESC:Evenimente pentru European Aviation Institute
REFRESH-INTERVAL;VALUE=DURATION:PT1H
X-Robots-Tag:noindex
X-PUBLISHED-TTL:PT1H
BEGIN:VTIMEZONE
TZID:Europe/Helsinki
BEGIN:DAYLIGHT
TZOFFSETFROM:+0200
TZOFFSETTO:+0300
TZNAME:EEST
DTSTART:20230326T010000
END:DAYLIGHT
BEGIN:STANDARD
TZOFFSETFROM:+0300
TZOFFSETTO:+0200
TZNAME:EET
DTSTART:20231029T010000
END:STANDARD
BEGIN:DAYLIGHT
TZOFFSETFROM:+0200
TZOFFSETTO:+0300
TZNAME:EEST
DTSTART:20240331T010000
END:DAYLIGHT
BEGIN:STANDARD
TZOFFSETFROM:+0300
TZOFFSETTO:+0200
TZNAME:EET
DTSTART:20241027T010000
END:STANDARD
BEGIN:DAYLIGHT
TZOFFSETFROM:+0200
TZOFFSETTO:+0300
TZNAME:EEST
DTSTART:20250330T010000
END:DAYLIGHT
BEGIN:STANDARD
TZOFFSETFROM:+0300
TZOFFSETTO:+0200
TZNAME:EET
DTSTART:20251026T010000
END:STANDARD
END:VTIMEZONE
BEGIN:VEVENT
DTSTART;TZID=Europe/Helsinki:20240202T160000
DTEND;TZID=Europe/Helsinki:20240202T162500
DTSTAMP:20260424T025659
CREATED:20240106T124703Z
LAST-MODIFIED:20240106T124703Z
UID:3750-1706889600-1706891100@aviationinstitute.eu
SUMMARY:M9A MCQ Examination
DESCRIPTION:M9 – Human Factors
URL:https://aviationinstitute.eu/ro/calendar-evenimente/m9a-mcq-examination-9/
LOCATION:Romanian Aeronautical Association – Bucharest\, Biharia 44\, Bucharest\, Romania
CATEGORIES:EASA Part 66 Modules EXAMINATIONS - BUCHAREST
END:VEVENT
BEGIN:VEVENT
DTSTART;TZID=Europe/Helsinki:20240202T164000
DTEND;TZID=Europe/Helsinki:20240202T170000
DTSTAMP:20260424T025659
CREATED:20240106T124759Z
LAST-MODIFIED:20240106T124759Z
UID:3752-1706892000-1706893200@aviationinstitute.eu
SUMMARY:M9A Essay 1 Examination
DESCRIPTION:M9 – Human Factors \n 
URL:https://aviationinstitute.eu/ro/calendar-evenimente/m9a-essay-1-examination-5/
LOCATION:Romanian Aeronautical Association – Bucharest\, Biharia 44\, Bucharest\, Romania
CATEGORIES:EASA Part 66 Modules EXAMINATIONS - BUCHAREST
END:VEVENT
BEGIN:VEVENT
DTSTART;TZID=Europe/Helsinki:20240202T171000
DTEND;TZID=Europe/Helsinki:20240202T180000
DTSTAMP:20260424T025659
CREATED:20240106T124937Z
LAST-MODIFIED:20240106T124937Z
UID:3754-1706893800-1706896800@aviationinstitute.eu
SUMMARY:M10 MCQ Examination
DESCRIPTION:M10 – Aviation Legislation
URL:https://aviationinstitute.eu/ro/calendar-evenimente/m10-mcq-examination-20/
LOCATION:Romanian Aeronautical Association – Bucharest\, Biharia 44\, Bucharest\, Romania
CATEGORIES:EASA Part 66 Modules EXAMINATIONS - BUCHAREST
END:VEVENT
BEGIN:VEVENT
DTSTART;TZID=Europe/Helsinki:20240202T181000
DTEND;TZID=Europe/Helsinki:20240202T183000
DTSTAMP:20260424T025659
CREATED:20240106T125017Z
LAST-MODIFIED:20240106T125017Z
UID:3756-1706897400-1706898600@aviationinstitute.eu
SUMMARY:M10 Essay 1 Examination
DESCRIPTION:M10 – Aviation Legislation
URL:https://aviationinstitute.eu/ro/calendar-evenimente/m10-essay-1-examination-5/
LOCATION:Romanian Aeronautical Association – Bucharest\, Biharia 44\, Bucharest\, Romania
CATEGORIES:EASA Part 66 Modules EXAMINATIONS - BUCHAREST
END:VEVENT
BEGIN:VEVENT
DTSTART;TZID=Europe/Helsinki:20240209T160000
DTEND;TZID=Europe/Helsinki:20240209T162500
DTSTAMP:20260424T025659
CREATED:20240125T095218Z
LAST-MODIFIED:20240125T095218Z
UID:3910-1707494400-1707495900@aviationinstitute.eu
SUMMARY:M8 Examination
DESCRIPTION:M8 – Basic aerodynamics
URL:https://aviationinstitute.eu/ro/calendar-evenimente/m8-examination-21/
LOCATION:Romanian Aeronautical Association – Bucharest\, Biharia 44\, Bucharest\, Romania
CATEGORIES:EASA Part 66 Modules EXAMINATIONS - BUCHAREST
END:VEVENT
BEGIN:VEVENT
DTSTART;TZID=Europe/Helsinki:20240209T160000
DTEND;TZID=Europe/Helsinki:20240209T174000
DTSTAMP:20260424T025659
CREATED:20240106T125225Z
LAST-MODIFIED:20240106T125225Z
UID:3758-1707494400-1707500400@aviationinstitute.eu
SUMMARY:M7 MCQ Examination
DESCRIPTION:M7 – Maintenance practices
URL:https://aviationinstitute.eu/ro/calendar-evenimente/m7-mcq-examination-19/
LOCATION:Romanian Aeronautical Association – Bucharest\, Biharia 44\, Bucharest\, Romania
CATEGORIES:EASA Part 66 Modules EXAMINATIONS - BUCHAREST
END:VEVENT
BEGIN:VEVENT
DTSTART;TZID=Europe/Helsinki:20240209T160000
DTEND;TZID=Europe/Helsinki:20240209T185500
DTSTAMP:20260424T025659
CREATED:20240122T091453Z
LAST-MODIFIED:20250113T104154Z
UID:3908-1707494400-1707504900@aviationinstitute.eu
SUMMARY:M11 Examination
DESCRIPTION:M11 – Aeroplane aerodynamics\, structures and systems
URL:https://aviationinstitute.eu/ro/calendar-evenimente/m11a-examination-12/
LOCATION:Romanian Aeronautical Association – Bucharest\, Biharia 44\, Bucharest\, Romania
CATEGORIES:EASA Part 66 Modules EXAMINATIONS - BUCHAREST
END:VEVENT
BEGIN:VEVENT
DTSTART;TZID=Europe/Helsinki:20240209T175000
DTEND;TZID=Europe/Helsinki:20240209T181000
DTSTAMP:20260424T025659
CREATED:20240106T125320Z
LAST-MODIFIED:20240106T125320Z
UID:3760-1707501000-1707502200@aviationinstitute.eu
SUMMARY:M7 Essay 1 Examination
DESCRIPTION:M7 – Maintenance practices
URL:https://aviationinstitute.eu/ro/calendar-evenimente/m7-essay-1-examination-21/
LOCATION:Romanian Aeronautical Association – Bucharest\, Biharia 44\, Bucharest\, Romania
CATEGORIES:EASA Part 66 Modules EXAMINATIONS - BUCHAREST
END:VEVENT
BEGIN:VEVENT
DTSTART;TZID=Europe/Helsinki:20240209T182000
DTEND;TZID=Europe/Helsinki:20240209T184000
DTSTAMP:20260424T025659
CREATED:20240106T125407Z
LAST-MODIFIED:20240106T125407Z
UID:3762-1707502800-1707504000@aviationinstitute.eu
SUMMARY:M7 Essay 2 Examination
DESCRIPTION:M7 – Maintenance practices
URL:https://aviationinstitute.eu/ro/calendar-evenimente/m7-essay-2-examination-19/
LOCATION:Romanian Aeronautical Association – Bucharest\, Biharia 44\, Bucharest\, Romania
CATEGORIES:EASA Part 66 Modules EXAMINATIONS - BUCHAREST
END:VEVENT
END:VCALENDAR