BEGIN:VCALENDAR
VERSION:2.0
PRODID:-//European Aviation Institute - ECPv6.15.18//NONSGML v1.0//EN
CALSCALE:GREGORIAN
METHOD:PUBLISH
X-WR-CALNAME:European Aviation Institute
X-ORIGINAL-URL:https://aviationinstitute.eu/ro
X-WR-CALDESC:Evenimente pentru European Aviation Institute
REFRESH-INTERVAL;VALUE=DURATION:PT1H
X-Robots-Tag:noindex
X-PUBLISHED-TTL:PT1H
BEGIN:VTIMEZONE
TZID:Europe/Helsinki
BEGIN:DAYLIGHT
TZOFFSETFROM:+0200
TZOFFSETTO:+0300
TZNAME:EEST
DTSTART:20230326T010000
END:DAYLIGHT
BEGIN:STANDARD
TZOFFSETFROM:+0300
TZOFFSETTO:+0200
TZNAME:EET
DTSTART:20231029T010000
END:STANDARD
BEGIN:DAYLIGHT
TZOFFSETFROM:+0200
TZOFFSETTO:+0300
TZNAME:EEST
DTSTART:20240331T010000
END:DAYLIGHT
BEGIN:STANDARD
TZOFFSETFROM:+0300
TZOFFSETTO:+0200
TZNAME:EET
DTSTART:20241027T010000
END:STANDARD
BEGIN:DAYLIGHT
TZOFFSETFROM:+0200
TZOFFSETTO:+0300
TZNAME:EEST
DTSTART:20250330T010000
END:DAYLIGHT
BEGIN:STANDARD
TZOFFSETFROM:+0300
TZOFFSETTO:+0200
TZNAME:EET
DTSTART:20251026T010000
END:STANDARD
END:VTIMEZONE
BEGIN:VEVENT
DTSTART;TZID=Europe/Helsinki:20240304T160000
DTEND;TZID=Europe/Helsinki:20240304T163000
DTSTAMP:20260424T003111
CREATED:20240106T125801Z
LAST-MODIFIED:20240106T125801Z
UID:3764-1709568000-1709569800@aviationinstitute.eu
SUMMARY:M14 Examination
DESCRIPTION:M14 – Propulsion
URL:https://aviationinstitute.eu/ro/calendar-evenimente/m14-examination-13/
LOCATION:Romanian Aeronautical Association – Bucharest\, Biharia 44\, Bucharest\, Romania
CATEGORIES:EASA Part 66 Modules EXAMINATIONS - BUCHAREST
END:VEVENT
BEGIN:VEVENT
DTSTART;TZID=Europe/Helsinki:20240304T160000
DTEND;TZID=Europe/Helsinki:20240304T164000
DTSTAMP:20260424T003111
CREATED:20240106T130011Z
LAST-MODIFIED:20240106T130011Z
UID:3766-1709568000-1709570400@aviationinstitute.eu
SUMMARY:M17 Examination
DESCRIPTION:M17 – Propeller
URL:https://aviationinstitute.eu/ro/calendar-evenimente/m17-examination-17/
LOCATION:Romanian Aeronautical Association – Bucharest\, Biharia 44\, Bucharest\, Romania
CATEGORIES:EASA Part 66 Modules EXAMINATIONS - BUCHAREST
END:VEVENT
BEGIN:VEVENT
DTSTART;TZID=Europe/Helsinki:20240304T160000
DTEND;TZID=Europe/Helsinki:20240304T174000
DTSTAMP:20260424T003111
CREATED:20240209T082741Z
LAST-MODIFIED:20240209T082741Z
UID:3915-1709568000-1709574000@aviationinstitute.eu
SUMMARY:M7 MCQ Examination
DESCRIPTION:M7 – Maintenance practices
URL:https://aviationinstitute.eu/ro/calendar-evenimente/m7-mcq-examination-22/
LOCATION:Romanian Aeronautical Association – Bucharest\, Biharia 44\, Bucharest\, Romania
CATEGORIES:EASA Part 66 Modules EXAMINATIONS - BUCHAREST
END:VEVENT
BEGIN:VEVENT
DTSTART;TZID=Europe/Helsinki:20240304T175000
DTEND;TZID=Europe/Helsinki:20240304T181000
DTSTAMP:20260424T003111
CREATED:20240209T082838Z
LAST-MODIFIED:20240209T082948Z
UID:3917-1709574600-1709575800@aviationinstitute.eu
SUMMARY:M7 Essay 1 Examination
DESCRIPTION:M7 – Maintenance practices
URL:https://aviationinstitute.eu/ro/calendar-evenimente/m7-mcq-examination-23/
LOCATION:Romanian Aeronautical Association – Bucharest\, Biharia 44\, Bucharest\, Romania
CATEGORIES:EASA Part 66 Modules EXAMINATIONS - BUCHAREST
END:VEVENT
BEGIN:VEVENT
DTSTART;TZID=Europe/Helsinki:20240304T182000
DTEND;TZID=Europe/Helsinki:20240304T184000
DTSTAMP:20260424T003111
CREATED:20240209T083053Z
LAST-MODIFIED:20240209T083053Z
UID:3921-1709576400-1709577600@aviationinstitute.eu
SUMMARY:M7 Essay 2 Examination
DESCRIPTION:M7 – Maintenance practices
URL:https://aviationinstitute.eu/ro/calendar-evenimente/m7-essay-2-examination-22/
LOCATION:Romanian Aeronautical Association – Bucharest\, Biharia 44\, Bucharest\, Romania
CATEGORIES:EASA Part 66 Modules EXAMINATIONS - BUCHAREST
END:VEVENT
BEGIN:VEVENT
DTSTART;TZID=Europe/Helsinki:20240311T160000
DTEND;TZID=Europe/Helsinki:20240311T164000
DTSTAMP:20260424T003111
CREATED:20240227T075515Z
LAST-MODIFIED:20240227T075515Z
UID:3924-1710172800-1710175200@aviationinstitute.eu
SUMMARY:M17 Examination
DESCRIPTION:M17 – Propeller
URL:https://aviationinstitute.eu/ro/calendar-evenimente/m17-examination-19/
LOCATION:Romanian Aeronautical Association – Bucharest\, Biharia 44\, Bucharest\, Romania
CATEGORIES:EASA Part 66 Modules EXAMINATIONS - BUCHAREST
END:VEVENT
BEGIN:VEVENT
DTSTART;TZID=Europe/Helsinki:20240322T160000
DTEND;TZID=Europe/Helsinki:20240322T185500
DTSTAMP:20260424T003111
CREATED:20240106T130145Z
LAST-MODIFIED:20240106T130145Z
UID:3768-1711123200-1711133700@aviationinstitute.eu
SUMMARY:M11A Examination
DESCRIPTION:M11 – Aeroplane aerodynamics\, structures and systems
URL:https://aviationinstitute.eu/ro/calendar-evenimente/m11a-examination-9/
LOCATION:Romanian Aeronautical Association – Bucharest\, Biharia 44\, Bucharest\, Romania
CATEGORIES:EASA Part 66 Modules EXAMINATIONS - BUCHAREST
END:VEVENT
BEGIN:VEVENT
DTSTART;TZID=Europe/Helsinki:20240322T160000
DTEND;TZID=Europe/Helsinki:20240322T194500
DTSTAMP:20260424T003111
CREATED:20240106T130237Z
LAST-MODIFIED:20240106T130237Z
UID:3770-1711123200-1711136700@aviationinstitute.eu
SUMMARY:M13 Examination
DESCRIPTION:M13 – Aircraft aerodynamics\, structures and systems \n 
URL:https://aviationinstitute.eu/ro/calendar-evenimente/m13-examination-12/
LOCATION:Romanian Aeronautical Association – Bucharest\, Biharia 44\, Bucharest\, Romania
CATEGORIES:EASA Part 66 Modules EXAMINATIONS - BUCHAREST
END:VEVENT
END:VCALENDAR