BEGIN:VCALENDAR
VERSION:2.0
PRODID:-//European Aviation Institute - ECPv6.15.18//NONSGML v1.0//EN
CALSCALE:GREGORIAN
METHOD:PUBLISH
X-WR-CALNAME:European Aviation Institute
X-ORIGINAL-URL:https://aviationinstitute.eu/ro
X-WR-CALDESC:Evenimente pentru European Aviation Institute
REFRESH-INTERVAL;VALUE=DURATION:PT1H
X-Robots-Tag:noindex
X-PUBLISHED-TTL:PT1H
BEGIN:VTIMEZONE
TZID:Europe/Helsinki
BEGIN:DAYLIGHT
TZOFFSETFROM:+0200
TZOFFSETTO:+0300
TZNAME:EEST
DTSTART:20230326T010000
END:DAYLIGHT
BEGIN:STANDARD
TZOFFSETFROM:+0300
TZOFFSETTO:+0200
TZNAME:EET
DTSTART:20231029T010000
END:STANDARD
BEGIN:DAYLIGHT
TZOFFSETFROM:+0200
TZOFFSETTO:+0300
TZNAME:EEST
DTSTART:20240331T010000
END:DAYLIGHT
BEGIN:STANDARD
TZOFFSETFROM:+0300
TZOFFSETTO:+0200
TZNAME:EET
DTSTART:20241027T010000
END:STANDARD
BEGIN:DAYLIGHT
TZOFFSETFROM:+0200
TZOFFSETTO:+0300
TZNAME:EEST
DTSTART:20250330T010000
END:DAYLIGHT
BEGIN:STANDARD
TZOFFSETFROM:+0300
TZOFFSETTO:+0200
TZNAME:EET
DTSTART:20251026T010000
END:STANDARD
END:VTIMEZONE
BEGIN:VEVENT
DTSTART;TZID=Europe/Helsinki:20240517T160000
DTEND;TZID=Europe/Helsinki:20240517T173000
DTSTAMP:20260424T025727
CREATED:20240106T130438Z
LAST-MODIFIED:20240106T130438Z
UID:3772-1715961600-1715967000@aviationinstitute.eu
SUMMARY:M6 Examination
DESCRIPTION:M6 – Materials and hardware
URL:https://aviationinstitute.eu/ro/calendar-evenimente/m6-examination-27/
LOCATION:Romanian Aeronautical Association – Bucharest\, Biharia 44\, Bucharest\, Romania
CATEGORIES:EASA Part 66 Modules EXAMINATIONS - BUCHAREST
END:VEVENT
BEGIN:VEVENT
DTSTART;TZID=Europe/Helsinki:20240517T174000
DTEND;TZID=Europe/Helsinki:20240517T180500
DTSTAMP:20260424T025727
CREATED:20240106T130538Z
LAST-MODIFIED:20240106T130538Z
UID:3774-1715967600-1715969100@aviationinstitute.eu
SUMMARY:M8 Examination
DESCRIPTION:M8 – Basic aerodynamics
URL:https://aviationinstitute.eu/ro/calendar-evenimente/m8-examination-19/
LOCATION:Romanian Aeronautical Association – Bucharest\, Biharia 44\, Bucharest\, Romania
CATEGORIES:EASA Part 66 Modules EXAMINATIONS - BUCHAREST
END:VEVENT
BEGIN:VEVENT
DTSTART;TZID=Europe/Helsinki:20240520T160000
DTEND;TZID=Europe/Helsinki:20240520T174000
DTSTAMP:20260424T025727
CREATED:20240106T130700Z
LAST-MODIFIED:20240106T130700Z
UID:3776-1716220800-1716226800@aviationinstitute.eu
SUMMARY:M7 MCQ Examination
DESCRIPTION:M7 – Maintenance practices
URL:https://aviationinstitute.eu/ro/calendar-evenimente/m7-mcq-examination-20/
LOCATION:Romanian Aeronautical Association – Bucharest\, Biharia 44\, Bucharest\, Romania
CATEGORIES:EASA Part 66 Modules EXAMINATIONS - BUCHAREST
END:VEVENT
BEGIN:VEVENT
DTSTART;TZID=Europe/Helsinki:20240520T175000
DTEND;TZID=Europe/Helsinki:20240520T181000
DTSTAMP:20260424T025727
CREATED:20240106T130750Z
LAST-MODIFIED:20240106T130750Z
UID:3778-1716227400-1716228600@aviationinstitute.eu
SUMMARY:M7 Essay 1 Examination
DESCRIPTION:M7 – Maintenance practices
URL:https://aviationinstitute.eu/ro/calendar-evenimente/m7-essay-1-examination-22/
LOCATION:Romanian Aeronautical Association – Bucharest\, Biharia 44\, Bucharest\, Romania
CATEGORIES:EASA Part 66 Modules EXAMINATIONS - BUCHAREST
END:VEVENT
BEGIN:VEVENT
DTSTART;TZID=Europe/Helsinki:20240520T182000
DTEND;TZID=Europe/Helsinki:20240520T184000
DTSTAMP:20260424T025727
CREATED:20240106T130853Z
LAST-MODIFIED:20240106T130853Z
UID:3780-1716229200-1716230400@aviationinstitute.eu
SUMMARY:M7 Essay 2 Examination
DESCRIPTION:M7 – Maintenance practices \n 
URL:https://aviationinstitute.eu/ro/calendar-evenimente/m7-essay-2-examination-20/
LOCATION:Romanian Aeronautical Association – Bucharest\, Biharia 44\, Bucharest\, Romania
CATEGORIES:EASA Part 66 Modules EXAMINATIONS - BUCHAREST
END:VEVENT
END:VCALENDAR