BEGIN:VCALENDAR
VERSION:2.0
PRODID:-//European Aviation Institute - ECPv6.15.18//NONSGML v1.0//EN
CALSCALE:GREGORIAN
METHOD:PUBLISH
X-WR-CALNAME:European Aviation Institute
X-ORIGINAL-URL:https://aviationinstitute.eu/ro
X-WR-CALDESC:Evenimente pentru European Aviation Institute
REFRESH-INTERVAL;VALUE=DURATION:PT1H
X-Robots-Tag:noindex
X-PUBLISHED-TTL:PT1H
BEGIN:VTIMEZONE
TZID:Europe/Helsinki
BEGIN:DAYLIGHT
TZOFFSETFROM:+0200
TZOFFSETTO:+0300
TZNAME:EEST
DTSTART:20230326T010000
END:DAYLIGHT
BEGIN:STANDARD
TZOFFSETFROM:+0300
TZOFFSETTO:+0200
TZNAME:EET
DTSTART:20231029T010000
END:STANDARD
BEGIN:DAYLIGHT
TZOFFSETFROM:+0200
TZOFFSETTO:+0300
TZNAME:EEST
DTSTART:20240331T010000
END:DAYLIGHT
BEGIN:STANDARD
TZOFFSETFROM:+0300
TZOFFSETTO:+0200
TZNAME:EET
DTSTART:20241027T010000
END:STANDARD
BEGIN:DAYLIGHT
TZOFFSETFROM:+0200
TZOFFSETTO:+0300
TZNAME:EEST
DTSTART:20250330T010000
END:DAYLIGHT
BEGIN:STANDARD
TZOFFSETFROM:+0300
TZOFFSETTO:+0200
TZNAME:EET
DTSTART:20251026T010000
END:STANDARD
END:VTIMEZONE
BEGIN:VEVENT
DTSTART;TZID=Europe/Helsinki:20240802T160000
DTEND;TZID=Europe/Helsinki:20240802T185500
DTSTAMP:20260424T021714
CREATED:20240106T132945Z
LAST-MODIFIED:20240106T132945Z
UID:3794-1722614400-1722624900@aviationinstitute.eu
SUMMARY:M11A Examination
DESCRIPTION:M11 – Aeroplane aerodynamics\, structures and systems
URL:https://aviationinstitute.eu/ro/calendar-evenimente/m11a-examination-10/
LOCATION:Romanian Aeronautical Association – Bucharest\, Biharia 44\, Bucharest\, Romania
CATEGORIES:EASA Part 66 Modules EXAMINATIONS - BUCHAREST
END:VEVENT
BEGIN:VEVENT
DTSTART;TZID=Europe/Helsinki:20240802T160000
DTEND;TZID=Europe/Helsinki:20240802T195500
DTSTAMP:20260424T021714
CREATED:20240106T133047Z
LAST-MODIFIED:20240710T205157Z
UID:3796-1722614400-1722628500@aviationinstitute.eu
SUMMARY:M13 Examination
DESCRIPTION:M13 – Aircraft aerodynamics\, structures and systems
URL:https://aviationinstitute.eu/ro/calendar-evenimente/m13-examination-13/
LOCATION:Romanian Aeronautical Association – Bucharest\, Biharia 44\, Bucharest\, Romania
CATEGORIES:EASA Part 66 Modules EXAMINATIONS - BUCHAREST
END:VEVENT
BEGIN:VEVENT
DTSTART;TZID=Europe/Helsinki:20240814T160000
DTEND;TZID=Europe/Helsinki:20240814T163500
DTSTAMP:20260424T021714
CREATED:20240106T132257Z
LAST-MODIFIED:20240717T104108Z
UID:3782-1723651200-1723653300@aviationinstitute.eu
SUMMARY:M9A Examination
DESCRIPTION:M9 – Human Factors
URL:https://aviationinstitute.eu/ro/calendar-evenimente/m9a-mcq-examination-10/
LOCATION:Romanian Aeronautical Association – Bucharest\, Biharia 44\, Bucharest\, Romania
CATEGORIES:EASA Part 66 Modules EXAMINATIONS - BUCHAREST
END:VEVENT
BEGIN:VEVENT
DTSTART;TZID=Europe/Helsinki:20240814T160000
DTEND;TZID=Europe/Helsinki:20240814T175500
DTSTAMP:20260424T021714
CREATED:20240717T104403Z
LAST-MODIFIED:20240717T104516Z
UID:5604-1723651200-1723658100@aviationinstitute.eu
SUMMARY:M15 Examination
DESCRIPTION:M15 – Gas turbine engine
URL:https://aviationinstitute.eu/ro/calendar-evenimente/m15-examination-17/
LOCATION:Romanian Aeronautical Association – Bucharest\, Biharia 44\, Bucharest\, Romania
CATEGORIES:EASA Part 66 Modules EXAMINATIONS - BUCHAREST
END:VEVENT
BEGIN:VEVENT
DTSTART;TZID=Europe/Helsinki:20240814T164500
DTEND;TZID=Europe/Helsinki:20240814T174000
DTSTAMP:20260424T021714
CREATED:20240106T132521Z
LAST-MODIFIED:20240717T104226Z
UID:3786-1723653900-1723657200@aviationinstitute.eu
SUMMARY:M10 Examination
DESCRIPTION:M10 – Aviation Legislation
URL:https://aviationinstitute.eu/ro/calendar-evenimente/m10-mcq-examination-21/
LOCATION:Romanian Aeronautical Association – Bucharest\, Biharia 44\, Bucharest\, Romania
CATEGORIES:EASA Part 66 Modules EXAMINATIONS - BUCHAREST
END:VEVENT
END:VCALENDAR