BEGIN:VCALENDAR
VERSION:2.0
PRODID:-//European Aviation Institute - ECPv6.15.18//NONSGML v1.0//EN
CALSCALE:GREGORIAN
METHOD:PUBLISH
X-WR-CALNAME:European Aviation Institute
X-ORIGINAL-URL:https://aviationinstitute.eu/ro
X-WR-CALDESC:Evenimente pentru European Aviation Institute
REFRESH-INTERVAL;VALUE=DURATION:PT1H
X-Robots-Tag:noindex
X-PUBLISHED-TTL:PT1H
BEGIN:VTIMEZONE
TZID:Europe/Helsinki
BEGIN:DAYLIGHT
TZOFFSETFROM:+0200
TZOFFSETTO:+0300
TZNAME:EEST
DTSTART:20230326T010000
END:DAYLIGHT
BEGIN:STANDARD
TZOFFSETFROM:+0300
TZOFFSETTO:+0200
TZNAME:EET
DTSTART:20231029T010000
END:STANDARD
BEGIN:DAYLIGHT
TZOFFSETFROM:+0200
TZOFFSETTO:+0300
TZNAME:EEST
DTSTART:20240331T010000
END:DAYLIGHT
BEGIN:STANDARD
TZOFFSETFROM:+0300
TZOFFSETTO:+0200
TZNAME:EET
DTSTART:20241027T010000
END:STANDARD
BEGIN:DAYLIGHT
TZOFFSETFROM:+0200
TZOFFSETTO:+0300
TZNAME:EEST
DTSTART:20250330T010000
END:DAYLIGHT
BEGIN:STANDARD
TZOFFSETFROM:+0300
TZOFFSETTO:+0200
TZNAME:EET
DTSTART:20251026T010000
END:STANDARD
END:VTIMEZONE
BEGIN:VEVENT
DTSTART;TZID=Europe/Helsinki:20240909T160000
DTEND;TZID=Europe/Helsinki:20240909T185500
DTSTAMP:20260423T133042
CREATED:20240108T124238Z
LAST-MODIFIED:20250113T104206Z
UID:3866-1725897600-1725908100@aviationinstitute.eu
SUMMARY:M11 Examination –*All modules in 1 Week
DESCRIPTION:M11 – Aeroplane aerodynamics\, structures and systems \n\n*All modules in 1 Week examination session is mainly tailored for foreign students. In order to organize it as scheduled\, a group of minimum 6 candidates is required.
URL:https://aviationinstitute.eu/ro/calendar-evenimente/m11a-examination-only-english-5/
LOCATION:Romanian Aeronautical Association – Bucharest\, Biharia 44\, Bucharest\, Romania
CATEGORIES:EASA Part 66 Modules EXAMINATIONS - BUCHAREST
END:VEVENT
BEGIN:VEVENT
DTSTART;TZID=Europe/Helsinki:20240909T160000
DTEND;TZID=Europe/Helsinki:20240909T195500
DTSTAMP:20260423T133042
CREATED:20240108T124347Z
LAST-MODIFIED:20240710T205446Z
UID:3868-1725897600-1725911700@aviationinstitute.eu
SUMMARY:M13 Examination – *All modules in 1 Week
DESCRIPTION:M13 – Aircraft aerodynamics\, structures and systems \n\n*All modules in 1 Week examination session is mainly tailored for foreign students. In order to organize it as scheduled\, a group of minimum 6 candidates is required.
URL:https://aviationinstitute.eu/ro/calendar-evenimente/m13-examination-only-english-4/
LOCATION:Romanian Aeronautical Association – Bucharest\, Biharia 44\, Bucharest\, Romania
CATEGORIES:EASA Part 66 Modules EXAMINATIONS - BUCHAREST
END:VEVENT
BEGIN:VEVENT
DTSTART;TZID=Europe/Helsinki:20240910T160000
DTEND;TZID=Europe/Helsinki:20240910T174000
DTSTAMP:20260423T133042
CREATED:20240108T124758Z
LAST-MODIFIED:20240710T212400Z
UID:3874-1725984000-1725990000@aviationinstitute.eu
SUMMARY:M6 Examination – *All modules in 1 Week
DESCRIPTION:M6 – Materials and hardware \n\n*All modules in 1 Week examination session is mainly tailored for foreign students. In order to organize it as scheduled\, a group of minimum 6 candidates is required.
URL:https://aviationinstitute.eu/ro/calendar-evenimente/m6-examination-only-english-6/
LOCATION:Romanian Aeronautical Association – Bucharest\, Biharia 44\, Bucharest\, Romania
CATEGORIES:EASA Part 66 Modules EXAMINATIONS - BUCHAREST
END:VEVENT
BEGIN:VEVENT
DTSTART;TZID=Europe/Helsinki:20240910T175000
DTEND;TZID=Europe/Helsinki:20240910T182000
DTSTAMP:20260423T133042
CREATED:20240108T124926Z
LAST-MODIFIED:20240710T212700Z
UID:3876-1725990600-1725992400@aviationinstitute.eu
SUMMARY:M8 Examination – *All modules in 1 Week
DESCRIPTION:M8 – Basic aerodynamics \n\n*All modules in 1 Week examination session is mainly tailored for foreign students. In order to organize it as scheduled\, a group of minimum 6 candidates is required.
URL:https://aviationinstitute.eu/ro/calendar-evenimente/m8-examination-only-english-7/
LOCATION:Romanian Aeronautical Association – Bucharest\, Biharia 44\, Bucharest\, Romania
CATEGORIES:EASA Part 66 Modules EXAMINATIONS - BUCHAREST
END:VEVENT
BEGIN:VEVENT
DTSTART;TZID=Europe/Helsinki:20240910T183000
DTEND;TZID=Europe/Helsinki:20240910T191000
DTSTAMP:20260423T133042
CREATED:20240108T124511Z
LAST-MODIFIED:20240710T213005Z
UID:3870-1725993000-1725995400@aviationinstitute.eu
SUMMARY:M1 Examination – *All modules in 1 Week
DESCRIPTION:M1 – Mathematics \n\n*All modules in 1 Week examination session is mainly tailored for foreign students. In order to organize it as scheduled\, a group of minimum 6 candidates is required.
URL:https://aviationinstitute.eu/ro/calendar-evenimente/m1-examination-only-english-8/
LOCATION:Romanian Aeronautical Association – Bucharest\, Biharia 44\, Bucharest\, Romania
CATEGORIES:EASA Part 66 Modules EXAMINATIONS - BUCHAREST
END:VEVENT
BEGIN:VEVENT
DTSTART;TZID=Europe/Helsinki:20240910T192000
DTEND;TZID=Europe/Helsinki:20240910T202500
DTSTAMP:20260423T133042
CREATED:20240108T124647Z
LAST-MODIFIED:20240710T213131Z
UID:3872-1725996000-1725999900@aviationinstitute.eu
SUMMARY:M2 Examination – *All modules in 1 Week
DESCRIPTION:M2 – Physics \n\n*All modules in 1 Week examination session is mainly tailored for foreign students. In order to organize it as scheduled\, a group of minimum 6 candidates is required.
URL:https://aviationinstitute.eu/ro/calendar-evenimente/m2-examination-only-english-8/
LOCATION:Romanian Aeronautical Association – Bucharest\, Biharia 44\, Bucharest\, Romania
CATEGORIES:EASA Part 66 Modules EXAMINATIONS - BUCHAREST
END:VEVENT
BEGIN:VEVENT
DTSTART;TZID=Europe/Helsinki:20240911T160000
DTEND;TZID=Europe/Helsinki:20240911T174000
DTSTAMP:20260423T133042
CREATED:20240108T125048Z
LAST-MODIFIED:20240710T211259Z
UID:3878-1726070400-1726076400@aviationinstitute.eu
SUMMARY:M7 MCQ Examination – *All modules in 1 Week
DESCRIPTION:M7 – Maintenance practices \n\n*All modules in 1 Week examination session is mainly tailored for foreign students. In order to organize it as scheduled\, a group of minimum 6 candidates is required.
URL:https://aviationinstitute.eu/ro/calendar-evenimente/m7-mcq-examination-only-english-8/
LOCATION:Romanian Aeronautical Association – Bucharest\, Biharia 44\, Bucharest\, Romania
CATEGORIES:EASA Part 66 Modules EXAMINATIONS - BUCHAREST
END:VEVENT
BEGIN:VEVENT
DTSTART;TZID=Europe/Helsinki:20240911T175000
DTEND;TZID=Europe/Helsinki:20240911T181000
DTSTAMP:20260423T133042
CREATED:20240108T125143Z
LAST-MODIFIED:20240710T211214Z
UID:3880-1726077000-1726078200@aviationinstitute.eu
SUMMARY:M7 Essay 1 Examination – *All modules in 1 Week
DESCRIPTION:M7 – Maintenance practices \n\n*All modules in 1 Week examination session is mainly tailored for foreign students. In order to organize it as scheduled\, a group of minimum 6 candidates is required.
URL:https://aviationinstitute.eu/ro/calendar-evenimente/m7-essay-1-examination-only-english-5/
LOCATION:Romanian Aeronautical Association – Bucharest\, Biharia 44\, Bucharest\, Romania
CATEGORIES:EASA Part 66 Modules EXAMINATIONS - BUCHAREST
END:VEVENT
BEGIN:VEVENT
DTSTART;TZID=Europe/Helsinki:20240911T182000
DTEND;TZID=Europe/Helsinki:20240911T184000
DTSTAMP:20260423T133042
CREATED:20240108T125315Z
LAST-MODIFIED:20240710T211128Z
UID:3882-1726078800-1726080000@aviationinstitute.eu
SUMMARY:M7 Essay 2 Examination – *All modules in 1 Week
DESCRIPTION:M7 – Maintenance practices \n\n*All modules in 1 Week examination session is mainly tailored for foreign students. In order to organize it as scheduled\, a group of minimum 6 candidates is required.
URL:https://aviationinstitute.eu/ro/calendar-evenimente/m7-essay-2-examination-only-english-5/
LOCATION:Romanian Aeronautical Association – Bucharest\, Biharia 44\, Bucharest\, Romania
CATEGORIES:EASA Part 66 Modules EXAMINATIONS - BUCHAREST
END:VEVENT
BEGIN:VEVENT
DTSTART;TZID=Europe/Helsinki:20240912T160000
DTEND;TZID=Europe/Helsinki:20240912T170500
DTSTAMP:20260423T133042
CREATED:20240108T125457Z
LAST-MODIFIED:20240710T211435Z
UID:3884-1726156800-1726160700@aviationinstitute.eu
SUMMARY:M3 Examination – *All modules in 1 Week
DESCRIPTION:M3 – Electrical fundamentals \n\n*All modules in 1 Week examination session is mainly tailored for foreign students. In order to organize it as scheduled\, a group of minimum 6 candidates is required.
URL:https://aviationinstitute.eu/ro/calendar-evenimente/m3-examination-only-english-8/
LOCATION:Romanian Aeronautical Association – Bucharest\, Biharia 44\, Bucharest\, Romania
CATEGORIES:EASA Part 66 Modules EXAMINATIONS - BUCHAREST
END:VEVENT
BEGIN:VEVENT
DTSTART;TZID=Europe/Helsinki:20240912T171500
DTEND;TZID=Europe/Helsinki:20240912T180500
DTSTAMP:20260423T133042
CREATED:20240108T125631Z
LAST-MODIFIED:20240710T211518Z
UID:3886-1726161300-1726164300@aviationinstitute.eu
SUMMARY:M4 Examination – *All modules in 1 Week
DESCRIPTION:M4 – Electronic fundamentals \n\n*All modules in 1 Week examination session is mainly tailored for foreign students. In order to organize it as scheduled\, a group of minimum 6 candidates is required.
URL:https://aviationinstitute.eu/ro/calendar-evenimente/m4-examination-only-english-8/
LOCATION:Romanian Aeronautical Association – Bucharest\, Biharia 44\, Bucharest\, Romania
CATEGORIES:EASA Part 66 Modules EXAMINATIONS - BUCHAREST
END:VEVENT
BEGIN:VEVENT
DTSTART;TZID=Europe/Helsinki:20240912T181500
DTEND;TZID=Europe/Helsinki:20240912T194500
DTSTAMP:20260423T133042
CREATED:20240108T125803Z
LAST-MODIFIED:20240710T211600Z
UID:3888-1726164900-1726170300@aviationinstitute.eu
SUMMARY:M5 Examination – *All modules in 1 Week
DESCRIPTION:M5 – Digital techniques/ Electronic instrument systems \n\n*All modules in 1 Week examination session is mainly tailored for foreign students. In order to organize it as scheduled\, a group of minimum 6 candidates is required.
URL:https://aviationinstitute.eu/ro/calendar-evenimente/m5-examination-only-english-8/
LOCATION:Romanian Aeronautical Association – Bucharest\, Biharia 44\, Bucharest\, Romania
CATEGORIES:EASA Part 66 Modules EXAMINATIONS - BUCHAREST
END:VEVENT
BEGIN:VEVENT
DTSTART;TZID=Europe/Helsinki:20240913T160000
DTEND;TZID=Europe/Helsinki:20240913T175500
DTSTAMP:20260423T133042
CREATED:20240108T130759Z
LAST-MODIFIED:20240710T211729Z
UID:3902-1726243200-1726250100@aviationinstitute.eu
SUMMARY:M15 Examination – *All modules in 1 Week
DESCRIPTION:M15 – Gas turbine engine \n\n*All modules in 1 Week examination session is mainly tailored for foreign students. In order to organize it as scheduled\, a group of minimum 6 candidates is required.
URL:https://aviationinstitute.eu/ro/calendar-evenimente/m15-examination-only-english-7/
LOCATION:Romanian Aeronautical Association – Bucharest\, Biharia 44\, Bucharest\, Romania
CATEGORIES:EASA Part 66 Modules EXAMINATIONS - BUCHAREST
END:VEVENT
BEGIN:VEVENT
DTSTART;TZID=Europe/Helsinki:20240913T180500
DTEND;TZID=Europe/Helsinki:20240913T194000
DTSTAMP:20260423T133042
CREATED:20240108T130947Z
LAST-MODIFIED:20240710T211817Z
UID:3904-1726250700-1726256400@aviationinstitute.eu
SUMMARY:M16 Examination – *All modules in 1 Week
DESCRIPTION:M16 – Piston engine \n\n*All modules in 1 Week examination session is mainly tailored for foreign students. In order to organize it as scheduled\, a group of minimum 6 candidates is required.
URL:https://aviationinstitute.eu/ro/calendar-evenimente/m16-examination-only-english-4/
LOCATION:Romanian Aeronautical Association – Bucharest\, Biharia 44\, Bucharest\, Romania
CATEGORIES:EASA Part 66 Modules EXAMINATIONS - BUCHAREST
END:VEVENT
BEGIN:VEVENT
DTSTART;TZID=Europe/Helsinki:20240916T160000
DTEND;TZID=Europe/Helsinki:20240916T163500
DTSTAMP:20260423T133042
CREATED:20240108T125919Z
LAST-MODIFIED:20250113T103435Z
UID:3890-1726502400-1726504500@aviationinstitute.eu
SUMMARY:M9 Examination – *All modules in 1 week
DESCRIPTION:M9 – Human Factors \n*All modules in 1 Week” examination session is mainly tailored for foreign students. In order to organize it as scheduled\, a group of minimum 6 candidates is required.
URL:https://aviationinstitute.eu/ro/calendar-evenimente/m9a-mcq-examination-only-english-5/
LOCATION:Romanian Aeronautical Association – Bucharest\, Biharia 44\, Bucharest\, Romania
CATEGORIES:EASA Part 66 Modules EXAMINATIONS - BUCHAREST
END:VEVENT
BEGIN:VEVENT
DTSTART;TZID=Europe/Helsinki:20240916T164500
DTEND;TZID=Europe/Helsinki:20240916T174000
DTSTAMP:20260423T133042
CREATED:20240108T130145Z
LAST-MODIFIED:20240710T210559Z
UID:3894-1726505100-1726508400@aviationinstitute.eu
SUMMARY:M10 Examination – *All modules in 1 Week
DESCRIPTION:M10 – Aviation Legislation \n\n*All modules in 1 Week examination session is mainly tailored for foreign students. In order to organize it as scheduled\, a group of minimum 6 candidates is required.
URL:https://aviationinstitute.eu/ro/calendar-evenimente/m10-mcq-examination-only-english-8/
LOCATION:Romanian Aeronautical Association – Bucharest\, Biharia 44\, Bucharest\, Romania
CATEGORIES:EASA Part 66 Modules EXAMINATIONS - BUCHAREST
END:VEVENT
BEGIN:VEVENT
DTSTART;TZID=Europe/Helsinki:20240917T160000
DTEND;TZID=Europe/Helsinki:20240917T164000
DTSTAMP:20260423T133042
CREATED:20240108T130407Z
LAST-MODIFIED:20240710T211948Z
UID:3898-1726588800-1726591200@aviationinstitute.eu
SUMMARY:M14 Examination – *All modules in 1 Week
DESCRIPTION:M14 – Propulsion \n\n*All modules in 1 Week examination session is mainly tailored for foreign students. In order to organize it as scheduled\, a group of minimum 6 candidates is required.
URL:https://aviationinstitute.eu/ro/calendar-evenimente/m14-examination-only-english-6/
LOCATION:Romanian Aeronautical Association – Bucharest\, Biharia 44\, Bucharest\, Romania
CATEGORIES:EASA Part 66 Modules EXAMINATIONS - BUCHAREST
END:VEVENT
BEGIN:VEVENT
DTSTART;TZID=Europe/Helsinki:20240917T160000
DTEND;TZID=Europe/Helsinki:20240917T164000
DTSTAMP:20260423T133042
CREATED:20240108T130514Z
LAST-MODIFIED:20240710T212051Z
UID:3900-1726588800-1726591200@aviationinstitute.eu
SUMMARY:M17 Examination – *All modules in 1 Week
DESCRIPTION:M17 – Propeller \n\n*All modules in 1 Week examination session is mainly tailored for foreign students. In order to organize it as scheduled\, a group of minimum 6 candidates is required.
URL:https://aviationinstitute.eu/ro/calendar-evenimente/m17-examination-only-english-6/
LOCATION:Romanian Aeronautical Association – Bucharest\, Biharia 44\, Bucharest\, Romania
CATEGORIES:EASA Part 66 Modules EXAMINATIONS - BUCHAREST
END:VEVENT
END:VCALENDAR